Workbook

Sheet PM Scheduling
B2: Preventive Maintenance Tracker | H2: January | O2: 2026 | S2: From | Y2: =I4 -> 46023 | AE2: TO | AG2: =Y2+364 -> 46387
B4: Dates & Days | I4: =DATEVALUE("1"&H2&O2) -> 46023 | J4: =IF($I4<EOMONTH($I$4,0),I4+1,"") -> 46024 | K4: =IF($I4<EOMONTH($I$4,0),J4+1,"") -> 46025 | L4: =IF($I4<EOMONTH($I$4,0),K4+1,"") -> 46026 | M4: =IF($I4<EOMONTH($I$4,0),L4+1,"") -> 46027 | N4: =IF($I4<EOMONTH($I$4,0),M4+1,"") -> 46028 | O4: =IF($I4<EOMONTH($I$4,0),N4+1,"") -> 46029 | P4: =IF($I4<EOMONTH($I$4,0),O4+1,"") -> 46030 | Q4: =IF($I4<EOMONTH($I$4,0),P4+1,"") -> 46031 | ... NJ4: =IF($I4<EOMONTH($I$4,0),NI4+1,"") -> 46388
B5: Equpiments & Task discription | I5: =TEXT(I4,"ddd") -> Thu | J5: =TEXT(J4,"ddd") -> Fri | K5: =TEXT(K4,"ddd") -> Sat | L5: =TEXT(L4,"ddd") -> Sun | M5: =TEXT(M4,"ddd") -> Mon | N5: =TEXT(N4,"ddd") -> Tue | O5: =TEXT(O4,"ddd") -> Wed | P5: =TEXT(P4,"ddd") -> Thu | ... NJ5: =TEXT(NJ4,"ddd") -> Fri
B6: SI. No | C6: Equpiment ID | D6: Equipments | E6: Task Discription | F6: Location | G6: Frequancy | H6: Start Date | I6: 1 | J6: 2 | K6: 3 | L6: 4 | M6: 5 | N6: 6 | O6: 7 | P6: 8 | Q6: 9 | R6: 10 | S6: 11 | T6: 12 | U6: 13 | V6: 14 | W6: 15 | X6: 16 | Y6: 17 | Z6: 18 | AA6: 19 | AB6: 20 | AC6: 21 | AD6: 22 | AE6: 23 | AF6: 24 | AG6: 25 | AH6: 26 | AI6: 27 | AJ6: 28 | AK6: 29 | AL6: 30 | AM6: 31 | AN6: 32 | AO6: 33 | AP6: 34 | AQ6: 35 | AR6: 36 | AS6: 37 | AT6: 38 | AU6: 39 | AV6: 40 | AW6: 41 | AX6: 42 | AY6: 43 | AZ6: 44 | BA6: 45 | BB6: 46 | BC6: 47 | BD6: 48 | BE6: 49 | BF6: 50 | BG6: 51 | BH6: 52 | BI6: 53 | BJ6: 54 | BK6: 55 | BL6: 56 | BM6: 57 | BN6: 58 | BO6: 59 | BP6: 60 | BQ6: 61 | BR6: 62 | BS6: 63 | BT6: 64 | BU6: 65 | BV6: 66 | BW6: 67 | BX6: 68 | BY6: 69 | BZ6: 70 | CA6: 71 | CB6: 72 | CC6: 73 | CD6: 74 | CE6: 75 | CF6: 76 | CG6: 77 | CH6: 78 | CI6: 79 | CJ6: 80 | CK6: 81 | CL6: 82 | CM6: 83 | CN6: 84 | CO6: 85 | CP6: 86 | CQ6: 87 | CR6: 88 | CS6: 89 | CT6: 90 | CU6: 91 | CV6: 92 | CW6: 93 | CX6: 94 | CY6: 95 | CZ6: 96 | DA6: 97 | DB6: 98 | DC6: 99 | DD6: 100 | DE6: 101 | DF6: 102 | DG6: 103 | DH6: 104 | DI6: 105 | DJ6: 106 | DK6: 107 | DL6: 108 | DM6: 109 | DN6: 110 | DO6: 111 | DP6: 112 | DQ6: 113 | DR6: 114 | DS6: 115 | DT6: 116 | DU6: 117 | DV6: 118 | DW6: 119 | DX6: 120 | DY6: 121 | DZ6: 122 | EA6: 123 | EB6: 124 | EC6: 125 | ED6: 126 | EE6: 127 | EF6: 128 | EG6: 129 | EH6: 130 | EI6: 131 | EJ6: 132 | EK6: 133 | EL6: 134 | EM6: 135 | EN6: 136 | EO6: 137 | EP6: 138 | EQ6: 139 | ER6: 140 | ES6: 141 | ET6: 142 | EU6: 143 | EV6: 144 | EW6: 145 | EX6: 146 | EY6: 147 | EZ6: 148 | FA6: 149 | FB6: 150 | FC6: 151 | FD6: 152 | FE6: 153 | FF6: 154 | FG6: 155 | FH6: 156 | FI6: 157 | FJ6: 158 | FK6: 159 | FL6: 160 | FM6: 161 | FN6: 162 | FO6: 163 | FP6: 164 | FQ6: 165 | FR6: 166 | FS6: 167 | FT6: 168 | FU6: 169 | FV6: 170 | FW6: 171 | FX6: 172 | FY6: 173 | FZ6: 174 | GA6: 175 | GB6: 176 | GC6: 177 | GD6: 178 | GE6: 179 | GF6: 180 | GG6: 181 | GH6: 182 | GI6: 183 | GJ6: 184 | GK6: 185 | GL6: 186 | GM6: 187 | GN6: 188 | GO6: 189 | GP6: 190 | GQ6: 191 | GR6: 192 | GS6: 193 | GT6: 194 | GU6: 195 | GV6: 196 | GW6: 197 | GX6: 198 | GY6: 199 | GZ6: 200 | HA6: 201 | HB6: 202 | HC6: 203 | HD6: 204 | HE6: 205 | HF6: 206 | HG6: 207 | HH6: 208 | HI6: 209 | HJ6: 210 | HK6: 211 | HL6: 212 | HM6: 213 | HN6: 214 | HO6: 215 | HP6: 216 | HQ6: 217 | HR6: 218 | HS6: 219 | HT6: 220 | HU6: 221 | HV6: 222 | HW6: 223 | HX6: 224 | HY6: 225 | HZ6: 226 | IA6: 227 | IB6: 228 | IC6: 229 | ID6: 230 | IE6: 231 | IF6: 232 | IG6: 233 | IH6: 234 | II6: 235 | IJ6: 236 | IK6: 237 | IL6: 238 | IM6: 239 | IN6: 240 | IO6: 241 | IP6: 242 | IQ6: 243 | IR6: 244 | IS6: 245 | IT6: 246 | IU6: 247 | IV6: 248 | IW6: 249 | IX6: 250 | IY6: 251 | IZ6: 252 | JA6: 253 | JB6: 254 | JC6: 255 | JD6: 256 | JE6: 257 | JF6: 258 | JG6: 259 | JH6: 260 | JI6: 261 | JJ6: 262 | JK6: 263 | JL6: 264 | JM6: 265 | JN6: 266 | JO6: 267 | JP6: 268 | JQ6: 269 | JR6: 270 | JS6: 271 | JT6: 272 | JU6: 273 | JV6: 274 | JW6: 275 | JX6: 276 | JY6: 277 | JZ6: 278 | KA6: 279 | KB6: 280 | KC6: 281 | KD6: 282 | KE6: 283 | KF6: 284 | KG6: 285 | KH6: 286 | KI6: 287 | KJ6: 288 | KK6: 289 | KL6: 290 | KM6: 291 | KN6: 292 | KO6: 293 | KP6: 294 | KQ6: 295 | KR6: 296 | KS6: 297 | KT6: 298 | KU6: 299 | KV6: 300 | KW6: 301 | KX6: 302 | KY6: 303 | KZ6: 304 | LA6: 305 | LB6: 306 | LC6: 307 | LD6: 308 | LE6: 309 | LF6: 310 | LG6: 311 | LH6: 312 | LI6: 313 | LJ6: 314 | LK6: 315 | LL6: 316 | LM6: 317 | LN6: 318 | LO6: 319 | LP6: 320 | LQ6: 321 | LR6: 322 | LS6: 323 | LT6: 324 | LU6: 325 | LV6: 326 | LW6: 327 | LX6: 328 | LY6: 329 | LZ6: 330 | MA6: 331 | MB6: 332 | MC6: 333 | MD6: 334 | ME6: 335 | MF6: 336 | MG6: 337 | MH6: 338 | MI6: 339 | MJ6: 340 | MK6: 341 | ML6: 342 | MM6: 343 | MN6: 344 | MO6: 345 | MP6: 346 | MQ6: 347 | MR6: 348 | MS6: 349 | MT6: 350 | MU6: 351 | MV6: 352 | MW6: 353 | MX6: 354 | MY6: 355 | MZ6: 356 | NA6: 357 | NB6: 358 | NC6: 359 | ND6: 360 | NE6: 361 | NF6: 362 | NG6: 363 | NH6: 364 | NI6: 365 | NJ6: 366
B7: 1 | C7: EQ 001 | D7: Equipment 1 | E7: Part 1 | F7: Zone 1 | G7: Daily | H7: 46023 | I7: =IFERROR(IF(OR($H7="",$G7=""),"",IF($G7="Daily",IF(I$4>=$H7,"X",""),IF($G7="Weekly",IF(MOD(I$4-$H7,7)=0,"X",""),IF($G7="fortnightly",IF(MOD(I$4-$H7,14)=0,"X",""),IF($G7="Monthly",IF(DAY(I$4)=DAY($H7),"X",""),IF($G7="Two Monthly",IF(AND(DAY(I$4)=DAY($H7),MOD(MONTH(I$4)-MONTH($H7),2)=0),"X",""),IF($G7="Quarterly",IF(AND(DAY(I$4)=DAY($H7),MOD(MONTH(I$4)-MONTH($H7),3)=0),"X",""),IF($G7="Four Monthly",IF(AND(DAY(I$4)=DAY($H7),MOD(MONTH(I$4)-MONTH($H7),4)=0),"X",""),IF($G7="Half Yearly",IF(AND(DAY(I$4)=DAY($H7),MOD(MONTH(I$4)-MONTH($H7),6)=0),"X",""),IF($G7="Yearly",IF(AND(DAY(I$4)=DAY($H7),MONTH(I$4)=MONTH($H7)),"X",""),"")))))))))),"") -> X | J7: =IFERROR(IF(OR($H7="",$G7=""),"",IF($G7="Daily",IF(J$4>=$H7,"X",""),IF($G7="Weekly",IF(MOD(J$4-$H7,7)=0,"X",""),IF($G7="fortnightly",IF(MOD(J$4-$H7,14)=0,"X",""),IF($G7="Monthly",IF(DAY(J$4)=DAY($H7),"X",""),IF($G7="Two Monthly",IF(AND(DAY(J$4)=DAY($H7),MOD(MONTH(J$4)-MONTH($H7),2)=0),"X",""),IF($G7="Quarterly",IF(AND(DAY(J$4)=DAY($H7),MOD(MONTH(J$4)-MONTH($H7),3)=0),"X",""),IF($G7="Four Monthly",IF(AND(DAY(J$4)=DAY($H7),MOD(MONTH(J$4)-MONTH($H7),4)=0),"X",""),IF($G7="Half Yearly",IF(AND(DAY(J$4)=DAY($H7),MOD(MONTH(J$4)-MONTH($H7),6)=0),"X",""),IF($G7="Yearly",IF(AND(DAY(J$4)=DAY($H7),MONTH(J$4)=MONTH($H7)),"X",""),"")))))))))),"") -> X | K7: =IFERROR(IF(OR($H7="",$G7=""),"",IF($G7="Daily",IF(K$4>=$H7,"X",""),IF($G7="Weekly",IF(MOD(K$4-$H7,7)=0,"X",""),IF($G7="fortnightly",IF(MOD(K$4-$H7,14)=0,"X",""),IF($G7="Monthly",IF(DAY(K$4)=DAY($H7),"X",""),IF($G7="Two Monthly",IF(AND(DAY(K$4)=DAY($H7),MOD(MONTH(K$4)-MONTH($H7),2)=0),"X",""),IF($G7="Quarterly",IF(AND(DAY(K$4)=DAY($H7),MOD(MONTH(K$4)-MONTH($H7),3)=0),"X",""),IF($G7="Four Monthly",IF(AND(DAY(K$4)=DAY($H7),MOD(MONTH(K$4)-MONTH($H7),4)=0),"X",""),IF($G7="Half Yearly",IF(AND(DAY(K$4)=DAY($H7),MOD(MONTH(K$4)-MONTH($H7),6)=0),"X",""),IF($G7="Yearly",IF(AND(DAY(K$4)=DAY($H7),MONTH(K$4)=MONTH($H7)),"X",""),"")))))))))),"") -> X | L7: =IFERROR(IF(OR($H7="",$G7=""),"",IF($G7="Daily",IF(L$4>=$H7,"X",""),IF($G7="Weekly",IF(MOD(L$4-$H7,7)=0,"X",""),IF($G7="fortnightly",IF(MOD(L$4-$H7,14)=0,"X",""),IF($G7="Monthly",IF(DAY(L$4)=DAY($H7),"X",""),IF($G7="Two Monthly",IF(AND(DAY(L$4)=DAY($H7),MOD(MONTH(L$4)-MONTH($H7),2)=0),"X",""),IF($G7="Quarterly",IF(AND(DAY(L$4)=DAY($H7),MOD(MONTH(L$4)-MONTH($H7),3)=0),"X",""),IF($G7="Four Monthly",IF(AND(DAY(L$4)=DAY($H7),MOD(MONTH(L$4)-MONTH($H7),4)=0),"X",""),IF($G7="Half Yearly",IF(AND(DAY(L$4)=DAY($H7),MOD(MONTH(L$4)-MONTH($H7),6)=0),"X",""),IF($G7="Yearly",IF(AND(DAY(L$4)=DAY($H7),MONTH(L$4)=MONTH($H7)),"X",""),"")))))))))),"") -> X | M7: =IFERROR(IF(OR($H7="",$G7=""),"",IF($G7="Daily",IF(M$4>=$H7,"X",""),IF($G7="Weekly",IF(MOD(M$4-$H7,7)=0,"X",""),IF($G7="fortnightly",IF(MOD(M$4-$H7,14)=0,"X",""),IF($G7="Monthly",IF(DAY(M$4)=DAY($H7),"X",""),IF($G7="Two Monthly",IF(AND(DAY(M$4)=DAY($H7),MOD(MONTH(M$4)-MONTH($H7),2)=0),"X",""),IF($G7="Quarterly",IF(AND(DAY(M$4)=DAY($H7),MOD(MONTH(M$4)-MONTH($H7),3)=0),"X",""),IF($G7="Four Monthly",IF(AND(DAY(M$4)=DAY($H7),MOD(MONTH(M$4)-MONTH($H7),4)=0),"X",""),IF($G7="Half Yearly",IF(AND(DAY(M$4)=DAY($H7),MOD(MONTH(M$4)-MONTH($H7),6)=0),"X",""),IF($G7="Yearly",IF(AND(DAY(M$4)=DAY($H7),MONTH(M$4)=MONTH($H7)),"X",""),"")))))))))),"") -> X | N7: =IFERROR(IF(OR($H7="",$G7=""),"",IF($G7="Daily",IF(N$4>=$H7,"X",""),IF($G7="Weekly",IF(MOD(N$4-$H7,7)=0,"X",""),IF($G7="fortnightly",IF(MOD(N$4-$H7,14)=0,"X",""),IF($G7="Monthly",IF(DAY(N$4)=DAY($H7),"X",""),IF($G7="Two Monthly",IF(AND(DAY(N$4)=DAY($H7),MOD(MONTH(N$4)-MONTH($H7),2)=0),"X",""),IF($G7="Quarterly",IF(AND(DAY(N$4)=DAY($H7),MOD(MONTH(N$4)-MONTH($H7),3)=0),"X",""),IF($G7="Four Monthly",IF(AND(DAY(N$4)=DAY($H7),MOD(MONTH(N$4)-MONTH($H7),4)=0),"X",""),IF($G7="Half Yearly",IF(AND(DAY(N$4)=DAY($H7),MOD(MONTH(N$4)-MONTH($H7),6)=0),"X",""),IF($G7="Yearly",IF(AND(DAY(N$4)=DAY($H7),MONTH(N$4)=MONTH($H7)),"X",""),"")))))))))),"") -> X | O7: =IFERROR(IF(OR($H7="",$G7=""),"",IF($G7="Daily",IF(O$4>=$H7,"X",""),IF($G7="Weekly",IF(MOD(O$4-$H7,7)=0,"X",""),IF($G7="fortnightly",IF(MOD(O$4-$H7,14)=0,"X",""),IF($G7="Monthly",IF(DAY(O$4)=DAY($H7),"X",""),IF($G7="Two Monthly",IF(AND(DAY(O$4)=DAY($H7),MOD(MONTH(O$4)-MONTH($H7),2)=0),"X",""),IF($G7="Quarterly",IF(AND(DAY(O$4)=DAY($H7),MOD(MONTH(O$4)-MONTH($H7),3)=0),"X",""),IF($G7="Four Monthly",IF(AND(DAY(O$4)=DAY($H7),MOD(MONTH(O$4)-MONTH($H7),4)=0),"X",""),IF($G7="Half Yearly",IF(AND(DAY(O$4)=DAY($H7),MOD(MONTH(O$4)-MONTH($H7),6)=0),"X",""),IF($G7="Yearly",IF(AND(DAY(O$4)=DAY($H7),MONTH(O$4)=MONTH($H7)),"X",""),"")))))))))),"") -> X | P7: =IFERROR(IF(OR($H7="",$G7=""),"",IF($G7="Daily",IF(P$4>=$H7,"X",""),IF($G7="Weekly",IF(MOD(P$4-$H7,7)=0,"X",""),IF($G7="fortnightly",IF(MOD(P$4-$H7,14)=0,"X",""),IF($G7="Monthly",IF(DAY(P$4)=DAY($H7),"X",""),IF($G7="Two Monthly",IF(AND(DAY(P$4)=DAY($H7),MOD(MONTH(P$4)-MONTH($H7),2)=0),"X",""),IF($G7="Quarterly",IF(AND(DAY(P$4)=DAY($H7),MOD(MONTH(P$4)-MONTH($H7),3)=0),"X",""),IF($G7="Four Monthly",IF(AND(DAY(P$4)=DAY($H7),MOD(MONTH(P$4)-MONTH($H7),4)=0),"X",""),IF($G7="Half Yearly",IF(AND(DAY(P$4)=DAY($H7),MOD(MONTH(P$4)-MONTH($H7),6)=0),"X",""),IF($G7="Yearly",IF(AND(DAY(P$4)=DAY($H7),MONTH(P$4)=MONTH($H7)),"X",""),"")))))))))),"") -> X | ... NJ7: =IFERROR(IF(OR($H7="",$G7=""),"",IF($G7="Daily",IF(NJ$4>=$H7,"X",""),IF($G7="Weekly",IF(MOD(NJ$4-$H7,7)=0,"X",""),IF($G7="fortnightly",IF(MOD(NJ$4-$H7,14)=0,"X",""),IF($G7="Monthly",IF(DAY(NJ$4)=DAY($H7),"X",""),IF($G7="Two Monthly",IF(AND(DAY(NJ$4)=DAY($H7),MOD(MONTH(NJ$4)-MONTH($H7),2)=0),"X",""),IF($G7="Quarterly",IF(AND(DAY(NJ$4)=DAY($H7),MOD(MONTH(NJ$4)-MONTH($H7),3)=0),"X",""),IF($G7="Four Monthly",IF(AND(DAY(NJ$4)=DAY($H7),MOD(MONTH(NJ$4)-MONTH($H7),4)=0),"X",""),IF($G7="Half Yearly",IF(AND(DAY(NJ$4)=DAY($H7),MOD(MONTH(NJ$4)-MONTH($H7),6)=0),"X",""),IF($G7="Yearly",IF(AND(DAY(NJ$4)=DAY($H7),MONTH(NJ$4)=MONTH($H7)),"X",""),"")))))))))),"") -> X
B8: 2 | C8: EQ 002 | D8: Equipment 2 | E8: Part 2 | F8: Zone 2 | G8: Weekly | H8: 46024 | I8: =IFERROR(IF(OR($H8="",$G8=""),"",IF($G8="Daily",IF(I$4>=$H8,"X",""),IF($G8="Weekly",IF(MOD(I$4-$H8,7)=0,"X",""),IF($G8="fortnightly",IF(MOD(I$4-$H8,14)=0,"X",""),IF($G8="Monthly",IF(DAY(I$4)=DAY($H8),"X",""),IF($G8="Two Monthly",IF(AND(DAY(I$4)=DAY($H8),MOD(MONTH(I$4)-MONTH($H8),2)=0),"X",""),IF($G8="Quarterly",IF(AND(DAY(I$4)=DAY($H8),MOD(MONTH(I$4)-MONTH($H8),3)=0),"X",""),IF($G8="Four Monthly",IF(AND(DAY(I$4)=DAY($H8),MOD(MONTH(I$4)-MONTH($H8),4)=0),"X",""),IF($G8="Half Yearly",IF(AND(DAY(I$4)=DAY($H8),MOD(MONTH(I$4)-MONTH($H8),6)=0),"X",""),IF($G8="Yearly",IF(AND(DAY(I$4)=DAY($H8),MONTH(I$4)=MONTH($H8)),"X",""),"")))))))))),"") | J8: =IFERROR(IF(OR($H8="",$G8=""),"",IF($G8="Daily",IF(J$4>=$H8,"X",""),IF($G8="Weekly",IF(MOD(J$4-$H8,7)=0,"X",""),IF($G8="fortnightly",IF(MOD(J$4-$H8,14)=0,"X",""),IF($G8="Monthly",IF(DAY(J$4)=DAY($H8),"X",""),IF($G8="Two Monthly",IF(AND(DAY(J$4)=DAY($H8),MOD(MONTH(J$4)-MONTH($H8),2)=0),"X",""),IF($G8="Quarterly",IF(AND(DAY(J$4)=DAY($H8),MOD(MONTH(J$4)-MONTH($H8),3)=0),"X",""),IF($G8="Four Monthly",IF(AND(DAY(J$4)=DAY($H8),MOD(MONTH(J$4)-MONTH($H8),4)=0),"X",""),IF($G8="Half Yearly",IF(AND(DAY(J$4)=DAY($H8),MOD(MONTH(J$4)-MONTH($H8),6)=0),"X",""),IF($G8="Yearly",IF(AND(DAY(J$4)=DAY($H8),MONTH(J$4)=MONTH($H8)),"X",""),"")))))))))),"") -> X | K8: =IFERROR(IF(OR($H8="",$G8=""),"",IF($G8="Daily",IF(K$4>=$H8,"X",""),IF($G8="Weekly",IF(MOD(K$4-$H8,7)=0,"X",""),IF($G8="fortnightly",IF(MOD(K$4-$H8,14)=0,"X",""),IF($G8="Monthly",IF(DAY(K$4)=DAY($H8),"X",""),IF($G8="Two Monthly",IF(AND(DAY(K$4)=DAY($H8),MOD(MONTH(K$4)-MONTH($H8),2)=0),"X",""),IF($G8="Quarterly",IF(AND(DAY(K$4)=DAY($H8),MOD(MONTH(K$4)-MONTH($H8),3)=0),"X",""),IF($G8="Four Monthly",IF(AND(DAY(K$4)=DAY($H8),MOD(MONTH(K$4)-MONTH($H8),4)=0),"X",""),IF($G8="Half Yearly",IF(AND(DAY(K$4)=DAY($H8),MOD(MONTH(K$4)-MONTH($H8),6)=0),"X",""),IF($G8="Yearly",IF(AND(DAY(K$4)=DAY($H8),MONTH(K$4)=MONTH($H8)),"X",""),"")))))))))),"") | L8: =IFERROR(IF(OR($H8="",$G8=""),"",IF($G8="Daily",IF(L$4>=$H8,"X",""),IF($G8="Weekly",IF(MOD(L$4-$H8,7)=0,"X",""),IF($G8="fortnightly",IF(MOD(L$4-$H8,14)=0,"X",""),IF($G8="Monthly",IF(DAY(L$4)=DAY($H8),"X",""),IF($G8="Two Monthly",IF(AND(DAY(L$4)=DAY($H8),MOD(MONTH(L$4)-MONTH($H8),2)=0),"X",""),IF($G8="Quarterly",IF(AND(DAY(L$4)=DAY($H8),MOD(MONTH(L$4)-MONTH($H8),3)=0),"X",""),IF($G8="Four Monthly",IF(AND(DAY(L$4)=DAY($H8),MOD(MONTH(L$4)-MONTH($H8),4)=0),"X",""),IF($G8="Half Yearly",IF(AND(DAY(L$4)=DAY($H8),MOD(MONTH(L$4)-MONTH($H8),6)=0),"X",""),IF($G8="Yearly",IF(AND(DAY(L$4)=DAY($H8),MONTH(L$4)=MONTH($H8)),"X",""),"")))))))))),"") | M8: =IFERROR(IF(OR($H8="",$G8=""),"",IF($G8="Daily",IF(M$4>=$H8,"X",""),IF($G8="Weekly",IF(MOD(M$4-$H8,7)=0,"X",""),IF($G8="fortnightly",IF(MOD(M$4-$H8,14)=0,"X",""),IF($G8="Monthly",IF(DAY(M$4)=DAY($H8),"X",""),IF($G8="Two Monthly",IF(AND(DAY(M$4)=DAY($H8),MOD(MONTH(M$4)-MONTH($H8),2)=0),"X",""),IF($G8="Quarterly",IF(AND(DAY(M$4)=DAY($H8),MOD(MONTH(M$4)-MONTH($H8),3)=0),"X",""),IF($G8="Four Monthly",IF(AND(DAY(M$4)=DAY($H8),MOD(MONTH(M$4)-MONTH($H8),4)=0),"X",""),IF($G8="Half Yearly",IF(AND(DAY(M$4)=DAY($H8),MOD(MONTH(M$4)-MONTH($H8),6)=0),"X",""),IF($G8="Yearly",IF(AND(DAY(M$4)=DAY($H8),MONTH(M$4)=MONTH($H8)),"X",""),"")))))))))),"") | N8: =IFERROR(IF(OR($H8="",$G8=""),"",IF($G8="Daily",IF(N$4>=$H8,"X",""),IF($G8="Weekly",IF(MOD(N$4-$H8,7)=0,"X",""),IF($G8="fortnightly",IF(MOD(N$4-$H8,14)=0,"X",""),IF($G8="Monthly",IF(DAY(N$4)=DAY($H8),"X",""),IF($G8="Two Monthly",IF(AND(DAY(N$4)=DAY($H8),MOD(MONTH(N$4)-MONTH($H8),2)=0),"X",""),IF($G8="Quarterly",IF(AND(DAY(N$4)=DAY($H8),MOD(MONTH(N$4)-MONTH($H8),3)=0),"X",""),IF($G8="Four Monthly",IF(AND(DAY(N$4)=DAY($H8),MOD(MONTH(N$4)-MONTH($H8),4)=0),"X",""),IF($G8="Half Yearly",IF(AND(DAY(N$4)=DAY($H8),MOD(MONTH(N$4)-MONTH($H8),6)=0),"X",""),IF($G8="Yearly",IF(AND(DAY(N$4)=DAY($H8),MONTH(N$4)=MONTH($H8)),"X",""),"")))))))))),"") | O8: =IFERROR(IF(OR($H8="",$G8=""),"",IF($G8="Daily",IF(O$4>=$H8,"X",""),IF($G8="Weekly",IF(MOD(O$4-$H8,7)=0,"X",""),IF($G8="fortnightly",IF(MOD(O$4-$H8,14)=0,"X",""),IF($G8="Monthly",IF(DAY(O$4)=DAY($H8),"X",""),IF($G8="Two Monthly",IF(AND(DAY(O$4)=DAY($H8),MOD(MONTH(O$4)-MONTH($H8),2)=0),"X",""),IF($G8="Quarterly",IF(AND(DAY(O$4)=DAY($H8),MOD(MONTH(O$4)-MONTH($H8),3)=0),"X",""),IF($G8="Four Monthly",IF(AND(DAY(O$4)=DAY($H8),MOD(MONTH(O$4)-MONTH($H8),4)=0),"X",""),IF($G8="Half Yearly",IF(AND(DAY(O$4)=DAY($H8),MOD(MONTH(O$4)-MONTH($H8),6)=0),"X",""),IF($G8="Yearly",IF(AND(DAY(O$4)=DAY($H8),MONTH(O$4)=MONTH($H8)),"X",""),"")))))))))),"") | P8: =IFERROR(IF(OR($H8="",$G8=""),"",IF($G8="Daily",IF(P$4>=$H8,"X",""),IF($G8="Weekly",IF(MOD(P$4-$H8,7)=0,"X",""),IF($G8="fortnightly",IF(MOD(P$4-$H8,14)=0,"X",""),IF($G8="Monthly",IF(DAY(P$4)=DAY($H8),"X",""),IF($G8="Two Monthly",IF(AND(DAY(P$4)=DAY($H8),MOD(MONTH(P$4)-MONTH($H8),2)=0),"X",""),IF($G8="Quarterly",IF(AND(DAY(P$4)=DAY($H8),MOD(MONTH(P$4)-MONTH($H8),3)=0),"X",""),IF($G8="Four Monthly",IF(AND(DAY(P$4)=DAY($H8),MOD(MONTH(P$4)-MONTH($H8),4)=0),"X",""),IF($G8="Half Yearly",IF(AND(DAY(P$4)=DAY($H8),MOD(MONTH(P$4)-MONTH($H8),6)=0),"X",""),IF($G8="Yearly",IF(AND(DAY(P$4)=DAY($H8),MONTH(P$4)=MONTH($H8)),"X",""),"")))))))))),"") | ... NJ8: =IFERROR(IF(OR($H8="",$G8=""),"",IF($G8="Daily",IF(NJ$4>=$H8,"X",""),IF($G8="Weekly",IF(MOD(NJ$4-$H8,7)=0,"X",""),IF($G8="fortnightly",IF(MOD(NJ$4-$H8,14)=0,"X",""),IF($G8="Monthly",IF(DAY(NJ$4)=DAY($H8),"X",""),IF($G8="Two Monthly",IF(AND(DAY(NJ$4)=DAY($H8),MOD(MONTH(NJ$4)-MONTH($H8),2)=0),"X",""),IF($G8="Quarterly",IF(AND(DAY(NJ$4)=DAY($H8),MOD(MONTH(NJ$4)-MONTH($H8),3)=0),"X",""),IF($G8="Four Monthly",IF(AND(DAY(NJ$4)=DAY($H8),MOD(MONTH(NJ$4)-MONTH($H8),4)=0),"X",""),IF($G8="Half Yearly",IF(AND(DAY(NJ$4)=DAY($H8),MOD(MONTH(NJ$4)-MONTH($H8),6)=0),"X",""),IF($G8="Yearly",IF(AND(DAY(NJ$4)=DAY($H8),MONTH(NJ$4)=MONTH($H8)),"X",""),"")))))))))),"") -> X
B9: 3 | C9: EQ 003 | D9: Equipment 3 | E9: Part 3 | F9: Zone 3 | G9: Fortnightly | H9: 46025 | I9: =IFERROR(IF(OR($H9="",$G9=""),"",IF($G9="Daily",IF(I$4>=$H9,"X",""),IF($G9="Weekly",IF(MOD(I$4-$H9,7)=0,"X",""),IF($G9="fortnightly",IF(MOD(I$4-$H9,14)=0,"X",""),IF($G9="Monthly",IF(DAY(I$4)=DAY($H9),"X",""),IF($G9="Two Monthly",IF(AND(DAY(I$4)=DAY($H9),MOD(MONTH(I$4)-MONTH($H9),2)=0),"X",""),IF($G9="Quarterly",IF(AND(DAY(I$4)=DAY($H9),MOD(MONTH(I$4)-MONTH($H9),3)=0),"X",""),IF($G9="Four Monthly",IF(AND(DAY(I$4)=DAY($H9),MOD(MONTH(I$4)-MONTH($H9),4)=0),"X",""),IF($G9="Half Yearly",IF(AND(DAY(I$4)=DAY($H9),MOD(MONTH(I$4)-MONTH($H9),6)=0),"X",""),IF($G9="Yearly",IF(AND(DAY(I$4)=DAY($H9),MONTH(I$4)=MONTH($H9)),"X",""),"")))))))))),"") | J9: =IFERROR(IF(OR($H9="",$G9=""),"",IF($G9="Daily",IF(J$4>=$H9,"X",""),IF($G9="Weekly",IF(MOD(J$4-$H9,7)=0,"X",""),IF($G9="fortnightly",IF(MOD(J$4-$H9,14)=0,"X",""),IF($G9="Monthly",IF(DAY(J$4)=DAY($H9),"X",""),IF($G9="Two Monthly",IF(AND(DAY(J$4)=DAY($H9),MOD(MONTH(J$4)-MONTH($H9),2)=0),"X",""),IF($G9="Quarterly",IF(AND(DAY(J$4)=DAY($H9),MOD(MONTH(J$4)-MONTH($H9),3)=0),"X",""),IF($G9="Four Monthly",IF(AND(DAY(J$4)=DAY($H9),MOD(MONTH(J$4)-MONTH($H9),4)=0),"X",""),IF($G9="Half Yearly",IF(AND(DAY(J$4)=DAY($H9),MOD(MONTH(J$4)-MONTH($H9),6)=0),"X",""),IF($G9="Yearly",IF(AND(DAY(J$4)=DAY($H9),MONTH(J$4)=MONTH($H9)),"X",""),"")))))))))),"") | K9: =IFERROR(IF(OR($H9="",$G9=""),"",IF($G9="Daily",IF(K$4>=$H9,"X",""),IF($G9="Weekly",IF(MOD(K$4-$H9,7)=0,"X",""),IF($G9="fortnightly",IF(MOD(K$4-$H9,14)=0,"X",""),IF($G9="Monthly",IF(DAY(K$4)=DAY($H9),"X",""),IF($G9="Two Monthly",IF(AND(DAY(K$4)=DAY($H9),MOD(MONTH(K$4)-MONTH($H9),2)=0),"X",""),IF($G9="Quarterly",IF(AND(DAY(K$4)=DAY($H9),MOD(MONTH(K$4)-MONTH($H9),3)=0),"X",""),IF($G9="Four Monthly",IF(AND(DAY(K$4)=DAY($H9),MOD(MONTH(K$4)-MONTH($H9),4)=0),"X",""),IF($G9="Half Yearly",IF(AND(DAY(K$4)=DAY($H9),MOD(MONTH(K$4)-MONTH($H9),6)=0),"X",""),IF($G9="Yearly",IF(AND(DAY(K$4)=DAY($H9),MONTH(K$4)=MONTH($H9)),"X",""),"")))))))))),"") -> X | L9: =IFERROR(IF(OR($H9="",$G9=""),"",IF($G9="Daily",IF(L$4>=$H9,"X",""),IF($G9="Weekly",IF(MOD(L$4-$H9,7)=0,"X",""),IF($G9="fortnightly",IF(MOD(L$4-$H9,14)=0,"X",""),IF($G9="Monthly",IF(DAY(L$4)=DAY($H9),"X",""),IF($G9="Two Monthly",IF(AND(DAY(L$4)=DAY($H9),MOD(MONTH(L$4)-MONTH($H9),2)=0),"X",""),IF($G9="Quarterly",IF(AND(DAY(L$4)=DAY($H9),MOD(MONTH(L$4)-MONTH($H9),3)=0),"X",""),IF($G9="Four Monthly",IF(AND(DAY(L$4)=DAY($H9),MOD(MONTH(L$4)-MONTH($H9),4)=0),"X",""),IF($G9="Half Yearly",IF(AND(DAY(L$4)=DAY($H9),MOD(MONTH(L$4)-MONTH($H9),6)=0),"X",""),IF($G9="Yearly",IF(AND(DAY(L$4)=DAY($H9),MONTH(L$4)=MONTH($H9)),"X",""),"")))))))))),"") | M9: =IFERROR(IF(OR($H9="",$G9=""),"",IF($G9="Daily",IF(M$4>=$H9,"X",""),IF($G9="Weekly",IF(MOD(M$4-$H9,7)=0,"X",""),IF($G9="fortnightly",IF(MOD(M$4-$H9,14)=0,"X",""),IF($G9="Monthly",IF(DAY(M$4)=DAY($H9),"X",""),IF($G9="Two Monthly",IF(AND(DAY(M$4)=DAY($H9),MOD(MONTH(M$4)-MONTH($H9),2)=0),"X",""),IF($G9="Quarterly",IF(AND(DAY(M$4)=DAY($H9),MOD(MONTH(M$4)-MONTH($H9),3)=0),"X",""),IF($G9="Four Monthly",IF(AND(DAY(M$4)=DAY($H9),MOD(MONTH(M$4)-MONTH($H9),4)=0),"X",""),IF($G9="Half Yearly",IF(AND(DAY(M$4)=DAY($H9),MOD(MONTH(M$4)-MONTH($H9),6)=0),"X",""),IF($G9="Yearly",IF(AND(DAY(M$4)=DAY($H9),MONTH(M$4)=MONTH($H9)),"X",""),"")))))))))),"") | N9: =IFERROR(IF(OR($H9="",$G9=""),"",IF($G9="Daily",IF(N$4>=$H9,"X",""),IF($G9="Weekly",IF(MOD(N$4-$H9,7)=0,"X",""),IF($G9="fortnightly",IF(MOD(N$4-$H9,14)=0,"X",""),IF($G9="Monthly",IF(DAY(N$4)=DAY($H9),"X",""),IF($G9="Two Monthly",IF(AND(DAY(N$4)=DAY($H9),MOD(MONTH(N$4)-MONTH($H9),2)=0),"X",""),IF($G9="Quarterly",IF(AND(DAY(N$4)=DAY($H9),MOD(MONTH(N$4)-MONTH($H9),3)=0),"X",""),IF($G9="Four Monthly",IF(AND(DAY(N$4)=DAY($H9),MOD(MONTH(N$4)-MONTH($H9),4)=0),"X",""),IF($G9="Half Yearly",IF(AND(DAY(N$4)=DAY($H9),MOD(MONTH(N$4)-MONTH($H9),6)=0),"X",""),IF($G9="Yearly",IF(AND(DAY(N$4)=DAY($H9),MONTH(N$4)=MONTH($H9)),"X",""),"")))))))))),"") | O9: =IFERROR(IF(OR($H9="",$G9=""),"",IF($G9="Daily",IF(O$4>=$H9,"X",""),IF($G9="Weekly",IF(MOD(O$4-$H9,7)=0,"X",""),IF($G9="fortnightly",IF(MOD(O$4-$H9,14)=0,"X",""),IF($G9="Monthly",IF(DAY(O$4)=DAY($H9),"X",""),IF($G9="Two Monthly",IF(AND(DAY(O$4)=DAY($H9),MOD(MONTH(O$4)-MONTH($H9),2)=0),"X",""),IF($G9="Quarterly",IF(AND(DAY(O$4)=DAY($H9),MOD(MONTH(O$4)-MONTH($H9),3)=0),"X",""),IF($G9="Four Monthly",IF(AND(DAY(O$4)=DAY($H9),MOD(MONTH(O$4)-MONTH($H9),4)=0),"X",""),IF($G9="Half Yearly",IF(AND(DAY(O$4)=DAY($H9),MOD(MONTH(O$4)-MONTH($H9),6)=0),"X",""),IF($G9="Yearly",IF(AND(DAY(O$4)=DAY($H9),MONTH(O$4)=MONTH($H9)),"X",""),"")))))))))),"") | P9: =IFERROR(IF(OR($H9="",$G9=""),"",IF($G9="Daily",IF(P$4>=$H9,"X",""),IF($G9="Weekly",IF(MOD(P$4-$H9,7)=0,"X",""),IF($G9="fortnightly",IF(MOD(P$4-$H9,14)=0,"X",""),IF($G9="Monthly",IF(DAY(P$4)=DAY($H9),"X",""),IF($G9="Two Monthly",IF(AND(DAY(P$4)=DAY($H9),MOD(MONTH(P$4)-MONTH($H9),2)=0),"X",""),IF($G9="Quarterly",IF(AND(DAY(P$4)=DAY($H9),MOD(MONTH(P$4)-MONTH($H9),3)=0),"X",""),IF($G9="Four Monthly",IF(AND(DAY(P$4)=DAY($H9),MOD(MONTH(P$4)-MONTH($H9),4)=0),"X",""),IF($G9="Half Yearly",IF(AND(DAY(P$4)=DAY($H9),MOD(MONTH(P$4)-MONTH($H9),6)=0),"X",""),IF($G9="Yearly",IF(AND(DAY(P$4)=DAY($H9),MONTH(P$4)=MONTH($H9)),"X",""),"")))))))))),"") | ... NJ9: =IFERROR(IF(OR($H9="",$G9=""),"",IF($G9="Daily",IF(NJ$4>=$H9,"X",""),IF($G9="Weekly",IF(MOD(NJ$4-$H9,7)=0,"X",""),IF($G9="fortnightly",IF(MOD(NJ$4-$H9,14)=0,"X",""),IF($G9="Monthly",IF(DAY(NJ$4)=DAY($H9),"X",""),IF($G9="Two Monthly",IF(AND(DAY(NJ$4)=DAY($H9),MOD(MONTH(NJ$4)-MONTH($H9),2)=0),"X",""),IF($G9="Quarterly",IF(AND(DAY(NJ$4)=DAY($H9),MOD(MONTH(NJ$4)-MONTH($H9),3)=0),"X",""),IF($G9="Four Monthly",IF(AND(DAY(NJ$4)=DAY($H9),MOD(MONTH(NJ$4)-MONTH($H9),4)=0),"X",""),IF($G9="Half Yearly",IF(AND(DAY(NJ$4)=DAY($H9),MOD(MONTH(NJ$4)-MONTH($H9),6)=0),"X",""),IF($G9="Yearly",IF(AND(DAY(NJ$4)=DAY($H9),MONTH(NJ$4)=MONTH($H9)),"X",""),"")))))))))),"")
B10: 4 | C10: EQ 004 | D10: Equipment 4 | E10: Part 1 | F10: Zone 1 | G10: Monthly | H10: 46026 | I10: =IFERROR(IF(OR($H10="",$G10=""),"",IF($G10="Daily",IF(I$4>=$H10,"X",""),IF($G10="Weekly",IF(MOD(I$4-$H10,7)=0,"X",""),IF($G10="fortnightly",IF(MOD(I$4-$H10,14)=0,"X",""),IF($G10="Monthly",IF(DAY(I$4)=DAY($H10),"X",""),IF($G10="Two Monthly",IF(AND(DAY(I$4)=DAY($H10),MOD(MONTH(I$4)-MONTH($H10),2)=0),"X",""),IF($G10="Quarterly",IF(AND(DAY(I$4)=DAY($H10),MOD(MONTH(I$4)-MONTH($H10),3)=0),"X",""),IF($G10="Four Monthly",IF(AND(DAY(I$4)=DAY($H10),MOD(MONTH(I$4)-MONTH($H10),4)=0),"X",""),IF($G10="Half Yearly",IF(AND(DAY(I$4)=DAY($H10),MOD(MONTH(I$4)-MONTH($H10),6)=0),"X",""),IF($G10="Yearly",IF(AND(DAY(I$4)=DAY($H10),MONTH(I$4)=MONTH($H10)),"X",""),"")))))))))),"") | J10: =IFERROR(IF(OR($H10="",$G10=""),"",IF($G10="Daily",IF(J$4>=$H10,"X",""),IF($G10="Weekly",IF(MOD(J$4-$H10,7)=0,"X",""),IF($G10="fortnightly",IF(MOD(J$4-$H10,14)=0,"X",""),IF($G10="Monthly",IF(DAY(J$4)=DAY($H10),"X",""),IF($G10="Two Monthly",IF(AND(DAY(J$4)=DAY($H10),MOD(MONTH(J$4)-MONTH($H10),2)=0),"X",""),IF($G10="Quarterly",IF(AND(DAY(J$4)=DAY($H10),MOD(MONTH(J$4)-MONTH($H10),3)=0),"X",""),IF($G10="Four Monthly",IF(AND(DAY(J$4)=DAY($H10),MOD(MONTH(J$4)-MONTH($H10),4)=0),"X",""),IF($G10="Half Yearly",IF(AND(DAY(J$4)=DAY($H10),MOD(MONTH(J$4)-MONTH($H10),6)=0),"X",""),IF($G10="Yearly",IF(AND(DAY(J$4)=DAY($H10),MONTH(J$4)=MONTH($H10)),"X",""),"")))))))))),"") | K10: =IFERROR(IF(OR($H10="",$G10=""),"",IF($G10="Daily",IF(K$4>=$H10,"X",""),IF($G10="Weekly",IF(MOD(K$4-$H10,7)=0,"X",""),IF($G10="fortnightly",IF(MOD(K$4-$H10,14)=0,"X",""),IF($G10="Monthly",IF(DAY(K$4)=DAY($H10),"X",""),IF($G10="Two Monthly",IF(AND(DAY(K$4)=DAY($H10),MOD(MONTH(K$4)-MONTH($H10),2)=0),"X",""),IF($G10="Quarterly",IF(AND(DAY(K$4)=DAY($H10),MOD(MONTH(K$4)-MONTH($H10),3)=0),"X",""),IF($G10="Four Monthly",IF(AND(DAY(K$4)=DAY($H10),MOD(MONTH(K$4)-MONTH($H10),4)=0),"X",""),IF($G10="Half Yearly",IF(AND(DAY(K$4)=DAY($H10),MOD(MONTH(K$4)-MONTH($H10),6)=0),"X",""),IF($G10="Yearly",IF(AND(DAY(K$4)=DAY($H10),MONTH(K$4)=MONTH($H10)),"X",""),"")))))))))),"") | L10: =IFERROR(IF(OR($H10="",$G10=""),"",IF($G10="Daily",IF(L$4>=$H10,"X",""),IF($G10="Weekly",IF(MOD(L$4-$H10,7)=0,"X",""),IF($G10="fortnightly",IF(MOD(L$4-$H10,14)=0,"X",""),IF($G10="Monthly",IF(DAY(L$4)=DAY($H10),"X",""),IF($G10="Two Monthly",IF(AND(DAY(L$4)=DAY($H10),MOD(MONTH(L$4)-MONTH($H10),2)=0),"X",""),IF($G10="Quarterly",IF(AND(DAY(L$4)=DAY($H10),MOD(MONTH(L$4)-MONTH($H10),3)=0),"X",""),IF($G10="Four Monthly",IF(AND(DAY(L$4)=DAY($H10),MOD(MONTH(L$4)-MONTH($H10),4)=0),"X",""),IF($G10="Half Yearly",IF(AND(DAY(L$4)=DAY($H10),MOD(MONTH(L$4)-MONTH($H10),6)=0),"X",""),IF($G10="Yearly",IF(AND(DAY(L$4)=DAY($H10),MONTH(L$4)=MONTH($H10)),"X",""),"")))))))))),"") -> X | M10: =IFERROR(IF(OR($H10="",$G10=""),"",IF($G10="Daily",IF(M$4>=$H10,"X",""),IF($G10="Weekly",IF(MOD(M$4-$H10,7)=0,"X",""),IF($G10="fortnightly",IF(MOD(M$4-$H10,14)=0,"X",""),IF($G10="Monthly",IF(DAY(M$4)=DAY($H10),"X",""),IF($G10="Two Monthly",IF(AND(DAY(M$4)=DAY($H10),MOD(MONTH(M$4)-MONTH($H10),2)=0),"X",""),IF($G10="Quarterly",IF(AND(DAY(M$4)=DAY($H10),MOD(MONTH(M$4)-MONTH($H10),3)=0),"X",""),IF($G10="Four Monthly",IF(AND(DAY(M$4)=DAY($H10),MOD(MONTH(M$4)-MONTH($H10),4)=0),"X",""),IF($G10="Half Yearly",IF(AND(DAY(M$4)=DAY($H10),MOD(MONTH(M$4)-MONTH($H10),6)=0),"X",""),IF($G10="Yearly",IF(AND(DAY(M$4)=DAY($H10),MONTH(M$4)=MONTH($H10)),"X",""),"")))))))))),"") | N10: =IFERROR(IF(OR($H10="",$G10=""),"",IF($G10="Daily",IF(N$4>=$H10,"X",""),IF($G10="Weekly",IF(MOD(N$4-$H10,7)=0,"X",""),IF($G10="fortnightly",IF(MOD(N$4-$H10,14)=0,"X",""),IF($G10="Monthly",IF(DAY(N$4)=DAY($H10),"X",""),IF($G10="Two Monthly",IF(AND(DAY(N$4)=DAY($H10),MOD(MONTH(N$4)-MONTH($H10),2)=0),"X",""),IF($G10="Quarterly",IF(AND(DAY(N$4)=DAY($H10),MOD(MONTH(N$4)-MONTH($H10),3)=0),"X",""),IF($G10="Four Monthly",IF(AND(DAY(N$4)=DAY($H10),MOD(MONTH(N$4)-MONTH($H10),4)=0),"X",""),IF($G10="Half Yearly",IF(AND(DAY(N$4)=DAY($H10),MOD(MONTH(N$4)-MONTH($H10),6)=0),"X",""),IF($G10="Yearly",IF(AND(DAY(N$4)=DAY($H10),MONTH(N$4)=MONTH($H10)),"X",""),"")))))))))),"") | O10: =IFERROR(IF(OR($H10="",$G10=""),"",IF($G10="Daily",IF(O$4>=$H10,"X",""),IF($G10="Weekly",IF(MOD(O$4-$H10,7)=0,"X",""),IF($G10="fortnightly",IF(MOD(O$4-$H10,14)=0,"X",""),IF($G10="Monthly",IF(DAY(O$4)=DAY($H10),"X",""),IF($G10="Two Monthly",IF(AND(DAY(O$4)=DAY($H10),MOD(MONTH(O$4)-MONTH($H10),2)=0),"X",""),IF($G10="Quarterly",IF(AND(DAY(O$4)=DAY($H10),MOD(MONTH(O$4)-MONTH($H10),3)=0),"X",""),IF($G10="Four Monthly",IF(AND(DAY(O$4)=DAY($H10),MOD(MONTH(O$4)-MONTH($H10),4)=0),"X",""),IF($G10="Half Yearly",IF(AND(DAY(O$4)=DAY($H10),MOD(MONTH(O$4)-MONTH($H10),6)=0),"X",""),IF($G10="Yearly",IF(AND(DAY(O$4)=DAY($H10),MONTH(O$4)=MONTH($H10)),"X",""),"")))))))))),"") | P10: =IFERROR(IF(OR($H10="",$G10=""),"",IF($G10="Daily",IF(P$4>=$H10,"X",""),IF($G10="Weekly",IF(MOD(P$4-$H10,7)=0,"X",""),IF($G10="fortnightly",IF(MOD(P$4-$H10,14)=0,"X",""),IF($G10="Monthly",IF(DAY(P$4)=DAY($H10),"X",""),IF($G10="Two Monthly",IF(AND(DAY(P$4)=DAY($H10),MOD(MONTH(P$4)-MONTH($H10),2)=0),"X",""),IF($G10="Quarterly",IF(AND(DAY(P$4)=DAY($H10),MOD(MONTH(P$4)-MONTH($H10),3)=0),"X",""),IF($G10="Four Monthly",IF(AND(DAY(P$4)=DAY($H10),MOD(MONTH(P$4)-MONTH($H10),4)=0),"X",""),IF($G10="Half Yearly",IF(AND(DAY(P$4)=DAY($H10),MOD(MONTH(P$4)-MONTH($H10),6)=0),"X",""),IF($G10="Yearly",IF(AND(DAY(P$4)=DAY($H10),MONTH(P$4)=MONTH($H10)),"X",""),"")))))))))),"") | ... NJ10: =IFERROR(IF(OR($H10="",$G10=""),"",IF($G10="Daily",IF(NJ$4>=$H10,"X",""),IF($G10="Weekly",IF(MOD(NJ$4-$H10,7)=0,"X",""),IF($G10="fortnightly",IF(MOD(NJ$4-$H10,14)=0,"X",""),IF($G10="Monthly",IF(DAY(NJ$4)=DAY($H10),"X",""),IF($G10="Two Monthly",IF(AND(DAY(NJ$4)=DAY($H10),MOD(MONTH(NJ$4)-MONTH($H10),2)=0),"X",""),IF($G10="Quarterly",IF(AND(DAY(NJ$4)=DAY($H10),MOD(MONTH(NJ$4)-MONTH($H10),3)=0),"X",""),IF($G10="Four Monthly",IF(AND(DAY(NJ$4)=DAY($H10),MOD(MONTH(NJ$4)-MONTH($H10),4)=0),"X",""),IF($G10="Half Yearly",IF(AND(DAY(NJ$4)=DAY($H10),MOD(MONTH(NJ$4)-MONTH($H10),6)=0),"X",""),IF($G10="Yearly",IF(AND(DAY(NJ$4)=DAY($H10),MONTH(NJ$4)=MONTH($H10)),"X",""),"")))))))))),"")
B11: 5 | C11: EQ 005 | D11: Equipment 5 | E11: Part 2 | F11: Zone 2 | G11: two monthly | H11: 46027 | I11: =IFERROR(IF(OR($H11="",$G11=""),"",IF($G11="Daily",IF(I$4>=$H11,"X",""),IF($G11="Weekly",IF(MOD(I$4-$H11,7)=0,"X",""),IF($G11="fortnightly",IF(MOD(I$4-$H11,14)=0,"X",""),IF($G11="Monthly",IF(DAY(I$4)=DAY($H11),"X",""),IF($G11="Two Monthly",IF(AND(DAY(I$4)=DAY($H11),MOD(MONTH(I$4)-MONTH($H11),2)=0),"X",""),IF($G11="Quarterly",IF(AND(DAY(I$4)=DAY($H11),MOD(MONTH(I$4)-MONTH($H11),3)=0),"X",""),IF($G11="Four Monthly",IF(AND(DAY(I$4)=DAY($H11),MOD(MONTH(I$4)-MONTH($H11),4)=0),"X",""),IF($G11="Half Yearly",IF(AND(DAY(I$4)=DAY($H11),MOD(MONTH(I$4)-MONTH($H11),6)=0),"X",""),IF($G11="Yearly",IF(AND(DAY(I$4)=DAY($H11),MONTH(I$4)=MONTH($H11)),"X",""),"")))))))))),"") | J11: =IFERROR(IF(OR($H11="",$G11=""),"",IF($G11="Daily",IF(J$4>=$H11,"X",""),IF($G11="Weekly",IF(MOD(J$4-$H11,7)=0,"X",""),IF($G11="fortnightly",IF(MOD(J$4-$H11,14)=0,"X",""),IF($G11="Monthly",IF(DAY(J$4)=DAY($H11),"X",""),IF($G11="Two Monthly",IF(AND(DAY(J$4)=DAY($H11),MOD(MONTH(J$4)-MONTH($H11),2)=0),"X",""),IF($G11="Quarterly",IF(AND(DAY(J$4)=DAY($H11),MOD(MONTH(J$4)-MONTH($H11),3)=0),"X",""),IF($G11="Four Monthly",IF(AND(DAY(J$4)=DAY($H11),MOD(MONTH(J$4)-MONTH($H11),4)=0),"X",""),IF($G11="Half Yearly",IF(AND(DAY(J$4)=DAY($H11),MOD(MONTH(J$4)-MONTH($H11),6)=0),"X",""),IF($G11="Yearly",IF(AND(DAY(J$4)=DAY($H11),MONTH(J$4)=MONTH($H11)),"X",""),"")))))))))),"") | K11: =IFERROR(IF(OR($H11="",$G11=""),"",IF($G11="Daily",IF(K$4>=$H11,"X",""),IF($G11="Weekly",IF(MOD(K$4-$H11,7)=0,"X",""),IF($G11="fortnightly",IF(MOD(K$4-$H11,14)=0,"X",""),IF($G11="Monthly",IF(DAY(K$4)=DAY($H11),"X",""),IF($G11="Two Monthly",IF(AND(DAY(K$4)=DAY($H11),MOD(MONTH(K$4)-MONTH($H11),2)=0),"X",""),IF($G11="Quarterly",IF(AND(DAY(K$4)=DAY($H11),MOD(MONTH(K$4)-MONTH($H11),3)=0),"X",""),IF($G11="Four Monthly",IF(AND(DAY(K$4)=DAY($H11),MOD(MONTH(K$4)-MONTH($H11),4)=0),"X",""),IF($G11="Half Yearly",IF(AND(DAY(K$4)=DAY($H11),MOD(MONTH(K$4)-MONTH($H11),6)=0),"X",""),IF($G11="Yearly",IF(AND(DAY(K$4)=DAY($H11),MONTH(K$4)=MONTH($H11)),"X",""),"")))))))))),"") | L11: =IFERROR(IF(OR($H11="",$G11=""),"",IF($G11="Daily",IF(L$4>=$H11,"X",""),IF($G11="Weekly",IF(MOD(L$4-$H11,7)=0,"X",""),IF($G11="fortnightly",IF(MOD(L$4-$H11,14)=0,"X",""),IF($G11="Monthly",IF(DAY(L$4)=DAY($H11),"X",""),IF($G11="Two Monthly",IF(AND(DAY(L$4)=DAY($H11),MOD(MONTH(L$4)-MONTH($H11),2)=0),"X",""),IF($G11="Quarterly",IF(AND(DAY(L$4)=DAY($H11),MOD(MONTH(L$4)-MONTH($H11),3)=0),"X",""),IF($G11="Four Monthly",IF(AND(DAY(L$4)=DAY($H11),MOD(MONTH(L$4)-MONTH($H11),4)=0),"X",""),IF($G11="Half Yearly",IF(AND(DAY(L$4)=DAY($H11),MOD(MONTH(L$4)-MONTH($H11),6)=0),"X",""),IF($G11="Yearly",IF(AND(DAY(L$4)=DAY($H11),MONTH(L$4)=MONTH($H11)),"X",""),"")))))))))),"") | M11: =IFERROR(IF(OR($H11="",$G11=""),"",IF($G11="Daily",IF(M$4>=$H11,"X",""),IF($G11="Weekly",IF(MOD(M$4-$H11,7)=0,"X",""),IF($G11="fortnightly",IF(MOD(M$4-$H11,14)=0,"X",""),IF($G11="Monthly",IF(DAY(M$4)=DAY($H11),"X",""),IF($G11="Two Monthly",IF(AND(DAY(M$4)=DAY($H11),MOD(MONTH(M$4)-MONTH($H11),2)=0),"X",""),IF($G11="Quarterly",IF(AND(DAY(M$4)=DAY($H11),MOD(MONTH(M$4)-MONTH($H11),3)=0),"X",""),IF($G11="Four Monthly",IF(AND(DAY(M$4)=DAY($H11),MOD(MONTH(M$4)-MONTH($H11),4)=0),"X",""),IF($G11="Half Yearly",IF(AND(DAY(M$4)=DAY($H11),MOD(MONTH(M$4)-MONTH($H11),6)=0),"X",""),IF($G11="Yearly",IF(AND(DAY(M$4)=DAY($H11),MONTH(M$4)=MONTH($H11)),"X",""),"")))))))))),"") -> X | N11: =IFERROR(IF(OR($H11="",$G11=""),"",IF($G11="Daily",IF(N$4>=$H11,"X",""),IF($G11="Weekly",IF(MOD(N$4-$H11,7)=0,"X",""),IF($G11="fortnightly",IF(MOD(N$4-$H11,14)=0,"X",""),IF($G11="Monthly",IF(DAY(N$4)=DAY($H11),"X",""),IF($G11="Two Monthly",IF(AND(DAY(N$4)=DAY($H11),MOD(MONTH(N$4)-MONTH($H11),2)=0),"X",""),IF($G11="Quarterly",IF(AND(DAY(N$4)=DAY($H11),MOD(MONTH(N$4)-MONTH($H11),3)=0),"X",""),IF($G11="Four Monthly",IF(AND(DAY(N$4)=DAY($H11),MOD(MONTH(N$4)-MONTH($H11),4)=0),"X",""),IF($G11="Half Yearly",IF(AND(DAY(N$4)=DAY($H11),MOD(MONTH(N$4)-MONTH($H11),6)=0),"X",""),IF($G11="Yearly",IF(AND(DAY(N$4)=DAY($H11),MONTH(N$4)=MONTH($H11)),"X",""),"")))))))))),"") | O11: =IFERROR(IF(OR($H11="",$G11=""),"",IF($G11="Daily",IF(O$4>=$H11,"X",""),IF($G11="Weekly",IF(MOD(O$4-$H11,7)=0,"X",""),IF($G11="fortnightly",IF(MOD(O$4-$H11,14)=0,"X",""),IF($G11="Monthly",IF(DAY(O$4)=DAY($H11),"X",""),IF($G11="Two Monthly",IF(AND(DAY(O$4)=DAY($H11),MOD(MONTH(O$4)-MONTH($H11),2)=0),"X",""),IF($G11="Quarterly",IF(AND(DAY(O$4)=DAY($H11),MOD(MONTH(O$4)-MONTH($H11),3)=0),"X",""),IF($G11="Four Monthly",IF(AND(DAY(O$4)=DAY($H11),MOD(MONTH(O$4)-MONTH($H11),4)=0),"X",""),IF($G11="Half Yearly",IF(AND(DAY(O$4)=DAY($H11),MOD(MONTH(O$4)-MONTH($H11),6)=0),"X",""),IF($G11="Yearly",IF(AND(DAY(O$4)=DAY($H11),MONTH(O$4)=MONTH($H11)),"X",""),"")))))))))),"") | P11: =IFERROR(IF(OR($H11="",$G11=""),"",IF($G11="Daily",IF(P$4>=$H11,"X",""),IF($G11="Weekly",IF(MOD(P$4-$H11,7)=0,"X",""),IF($G11="fortnightly",IF(MOD(P$4-$H11,14)=0,"X",""),IF($G11="Monthly",IF(DAY(P$4)=DAY($H11),"X",""),IF($G11="Two Monthly",IF(AND(DAY(P$4)=DAY($H11),MOD(MONTH(P$4)-MONTH($H11),2)=0),"X",""),IF($G11="Quarterly",IF(AND(DAY(P$4)=DAY($H11),MOD(MONTH(P$4)-MONTH($H11),3)=0),"X",""),IF($G11="Four Monthly",IF(AND(DAY(P$4)=DAY($H11),MOD(MONTH(P$4)-MONTH($H11),4)=0),"X",""),IF($G11="Half Yearly",IF(AND(DAY(P$4)=DAY($H11),MOD(MONTH(P$4)-MONTH($H11),6)=0),"X",""),IF($G11="Yearly",IF(AND(DAY(P$4)=DAY($H11),MONTH(P$4)=MONTH($H11)),"X",""),"")))))))))),"") | ... NJ11: =IFERROR(IF(OR($H11="",$G11=""),"",IF($G11="Daily",IF(NJ$4>=$H11,"X",""),IF($G11="Weekly",IF(MOD(NJ$4-$H11,7)=0,"X",""),IF($G11="fortnightly",IF(MOD(NJ$4-$H11,14)=0,"X",""),IF($G11="Monthly",IF(DAY(NJ$4)=DAY($H11),"X",""),IF($G11="Two Monthly",IF(AND(DAY(NJ$4)=DAY($H11),MOD(MONTH(NJ$4)-MONTH($H11),2)=0),"X",""),IF($G11="Quarterly",IF(AND(DAY(NJ$4)=DAY($H11),MOD(MONTH(NJ$4)-MONTH($H11),3)=0),"X",""),IF($G11="Four Monthly",IF(AND(DAY(NJ$4)=DAY($H11),MOD(MONTH(NJ$4)-MONTH($H11),4)=0),"X",""),IF($G11="Half Yearly",IF(AND(DAY(NJ$4)=DAY($H11),MOD(MONTH(NJ$4)-MONTH($H11),6)=0),"X",""),IF($G11="Yearly",IF(AND(DAY(NJ$4)=DAY($H11),MONTH(NJ$4)=MONTH($H11)),"X",""),"")))))))))),"")
B12: 6 | C12: EQ 006 | D12: Equipment 6 | E12: Part 3 | F12: Zone 3 | G12: Quarterly | H12: 46028 | I12: =IFERROR(IF(OR($H12="",$G12=""),"",IF($G12="Daily",IF(I$4>=$H12,"X",""),IF($G12="Weekly",IF(MOD(I$4-$H12,7)=0,"X",""),IF($G12="fortnightly",IF(MOD(I$4-$H12,14)=0,"X",""),IF($G12="Monthly",IF(DAY(I$4)=DAY($H12),"X",""),IF($G12="Two Monthly",IF(AND(DAY(I$4)=DAY($H12),MOD(MONTH(I$4)-MONTH($H12),2)=0),"X",""),IF($G12="Quarterly",IF(AND(DAY(I$4)=DAY($H12),MOD(MONTH(I$4)-MONTH($H12),3)=0),"X",""),IF($G12="Four Monthly",IF(AND(DAY(I$4)=DAY($H12),MOD(MONTH(I$4)-MONTH($H12),4)=0),"X",""),IF($G12="Half Yearly",IF(AND(DAY(I$4)=DAY($H12),MOD(MONTH(I$4)-MONTH($H12),6)=0),"X",""),IF($G12="Yearly",IF(AND(DAY(I$4)=DAY($H12),MONTH(I$4)=MONTH($H12)),"X",""),"")))))))))),"") | J12: =IFERROR(IF(OR($H12="",$G12=""),"",IF($G12="Daily",IF(J$4>=$H12,"X",""),IF($G12="Weekly",IF(MOD(J$4-$H12,7)=0,"X",""),IF($G12="fortnightly",IF(MOD(J$4-$H12,14)=0,"X",""),IF($G12="Monthly",IF(DAY(J$4)=DAY($H12),"X",""),IF($G12="Two Monthly",IF(AND(DAY(J$4)=DAY($H12),MOD(MONTH(J$4)-MONTH($H12),2)=0),"X",""),IF($G12="Quarterly",IF(AND(DAY(J$4)=DAY($H12),MOD(MONTH(J$4)-MONTH($H12),3)=0),"X",""),IF($G12="Four Monthly",IF(AND(DAY(J$4)=DAY($H12),MOD(MONTH(J$4)-MONTH($H12),4)=0),"X",""),IF($G12="Half Yearly",IF(AND(DAY(J$4)=DAY($H12),MOD(MONTH(J$4)-MONTH($H12),6)=0),"X",""),IF($G12="Yearly",IF(AND(DAY(J$4)=DAY($H12),MONTH(J$4)=MONTH($H12)),"X",""),"")))))))))),"") | K12: =IFERROR(IF(OR($H12="",$G12=""),"",IF($G12="Daily",IF(K$4>=$H12,"X",""),IF($G12="Weekly",IF(MOD(K$4-$H12,7)=0,"X",""),IF($G12="fortnightly",IF(MOD(K$4-$H12,14)=0,"X",""),IF($G12="Monthly",IF(DAY(K$4)=DAY($H12),"X",""),IF($G12="Two Monthly",IF(AND(DAY(K$4)=DAY($H12),MOD(MONTH(K$4)-MONTH($H12),2)=0),"X",""),IF($G12="Quarterly",IF(AND(DAY(K$4)=DAY($H12),MOD(MONTH(K$4)-MONTH($H12),3)=0),"X",""),IF($G12="Four Monthly",IF(AND(DAY(K$4)=DAY($H12),MOD(MONTH(K$4)-MONTH($H12),4)=0),"X",""),IF($G12="Half Yearly",IF(AND(DAY(K$4)=DAY($H12),MOD(MONTH(K$4)-MONTH($H12),6)=0),"X",""),IF($G12="Yearly",IF(AND(DAY(K$4)=DAY($H12),MONTH(K$4)=MONTH($H12)),"X",""),"")))))))))),"") | L12: =IFERROR(IF(OR($H12="",$G12=""),"",IF($G12="Daily",IF(L$4>=$H12,"X",""),IF($G12="Weekly",IF(MOD(L$4-$H12,7)=0,"X",""),IF($G12="fortnightly",IF(MOD(L$4-$H12,14)=0,"X",""),IF($G12="Monthly",IF(DAY(L$4)=DAY($H12),"X",""),IF($G12="Two Monthly",IF(AND(DAY(L$4)=DAY($H12),MOD(MONTH(L$4)-MONTH($H12),2)=0),"X",""),IF($G12="Quarterly",IF(AND(DAY(L$4)=DAY($H12),MOD(MONTH(L$4)-MONTH($H12),3)=0),"X",""),IF($G12="Four Monthly",IF(AND(DAY(L$4)=DAY($H12),MOD(MONTH(L$4)-MONTH($H12),4)=0),"X",""),IF($G12="Half Yearly",IF(AND(DAY(L$4)=DAY($H12),MOD(MONTH(L$4)-MONTH($H12),6)=0),"X",""),IF($G12="Yearly",IF(AND(DAY(L$4)=DAY($H12),MONTH(L$4)=MONTH($H12)),"X",""),"")))))))))),"") | M12: =IFERROR(IF(OR($H12="",$G12=""),"",IF($G12="Daily",IF(M$4>=$H12,"X",""),IF($G12="Weekly",IF(MOD(M$4-$H12,7)=0,"X",""),IF($G12="fortnightly",IF(MOD(M$4-$H12,14)=0,"X",""),IF($G12="Monthly",IF(DAY(M$4)=DAY($H12),"X",""),IF($G12="Two Monthly",IF(AND(DAY(M$4)=DAY($H12),MOD(MONTH(M$4)-MONTH($H12),2)=0),"X",""),IF($G12="Quarterly",IF(AND(DAY(M$4)=DAY($H12),MOD(MONTH(M$4)-MONTH($H12),3)=0),"X",""),IF($G12="Four Monthly",IF(AND(DAY(M$4)=DAY($H12),MOD(MONTH(M$4)-MONTH($H12),4)=0),"X",""),IF($G12="Half Yearly",IF(AND(DAY(M$4)=DAY($H12),MOD(MONTH(M$4)-MONTH($H12),6)=0),"X",""),IF($G12="Yearly",IF(AND(DAY(M$4)=DAY($H12),MONTH(M$4)=MONTH($H12)),"X",""),"")))))))))),"") | N12: =IFERROR(IF(OR($H12="",$G12=""),"",IF($G12="Daily",IF(N$4>=$H12,"X",""),IF($G12="Weekly",IF(MOD(N$4-$H12,7)=0,"X",""),IF($G12="fortnightly",IF(MOD(N$4-$H12,14)=0,"X",""),IF($G12="Monthly",IF(DAY(N$4)=DAY($H12),"X",""),IF($G12="Two Monthly",IF(AND(DAY(N$4)=DAY($H12),MOD(MONTH(N$4)-MONTH($H12),2)=0),"X",""),IF($G12="Quarterly",IF(AND(DAY(N$4)=DAY($H12),MOD(MONTH(N$4)-MONTH($H12),3)=0),"X",""),IF($G12="Four Monthly",IF(AND(DAY(N$4)=DAY($H12),MOD(MONTH(N$4)-MONTH($H12),4)=0),"X",""),IF($G12="Half Yearly",IF(AND(DAY(N$4)=DAY($H12),MOD(MONTH(N$4)-MONTH($H12),6)=0),"X",""),IF($G12="Yearly",IF(AND(DAY(N$4)=DAY($H12),MONTH(N$4)=MONTH($H12)),"X",""),"")))))))))),"") -> X | O12: =IFERROR(IF(OR($H12="",$G12=""),"",IF($G12="Daily",IF(O$4>=$H12,"X",""),IF($G12="Weekly",IF(MOD(O$4-$H12,7)=0,"X",""),IF($G12="fortnightly",IF(MOD(O$4-$H12,14)=0,"X",""),IF($G12="Monthly",IF(DAY(O$4)=DAY($H12),"X",""),IF($G12="Two Monthly",IF(AND(DAY(O$4)=DAY($H12),MOD(MONTH(O$4)-MONTH($H12),2)=0),"X",""),IF($G12="Quarterly",IF(AND(DAY(O$4)=DAY($H12),MOD(MONTH(O$4)-MONTH($H12),3)=0),"X",""),IF($G12="Four Monthly",IF(AND(DAY(O$4)=DAY($H12),MOD(MONTH(O$4)-MONTH($H12),4)=0),"X",""),IF($G12="Half Yearly",IF(AND(DAY(O$4)=DAY($H12),MOD(MONTH(O$4)-MONTH($H12),6)=0),"X",""),IF($G12="Yearly",IF(AND(DAY(O$4)=DAY($H12),MONTH(O$4)=MONTH($H12)),"X",""),"")))))))))),"") | P12: =IFERROR(IF(OR($H12="",$G12=""),"",IF($G12="Daily",IF(P$4>=$H12,"X",""),IF($G12="Weekly",IF(MOD(P$4-$H12,7)=0,"X",""),IF($G12="fortnightly",IF(MOD(P$4-$H12,14)=0,"X",""),IF($G12="Monthly",IF(DAY(P$4)=DAY($H12),"X",""),IF($G12="Two Monthly",IF(AND(DAY(P$4)=DAY($H12),MOD(MONTH(P$4)-MONTH($H12),2)=0),"X",""),IF($G12="Quarterly",IF(AND(DAY(P$4)=DAY($H12),MOD(MONTH(P$4)-MONTH($H12),3)=0),"X",""),IF($G12="Four Monthly",IF(AND(DAY(P$4)=DAY($H12),MOD(MONTH(P$4)-MONTH($H12),4)=0),"X",""),IF($G12="Half Yearly",IF(AND(DAY(P$4)=DAY($H12),MOD(MONTH(P$4)-MONTH($H12),6)=0),"X",""),IF($G12="Yearly",IF(AND(DAY(P$4)=DAY($H12),MONTH(P$4)=MONTH($H12)),"X",""),"")))))))))),"") | ... NJ12: =IFERROR(IF(OR($H12="",$G12=""),"",IF($G12="Daily",IF(NJ$4>=$H12,"X",""),IF($G12="Weekly",IF(MOD(NJ$4-$H12,7)=0,"X",""),IF($G12="fortnightly",IF(MOD(NJ$4-$H12,14)=0,"X",""),IF($G12="Monthly",IF(DAY(NJ$4)=DAY($H12),"X",""),IF($G12="Two Monthly",IF(AND(DAY(NJ$4)=DAY($H12),MOD(MONTH(NJ$4)-MONTH($H12),2)=0),"X",""),IF($G12="Quarterly",IF(AND(DAY(NJ$4)=DAY($H12),MOD(MONTH(NJ$4)-MONTH($H12),3)=0),"X",""),IF($G12="Four Monthly",IF(AND(DAY(NJ$4)=DAY($H12),MOD(MONTH(NJ$4)-MONTH($H12),4)=0),"X",""),IF($G12="Half Yearly",IF(AND(DAY(NJ$4)=DAY($H12),MOD(MONTH(NJ$4)-MONTH($H12),6)=0),"X",""),IF($G12="Yearly",IF(AND(DAY(NJ$4)=DAY($H12),MONTH(NJ$4)=MONTH($H12)),"X",""),"")))))))))),"")
B13: 7 | C13: EQ 007 | D13: Equipment 7 | E13: Part 1 | F13: Zone 1 | G13: Four Monthly | H13: 46029 | I13: =IFERROR(IF(OR($H13="",$G13=""),"",IF($G13="Daily",IF(I$4>=$H13,"X",""),IF($G13="Weekly",IF(MOD(I$4-$H13,7)=0,"X",""),IF($G13="fortnightly",IF(MOD(I$4-$H13,14)=0,"X",""),IF($G13="Monthly",IF(DAY(I$4)=DAY($H13),"X",""),IF($G13="Two Monthly",IF(AND(DAY(I$4)=DAY($H13),MOD(MONTH(I$4)-MONTH($H13),2)=0),"X",""),IF($G13="Quarterly",IF(AND(DAY(I$4)=DAY($H13),MOD(MONTH(I$4)-MONTH($H13),3)=0),"X",""),IF($G13="Four Monthly",IF(AND(DAY(I$4)=DAY($H13),MOD(MONTH(I$4)-MONTH($H13),4)=0),"X",""),IF($G13="Half Yearly",IF(AND(DAY(I$4)=DAY($H13),MOD(MONTH(I$4)-MONTH($H13),6)=0),"X",""),IF($G13="Yearly",IF(AND(DAY(I$4)=DAY($H13),MONTH(I$4)=MONTH($H13)),"X",""),"")))))))))),"") | J13: =IFERROR(IF(OR($H13="",$G13=""),"",IF($G13="Daily",IF(J$4>=$H13,"X",""),IF($G13="Weekly",IF(MOD(J$4-$H13,7)=0,"X",""),IF($G13="fortnightly",IF(MOD(J$4-$H13,14)=0,"X",""),IF($G13="Monthly",IF(DAY(J$4)=DAY($H13),"X",""),IF($G13="Two Monthly",IF(AND(DAY(J$4)=DAY($H13),MOD(MONTH(J$4)-MONTH($H13),2)=0),"X",""),IF($G13="Quarterly",IF(AND(DAY(J$4)=DAY($H13),MOD(MONTH(J$4)-MONTH($H13),3)=0),"X",""),IF($G13="Four Monthly",IF(AND(DAY(J$4)=DAY($H13),MOD(MONTH(J$4)-MONTH($H13),4)=0),"X",""),IF($G13="Half Yearly",IF(AND(DAY(J$4)=DAY($H13),MOD(MONTH(J$4)-MONTH($H13),6)=0),"X",""),IF($G13="Yearly",IF(AND(DAY(J$4)=DAY($H13),MONTH(J$4)=MONTH($H13)),"X",""),"")))))))))),"") | K13: =IFERROR(IF(OR($H13="",$G13=""),"",IF($G13="Daily",IF(K$4>=$H13,"X",""),IF($G13="Weekly",IF(MOD(K$4-$H13,7)=0,"X",""),IF($G13="fortnightly",IF(MOD(K$4-$H13,14)=0,"X",""),IF($G13="Monthly",IF(DAY(K$4)=DAY($H13),"X",""),IF($G13="Two Monthly",IF(AND(DAY(K$4)=DAY($H13),MOD(MONTH(K$4)-MONTH($H13),2)=0),"X",""),IF($G13="Quarterly",IF(AND(DAY(K$4)=DAY($H13),MOD(MONTH(K$4)-MONTH($H13),3)=0),"X",""),IF($G13="Four Monthly",IF(AND(DAY(K$4)=DAY($H13),MOD(MONTH(K$4)-MONTH($H13),4)=0),"X",""),IF($G13="Half Yearly",IF(AND(DAY(K$4)=DAY($H13),MOD(MONTH(K$4)-MONTH($H13),6)=0),"X",""),IF($G13="Yearly",IF(AND(DAY(K$4)=DAY($H13),MONTH(K$4)=MONTH($H13)),"X",""),"")))))))))),"") | L13: =IFERROR(IF(OR($H13="",$G13=""),"",IF($G13="Daily",IF(L$4>=$H13,"X",""),IF($G13="Weekly",IF(MOD(L$4-$H13,7)=0,"X",""),IF($G13="fortnightly",IF(MOD(L$4-$H13,14)=0,"X",""),IF($G13="Monthly",IF(DAY(L$4)=DAY($H13),"X",""),IF($G13="Two Monthly",IF(AND(DAY(L$4)=DAY($H13),MOD(MONTH(L$4)-MONTH($H13),2)=0),"X",""),IF($G13="Quarterly",IF(AND(DAY(L$4)=DAY($H13),MOD(MONTH(L$4)-MONTH($H13),3)=0),"X",""),IF($G13="Four Monthly",IF(AND(DAY(L$4)=DAY($H13),MOD(MONTH(L$4)-MONTH($H13),4)=0),"X",""),IF($G13="Half Yearly",IF(AND(DAY(L$4)=DAY($H13),MOD(MONTH(L$4)-MONTH($H13),6)=0),"X",""),IF($G13="Yearly",IF(AND(DAY(L$4)=DAY($H13),MONTH(L$4)=MONTH($H13)),"X",""),"")))))))))),"") | M13: =IFERROR(IF(OR($H13="",$G13=""),"",IF($G13="Daily",IF(M$4>=$H13,"X",""),IF($G13="Weekly",IF(MOD(M$4-$H13,7)=0,"X",""),IF($G13="fortnightly",IF(MOD(M$4-$H13,14)=0,"X",""),IF($G13="Monthly",IF(DAY(M$4)=DAY($H13),"X",""),IF($G13="Two Monthly",IF(AND(DAY(M$4)=DAY($H13),MOD(MONTH(M$4)-MONTH($H13),2)=0),"X",""),IF($G13="Quarterly",IF(AND(DAY(M$4)=DAY($H13),MOD(MONTH(M$4)-MONTH($H13),3)=0),"X",""),IF($G13="Four Monthly",IF(AND(DAY(M$4)=DAY($H13),MOD(MONTH(M$4)-MONTH($H13),4)=0),"X",""),IF($G13="Half Yearly",IF(AND(DAY(M$4)=DAY($H13),MOD(MONTH(M$4)-MONTH($H13),6)=0),"X",""),IF($G13="Yearly",IF(AND(DAY(M$4)=DAY($H13),MONTH(M$4)=MONTH($H13)),"X",""),"")))))))))),"") | N13: =IFERROR(IF(OR($H13="",$G13=""),"",IF($G13="Daily",IF(N$4>=$H13,"X",""),IF($G13="Weekly",IF(MOD(N$4-$H13,7)=0,"X",""),IF($G13="fortnightly",IF(MOD(N$4-$H13,14)=0,"X",""),IF($G13="Monthly",IF(DAY(N$4)=DAY($H13),"X",""),IF($G13="Two Monthly",IF(AND(DAY(N$4)=DAY($H13),MOD(MONTH(N$4)-MONTH($H13),2)=0),"X",""),IF($G13="Quarterly",IF(AND(DAY(N$4)=DAY($H13),MOD(MONTH(N$4)-MONTH($H13),3)=0),"X",""),IF($G13="Four Monthly",IF(AND(DAY(N$4)=DAY($H13),MOD(MONTH(N$4)-MONTH($H13),4)=0),"X",""),IF($G13="Half Yearly",IF(AND(DAY(N$4)=DAY($H13),MOD(MONTH(N$4)-MONTH($H13),6)=0),"X",""),IF($G13="Yearly",IF(AND(DAY(N$4)=DAY($H13),MONTH(N$4)=MONTH($H13)),"X",""),"")))))))))),"") | O13: =IFERROR(IF(OR($H13="",$G13=""),"",IF($G13="Daily",IF(O$4>=$H13,"X",""),IF($G13="Weekly",IF(MOD(O$4-$H13,7)=0,"X",""),IF($G13="fortnightly",IF(MOD(O$4-$H13,14)=0,"X",""),IF($G13="Monthly",IF(DAY(O$4)=DAY($H13),"X",""),IF($G13="Two Monthly",IF(AND(DAY(O$4)=DAY($H13),MOD(MONTH(O$4)-MONTH($H13),2)=0),"X",""),IF($G13="Quarterly",IF(AND(DAY(O$4)=DAY($H13),MOD(MONTH(O$4)-MONTH($H13),3)=0),"X",""),IF($G13="Four Monthly",IF(AND(DAY(O$4)=DAY($H13),MOD(MONTH(O$4)-MONTH($H13),4)=0),"X",""),IF($G13="Half Yearly",IF(AND(DAY(O$4)=DAY($H13),MOD(MONTH(O$4)-MONTH($H13),6)=0),"X",""),IF($G13="Yearly",IF(AND(DAY(O$4)=DAY($H13),MONTH(O$4)=MONTH($H13)),"X",""),"")))))))))),"") -> X | P13: =IFERROR(IF(OR($H13="",$G13=""),"",IF($G13="Daily",IF(P$4>=$H13,"X",""),IF($G13="Weekly",IF(MOD(P$4-$H13,7)=0,"X",""),IF($G13="fortnightly",IF(MOD(P$4-$H13,14)=0,"X",""),IF($G13="Monthly",IF(DAY(P$4)=DAY($H13),"X",""),IF($G13="Two Monthly",IF(AND(DAY(P$4)=DAY($H13),MOD(MONTH(P$4)-MONTH($H13),2)=0),"X",""),IF($G13="Quarterly",IF(AND(DAY(P$4)=DAY($H13),MOD(MONTH(P$4)-MONTH($H13),3)=0),"X",""),IF($G13="Four Monthly",IF(AND(DAY(P$4)=DAY($H13),MOD(MONTH(P$4)-MONTH($H13),4)=0),"X",""),IF($G13="Half Yearly",IF(AND(DAY(P$4)=DAY($H13),MOD(MONTH(P$4)-MONTH($H13),6)=0),"X",""),IF($G13="Yearly",IF(AND(DAY(P$4)=DAY($H13),MONTH(P$4)=MONTH($H13)),"X",""),"")))))))))),"") | ... NJ13: =IFERROR(IF(OR($H13="",$G13=""),"",IF($G13="Daily",IF(NJ$4>=$H13,"X",""),IF($G13="Weekly",IF(MOD(NJ$4-$H13,7)=0,"X",""),IF($G13="fortnightly",IF(MOD(NJ$4-$H13,14)=0,"X",""),IF($G13="Monthly",IF(DAY(NJ$4)=DAY($H13),"X",""),IF($G13="Two Monthly",IF(AND(DAY(NJ$4)=DAY($H13),MOD(MONTH(NJ$4)-MONTH($H13),2)=0),"X",""),IF($G13="Quarterly",IF(AND(DAY(NJ$4)=DAY($H13),MOD(MONTH(NJ$4)-MONTH($H13),3)=0),"X",""),IF($G13="Four Monthly",IF(AND(DAY(NJ$4)=DAY($H13),MOD(MONTH(NJ$4)-MONTH($H13),4)=0),"X",""),IF($G13="Half Yearly",IF(AND(DAY(NJ$4)=DAY($H13),MOD(MONTH(NJ$4)-MONTH($H13),6)=0),"X",""),IF($G13="Yearly",IF(AND(DAY(NJ$4)=DAY($H13),MONTH(NJ$4)=MONTH($H13)),"X",""),"")))))))))),"")
B14: 8 | C14: EQ 008 | D14: Equipment 8 | E14: Part 2 | F14: Zone 2 | G14: Half yearly | H14: 46030 | I14: =IFERROR(IF(OR($H14="",$G14=""),"",IF($G14="Daily",IF(I$4>=$H14,"X",""),IF($G14="Weekly",IF(MOD(I$4-$H14,7)=0,"X",""),IF($G14="fortnightly",IF(MOD(I$4-$H14,14)=0,"X",""),IF($G14="Monthly",IF(DAY(I$4)=DAY($H14),"X",""),IF($G14="Two Monthly",IF(AND(DAY(I$4)=DAY($H14),MOD(MONTH(I$4)-MONTH($H14),2)=0),"X",""),IF($G14="Quarterly",IF(AND(DAY(I$4)=DAY($H14),MOD(MONTH(I$4)-MONTH($H14),3)=0),"X",""),IF($G14="Four Monthly",IF(AND(DAY(I$4)=DAY($H14),MOD(MONTH(I$4)-MONTH($H14),4)=0),"X",""),IF($G14="Half Yearly",IF(AND(DAY(I$4)=DAY($H14),MOD(MONTH(I$4)-MONTH($H14),6)=0),"X",""),IF($G14="Yearly",IF(AND(DAY(I$4)=DAY($H14),MONTH(I$4)=MONTH($H14)),"X",""),"")))))))))),"") | J14: =IFERROR(IF(OR($H14="",$G14=""),"",IF($G14="Daily",IF(J$4>=$H14,"X",""),IF($G14="Weekly",IF(MOD(J$4-$H14,7)=0,"X",""),IF($G14="fortnightly",IF(MOD(J$4-$H14,14)=0,"X",""),IF($G14="Monthly",IF(DAY(J$4)=DAY($H14),"X",""),IF($G14="Two Monthly",IF(AND(DAY(J$4)=DAY($H14),MOD(MONTH(J$4)-MONTH($H14),2)=0),"X",""),IF($G14="Quarterly",IF(AND(DAY(J$4)=DAY($H14),MOD(MONTH(J$4)-MONTH($H14),3)=0),"X",""),IF($G14="Four Monthly",IF(AND(DAY(J$4)=DAY($H14),MOD(MONTH(J$4)-MONTH($H14),4)=0),"X",""),IF($G14="Half Yearly",IF(AND(DAY(J$4)=DAY($H14),MOD(MONTH(J$4)-MONTH($H14),6)=0),"X",""),IF($G14="Yearly",IF(AND(DAY(J$4)=DAY($H14),MONTH(J$4)=MONTH($H14)),"X",""),"")))))))))),"") | K14: =IFERROR(IF(OR($H14="",$G14=""),"",IF($G14="Daily",IF(K$4>=$H14,"X",""),IF($G14="Weekly",IF(MOD(K$4-$H14,7)=0,"X",""),IF($G14="fortnightly",IF(MOD(K$4-$H14,14)=0,"X",""),IF($G14="Monthly",IF(DAY(K$4)=DAY($H14),"X",""),IF($G14="Two Monthly",IF(AND(DAY(K$4)=DAY($H14),MOD(MONTH(K$4)-MONTH($H14),2)=0),"X",""),IF($G14="Quarterly",IF(AND(DAY(K$4)=DAY($H14),MOD(MONTH(K$4)-MONTH($H14),3)=0),"X",""),IF($G14="Four Monthly",IF(AND(DAY(K$4)=DAY($H14),MOD(MONTH(K$4)-MONTH($H14),4)=0),"X",""),IF($G14="Half Yearly",IF(AND(DAY(K$4)=DAY($H14),MOD(MONTH(K$4)-MONTH($H14),6)=0),"X",""),IF($G14="Yearly",IF(AND(DAY(K$4)=DAY($H14),MONTH(K$4)=MONTH($H14)),"X",""),"")))))))))),"") | L14: =IFERROR(IF(OR($H14="",$G14=""),"",IF($G14="Daily",IF(L$4>=$H14,"X",""),IF($G14="Weekly",IF(MOD(L$4-$H14,7)=0,"X",""),IF($G14="fortnightly",IF(MOD(L$4-$H14,14)=0,"X",""),IF($G14="Monthly",IF(DAY(L$4)=DAY($H14),"X",""),IF($G14="Two Monthly",IF(AND(DAY(L$4)=DAY($H14),MOD(MONTH(L$4)-MONTH($H14),2)=0),"X",""),IF($G14="Quarterly",IF(AND(DAY(L$4)=DAY($H14),MOD(MONTH(L$4)-MONTH($H14),3)=0),"X",""),IF($G14="Four Monthly",IF(AND(DAY(L$4)=DAY($H14),MOD(MONTH(L$4)-MONTH($H14),4)=0),"X",""),IF($G14="Half Yearly",IF(AND(DAY(L$4)=DAY($H14),MOD(MONTH(L$4)-MONTH($H14),6)=0),"X",""),IF($G14="Yearly",IF(AND(DAY(L$4)=DAY($H14),MONTH(L$4)=MONTH($H14)),"X",""),"")))))))))),"") | M14: =IFERROR(IF(OR($H14="",$G14=""),"",IF($G14="Daily",IF(M$4>=$H14,"X",""),IF($G14="Weekly",IF(MOD(M$4-$H14,7)=0,"X",""),IF($G14="fortnightly",IF(MOD(M$4-$H14,14)=0,"X",""),IF($G14="Monthly",IF(DAY(M$4)=DAY($H14),"X",""),IF($G14="Two Monthly",IF(AND(DAY(M$4)=DAY($H14),MOD(MONTH(M$4)-MONTH($H14),2)=0),"X",""),IF($G14="Quarterly",IF(AND(DAY(M$4)=DAY($H14),MOD(MONTH(M$4)-MONTH($H14),3)=0),"X",""),IF($G14="Four Monthly",IF(AND(DAY(M$4)=DAY($H14),MOD(MONTH(M$4)-MONTH($H14),4)=0),"X",""),IF($G14="Half Yearly",IF(AND(DAY(M$4)=DAY($H14),MOD(MONTH(M$4)-MONTH($H14),6)=0),"X",""),IF($G14="Yearly",IF(AND(DAY(M$4)=DAY($H14),MONTH(M$4)=MONTH($H14)),"X",""),"")))))))))),"") | N14: =IFERROR(IF(OR($H14="",$G14=""),"",IF($G14="Daily",IF(N$4>=$H14,"X",""),IF($G14="Weekly",IF(MOD(N$4-$H14,7)=0,"X",""),IF($G14="fortnightly",IF(MOD(N$4-$H14,14)=0,"X",""),IF($G14="Monthly",IF(DAY(N$4)=DAY($H14),"X",""),IF($G14="Two Monthly",IF(AND(DAY(N$4)=DAY($H14),MOD(MONTH(N$4)-MONTH($H14),2)=0),"X",""),IF($G14="Quarterly",IF(AND(DAY(N$4)=DAY($H14),MOD(MONTH(N$4)-MONTH($H14),3)=0),"X",""),IF($G14="Four Monthly",IF(AND(DAY(N$4)=DAY($H14),MOD(MONTH(N$4)-MONTH($H14),4)=0),"X",""),IF($G14="Half Yearly",IF(AND(DAY(N$4)=DAY($H14),MOD(MONTH(N$4)-MONTH($H14),6)=0),"X",""),IF($G14="Yearly",IF(AND(DAY(N$4)=DAY($H14),MONTH(N$4)=MONTH($H14)),"X",""),"")))))))))),"") | O14: =IFERROR(IF(OR($H14="",$G14=""),"",IF($G14="Daily",IF(O$4>=$H14,"X",""),IF($G14="Weekly",IF(MOD(O$4-$H14,7)=0,"X",""),IF($G14="fortnightly",IF(MOD(O$4-$H14,14)=0,"X",""),IF($G14="Monthly",IF(DAY(O$4)=DAY($H14),"X",""),IF($G14="Two Monthly",IF(AND(DAY(O$4)=DAY($H14),MOD(MONTH(O$4)-MONTH($H14),2)=0),"X",""),IF($G14="Quarterly",IF(AND(DAY(O$4)=DAY($H14),MOD(MONTH(O$4)-MONTH($H14),3)=0),"X",""),IF($G14="Four Monthly",IF(AND(DAY(O$4)=DAY($H14),MOD(MONTH(O$4)-MONTH($H14),4)=0),"X",""),IF($G14="Half Yearly",IF(AND(DAY(O$4)=DAY($H14),MOD(MONTH(O$4)-MONTH($H14),6)=0),"X",""),IF($G14="Yearly",IF(AND(DAY(O$4)=DAY($H14),MONTH(O$4)=MONTH($H14)),"X",""),"")))))))))),"") | P14: =IFERROR(IF(OR($H14="",$G14=""),"",IF($G14="Daily",IF(P$4>=$H14,"X",""),IF($G14="Weekly",IF(MOD(P$4-$H14,7)=0,"X",""),IF($G14="fortnightly",IF(MOD(P$4-$H14,14)=0,"X",""),IF($G14="Monthly",IF(DAY(P$4)=DAY($H14),"X",""),IF($G14="Two Monthly",IF(AND(DAY(P$4)=DAY($H14),MOD(MONTH(P$4)-MONTH($H14),2)=0),"X",""),IF($G14="Quarterly",IF(AND(DAY(P$4)=DAY($H14),MOD(MONTH(P$4)-MONTH($H14),3)=0),"X",""),IF($G14="Four Monthly",IF(AND(DAY(P$4)=DAY($H14),MOD(MONTH(P$4)-MONTH($H14),4)=0),"X",""),IF($G14="Half Yearly",IF(AND(DAY(P$4)=DAY($H14),MOD(MONTH(P$4)-MONTH($H14),6)=0),"X",""),IF($G14="Yearly",IF(AND(DAY(P$4)=DAY($H14),MONTH(P$4)=MONTH($H14)),"X",""),"")))))))))),"") -> X | ... NJ14: =IFERROR(IF(OR($H14="",$G14=""),"",IF($G14="Daily",IF(NJ$4>=$H14,"X",""),IF($G14="Weekly",IF(MOD(NJ$4-$H14,7)=0,"X",""),IF($G14="fortnightly",IF(MOD(NJ$4-$H14,14)=0,"X",""),IF($G14="Monthly",IF(DAY(NJ$4)=DAY($H14),"X",""),IF($G14="Two Monthly",IF(AND(DAY(NJ$4)=DAY($H14),MOD(MONTH(NJ$4)-MONTH($H14),2)=0),"X",""),IF($G14="Quarterly",IF(AND(DAY(NJ$4)=DAY($H14),MOD(MONTH(NJ$4)-MONTH($H14),3)=0),"X",""),IF($G14="Four Monthly",IF(AND(DAY(NJ$4)=DAY($H14),MOD(MONTH(NJ$4)-MONTH($H14),4)=0),"X",""),IF($G14="Half Yearly",IF(AND(DAY(NJ$4)=DAY($H14),MOD(MONTH(NJ$4)-MONTH($H14),6)=0),"X",""),IF($G14="Yearly",IF(AND(DAY(NJ$4)=DAY($H14),MONTH(NJ$4)=MONTH($H14)),"X",""),"")))))))))),"")
B15: 9 | C15: EQ 009 | D15: Equipment 9 | E15: Part 3 | F15: Zone 3 | G15: Yearly | H15: 46031 | I15: =IFERROR(IF(OR($H15="",$G15=""),"",IF($G15="Daily",IF(I$4>=$H15,"X",""),IF($G15="Weekly",IF(MOD(I$4-$H15,7)=0,"X",""),IF($G15="fortnightly",IF(MOD(I$4-$H15,14)=0,"X",""),IF($G15="Monthly",IF(DAY(I$4)=DAY($H15),"X",""),IF($G15="Two Monthly",IF(AND(DAY(I$4)=DAY($H15),MOD(MONTH(I$4)-MONTH($H15),2)=0),"X",""),IF($G15="Quarterly",IF(AND(DAY(I$4)=DAY($H15),MOD(MONTH(I$4)-MONTH($H15),3)=0),"X",""),IF($G15="Four Monthly",IF(AND(DAY(I$4)=DAY($H15),MOD(MONTH(I$4)-MONTH($H15),4)=0),"X",""),IF($G15="Half Yearly",IF(AND(DAY(I$4)=DAY($H15),MOD(MONTH(I$4)-MONTH($H15),6)=0),"X",""),IF($G15="Yearly",IF(AND(DAY(I$4)=DAY($H15),MONTH(I$4)=MONTH($H15)),"X",""),"")))))))))),"") | J15: =IFERROR(IF(OR($H15="",$G15=""),"",IF($G15="Daily",IF(J$4>=$H15,"X",""),IF($G15="Weekly",IF(MOD(J$4-$H15,7)=0,"X",""),IF($G15="fortnightly",IF(MOD(J$4-$H15,14)=0,"X",""),IF($G15="Monthly",IF(DAY(J$4)=DAY($H15),"X",""),IF($G15="Two Monthly",IF(AND(DAY(J$4)=DAY($H15),MOD(MONTH(J$4)-MONTH($H15),2)=0),"X",""),IF($G15="Quarterly",IF(AND(DAY(J$4)=DAY($H15),MOD(MONTH(J$4)-MONTH($H15),3)=0),"X",""),IF($G15="Four Monthly",IF(AND(DAY(J$4)=DAY($H15),MOD(MONTH(J$4)-MONTH($H15),4)=0),"X",""),IF($G15="Half Yearly",IF(AND(DAY(J$4)=DAY($H15),MOD(MONTH(J$4)-MONTH($H15),6)=0),"X",""),IF($G15="Yearly",IF(AND(DAY(J$4)=DAY($H15),MONTH(J$4)=MONTH($H15)),"X",""),"")))))))))),"") | K15: =IFERROR(IF(OR($H15="",$G15=""),"",IF($G15="Daily",IF(K$4>=$H15,"X",""),IF($G15="Weekly",IF(MOD(K$4-$H15,7)=0,"X",""),IF($G15="fortnightly",IF(MOD(K$4-$H15,14)=0,"X",""),IF($G15="Monthly",IF(DAY(K$4)=DAY($H15),"X",""),IF($G15="Two Monthly",IF(AND(DAY(K$4)=DAY($H15),MOD(MONTH(K$4)-MONTH($H15),2)=0),"X",""),IF($G15="Quarterly",IF(AND(DAY(K$4)=DAY($H15),MOD(MONTH(K$4)-MONTH($H15),3)=0),"X",""),IF($G15="Four Monthly",IF(AND(DAY(K$4)=DAY($H15),MOD(MONTH(K$4)-MONTH($H15),4)=0),"X",""),IF($G15="Half Yearly",IF(AND(DAY(K$4)=DAY($H15),MOD(MONTH(K$4)-MONTH($H15),6)=0),"X",""),IF($G15="Yearly",IF(AND(DAY(K$4)=DAY($H15),MONTH(K$4)=MONTH($H15)),"X",""),"")))))))))),"") | L15: =IFERROR(IF(OR($H15="",$G15=""),"",IF($G15="Daily",IF(L$4>=$H15,"X",""),IF($G15="Weekly",IF(MOD(L$4-$H15,7)=0,"X",""),IF($G15="fortnightly",IF(MOD(L$4-$H15,14)=0,"X",""),IF($G15="Monthly",IF(DAY(L$4)=DAY($H15),"X",""),IF($G15="Two Monthly",IF(AND(DAY(L$4)=DAY($H15),MOD(MONTH(L$4)-MONTH($H15),2)=0),"X",""),IF($G15="Quarterly",IF(AND(DAY(L$4)=DAY($H15),MOD(MONTH(L$4)-MONTH($H15),3)=0),"X",""),IF($G15="Four Monthly",IF(AND(DAY(L$4)=DAY($H15),MOD(MONTH(L$4)-MONTH($H15),4)=0),"X",""),IF($G15="Half Yearly",IF(AND(DAY(L$4)=DAY($H15),MOD(MONTH(L$4)-MONTH($H15),6)=0),"X",""),IF($G15="Yearly",IF(AND(DAY(L$4)=DAY($H15),MONTH(L$4)=MONTH($H15)),"X",""),"")))))))))),"") | M15: =IFERROR(IF(OR($H15="",$G15=""),"",IF($G15="Daily",IF(M$4>=$H15,"X",""),IF($G15="Weekly",IF(MOD(M$4-$H15,7)=0,"X",""),IF($G15="fortnightly",IF(MOD(M$4-$H15,14)=0,"X",""),IF($G15="Monthly",IF(DAY(M$4)=DAY($H15),"X",""),IF($G15="Two Monthly",IF(AND(DAY(M$4)=DAY($H15),MOD(MONTH(M$4)-MONTH($H15),2)=0),"X",""),IF($G15="Quarterly",IF(AND(DAY(M$4)=DAY($H15),MOD(MONTH(M$4)-MONTH($H15),3)=0),"X",""),IF($G15="Four Monthly",IF(AND(DAY(M$4)=DAY($H15),MOD(MONTH(M$4)-MONTH($H15),4)=0),"X",""),IF($G15="Half Yearly",IF(AND(DAY(M$4)=DAY($H15),MOD(MONTH(M$4)-MONTH($H15),6)=0),"X",""),IF($G15="Yearly",IF(AND(DAY(M$4)=DAY($H15),MONTH(M$4)=MONTH($H15)),"X",""),"")))))))))),"") | N15: =IFERROR(IF(OR($H15="",$G15=""),"",IF($G15="Daily",IF(N$4>=$H15,"X",""),IF($G15="Weekly",IF(MOD(N$4-$H15,7)=0,"X",""),IF($G15="fortnightly",IF(MOD(N$4-$H15,14)=0,"X",""),IF($G15="Monthly",IF(DAY(N$4)=DAY($H15),"X",""),IF($G15="Two Monthly",IF(AND(DAY(N$4)=DAY($H15),MOD(MONTH(N$4)-MONTH($H15),2)=0),"X",""),IF($G15="Quarterly",IF(AND(DAY(N$4)=DAY($H15),MOD(MONTH(N$4)-MONTH($H15),3)=0),"X",""),IF($G15="Four Monthly",IF(AND(DAY(N$4)=DAY($H15),MOD(MONTH(N$4)-MONTH($H15),4)=0),"X",""),IF($G15="Half Yearly",IF(AND(DAY(N$4)=DAY($H15),MOD(MONTH(N$4)-MONTH($H15),6)=0),"X",""),IF($G15="Yearly",IF(AND(DAY(N$4)=DAY($H15),MONTH(N$4)=MONTH($H15)),"X",""),"")))))))))),"") | O15: =IFERROR(IF(OR($H15="",$G15=""),"",IF($G15="Daily",IF(O$4>=$H15,"X",""),IF($G15="Weekly",IF(MOD(O$4-$H15,7)=0,"X",""),IF($G15="fortnightly",IF(MOD(O$4-$H15,14)=0,"X",""),IF($G15="Monthly",IF(DAY(O$4)=DAY($H15),"X",""),IF($G15="Two Monthly",IF(AND(DAY(O$4)=DAY($H15),MOD(MONTH(O$4)-MONTH($H15),2)=0),"X",""),IF($G15="Quarterly",IF(AND(DAY(O$4)=DAY($H15),MOD(MONTH(O$4)-MONTH($H15),3)=0),"X",""),IF($G15="Four Monthly",IF(AND(DAY(O$4)=DAY($H15),MOD(MONTH(O$4)-MONTH($H15),4)=0),"X",""),IF($G15="Half Yearly",IF(AND(DAY(O$4)=DAY($H15),MOD(MONTH(O$4)-MONTH($H15),6)=0),"X",""),IF($G15="Yearly",IF(AND(DAY(O$4)=DAY($H15),MONTH(O$4)=MONTH($H15)),"X",""),"")))))))))),"") | P15: =IFERROR(IF(OR($H15="",$G15=""),"",IF($G15="Daily",IF(P$4>=$H15,"X",""),IF($G15="Weekly",IF(MOD(P$4-$H15,7)=0,"X",""),IF($G15="fortnightly",IF(MOD(P$4-$H15,14)=0,"X",""),IF($G15="Monthly",IF(DAY(P$4)=DAY($H15),"X",""),IF($G15="Two Monthly",IF(AND(DAY(P$4)=DAY($H15),MOD(MONTH(P$4)-MONTH($H15),2)=0),"X",""),IF($G15="Quarterly",IF(AND(DAY(P$4)=DAY($H15),MOD(MONTH(P$4)-MONTH($H15),3)=0),"X",""),IF($G15="Four Monthly",IF(AND(DAY(P$4)=DAY($H15),MOD(MONTH(P$4)-MONTH($H15),4)=0),"X",""),IF($G15="Half Yearly",IF(AND(DAY(P$4)=DAY($H15),MOD(MONTH(P$4)-MONTH($H15),6)=0),"X",""),IF($G15="Yearly",IF(AND(DAY(P$4)=DAY($H15),MONTH(P$4)=MONTH($H15)),"X",""),"")))))))))),"") | ... NJ15: =IFERROR(IF(OR($H15="",$G15=""),"",IF($G15="Daily",IF(NJ$4>=$H15,"X",""),IF($G15="Weekly",IF(MOD(NJ$4-$H15,7)=0,"X",""),IF($G15="fortnightly",IF(MOD(NJ$4-$H15,14)=0,"X",""),IF($G15="Monthly",IF(DAY(NJ$4)=DAY($H15),"X",""),IF($G15="Two Monthly",IF(AND(DAY(NJ$4)=DAY($H15),MOD(MONTH(NJ$4)-MONTH($H15),2)=0),"X",""),IF($G15="Quarterly",IF(AND(DAY(NJ$4)=DAY($H15),MOD(MONTH(NJ$4)-MONTH($H15),3)=0),"X",""),IF($G15="Four Monthly",IF(AND(DAY(NJ$4)=DAY($H15),MOD(MONTH(NJ$4)-MONTH($H15),4)=0),"X",""),IF($G15="Half Yearly",IF(AND(DAY(NJ$4)=DAY($H15),MOD(MONTH(NJ$4)-MONTH($H15),6)=0),"X",""),IF($G15="Yearly",IF(AND(DAY(NJ$4)=DAY($H15),MONTH(NJ$4)=MONTH($H15)),"X",""),"")))))))))),"")
I16: =IFERROR(IF(OR($H16="",$G16=""),"",IF($G16="Daily",IF(I$4>=$H16,"X",""),IF($G16="Weekly",IF(MOD(I$4-$H16,7)=0,"X",""),IF($G16="fortnightly",IF(MOD(I$4-$H16,14)=0,"X",""),IF($G16="Monthly",IF(DAY(I$4)=DAY($H16),"X",""),IF($G16="Two Monthly",IF(AND(DAY(I$4)=DAY($H16),MOD(MONTH(I$4)-MONTH($H16),2)=0),"X",""),IF($G16="Quarterly",IF(AND(DAY(I$4)=DAY($H16),MOD(MONTH(I$4)-MONTH($H16),3)=0),"X",""),IF($G16="Four Monthly",IF(AND(DAY(I$4)=DAY($H16),MOD(MONTH(I$4)-MONTH($H16),4)=0),"X",""),IF($G16="Half Yearly",IF(AND(DAY(I$4)=DAY($H16),MOD(MONTH(I$4)-MONTH($H16),6)=0),"X",""),IF($G16="Yearly",IF(AND(DAY(I$4)=DAY($H16),MONTH(I$4)=MONTH($H16)),"X",""),"")))))))))),"") | J16: =IFERROR(IF(OR($H16="",$G16=""),"",IF($G16="Daily",IF(J$4>=$H16,"X",""),IF($G16="Weekly",IF(MOD(J$4-$H16,7)=0,"X",""),IF($G16="fortnightly",IF(MOD(J$4-$H16,14)=0,"X",""),IF($G16="Monthly",IF(DAY(J$4)=DAY($H16),"X",""),IF($G16="Two Monthly",IF(AND(DAY(J$4)=DAY($H16),MOD(MONTH(J$4)-MONTH($H16),2)=0),"X",""),IF($G16="Quarterly",IF(AND(DAY(J$4)=DAY($H16),MOD(MONTH(J$4)-MONTH($H16),3)=0),"X",""),IF($G16="Four Monthly",IF(AND(DAY(J$4)=DAY($H16),MOD(MONTH(J$4)-MONTH($H16),4)=0),"X",""),IF($G16="Half Yearly",IF(AND(DAY(J$4)=DAY($H16),MOD(MONTH(J$4)-MONTH($H16),6)=0),"X",""),IF($G16="Yearly",IF(AND(DAY(J$4)=DAY($H16),MONTH(J$4)=MONTH($H16)),"X",""),"")))))))))),"") | K16: =IFERROR(IF(OR($H16="",$G16=""),"",IF($G16="Daily",IF(K$4>=$H16,"X",""),IF($G16="Weekly",IF(MOD(K$4-$H16,7)=0,"X",""),IF($G16="fortnightly",IF(MOD(K$4-$H16,14)=0,"X",""),IF($G16="Monthly",IF(DAY(K$4)=DAY($H16),"X",""),IF($G16="Two Monthly",IF(AND(DAY(K$4)=DAY($H16),MOD(MONTH(K$4)-MONTH($H16),2)=0),"X",""),IF($G16="Quarterly",IF(AND(DAY(K$4)=DAY($H16),MOD(MONTH(K$4)-MONTH($H16),3)=0),"X",""),IF($G16="Four Monthly",IF(AND(DAY(K$4)=DAY($H16),MOD(MONTH(K$4)-MONTH($H16),4)=0),"X",""),IF($G16="Half Yearly",IF(AND(DAY(K$4)=DAY($H16),MOD(MONTH(K$4)-MONTH($H16),6)=0),"X",""),IF($G16="Yearly",IF(AND(DAY(K$4)=DAY($H16),MONTH(K$4)=MONTH($H16)),"X",""),"")))))))))),"") | L16: =IFERROR(IF(OR($H16="",$G16=""),"",IF($G16="Daily",IF(L$4>=$H16,"X",""),IF($G16="Weekly",IF(MOD(L$4-$H16,7)=0,"X",""),IF($G16="fortnightly",IF(MOD(L$4-$H16,14)=0,"X",""),IF($G16="Monthly",IF(DAY(L$4)=DAY($H16),"X",""),IF($G16="Two Monthly",IF(AND(DAY(L$4)=DAY($H16),MOD(MONTH(L$4)-MONTH($H16),2)=0),"X",""),IF($G16="Quarterly",IF(AND(DAY(L$4)=DAY($H16),MOD(MONTH(L$4)-MONTH($H16),3)=0),"X",""),IF($G16="Four Monthly",IF(AND(DAY(L$4)=DAY($H16),MOD(MONTH(L$4)-MONTH($H16),4)=0),"X",""),IF($G16="Half Yearly",IF(AND(DAY(L$4)=DAY($H16),MOD(MONTH(L$4)-MONTH($H16),6)=0),"X",""),IF($G16="Yearly",IF(AND(DAY(L$4)=DAY($H16),MONTH(L$4)=MONTH($H16)),"X",""),"")))))))))),"") | M16: =IFERROR(IF(OR($H16="",$G16=""),"",IF($G16="Daily",IF(M$4>=$H16,"X",""),IF($G16="Weekly",IF(MOD(M$4-$H16,7)=0,"X",""),IF($G16="fortnightly",IF(MOD(M$4-$H16,14)=0,"X",""),IF($G16="Monthly",IF(DAY(M$4)=DAY($H16),"X",""),IF($G16="Two Monthly",IF(AND(DAY(M$4)=DAY($H16),MOD(MONTH(M$4)-MONTH($H16),2)=0),"X",""),IF($G16="Quarterly",IF(AND(DAY(M$4)=DAY($H16),MOD(MONTH(M$4)-MONTH($H16),3)=0),"X",""),IF($G16="Four Monthly",IF(AND(DAY(M$4)=DAY($H16),MOD(MONTH(M$4)-MONTH($H16),4)=0),"X",""),IF($G16="Half Yearly",IF(AND(DAY(M$4)=DAY($H16),MOD(MONTH(M$4)-MONTH($H16),6)=0),"X",""),IF($G16="Yearly",IF(AND(DAY(M$4)=DAY($H16),MONTH(M$4)=MONTH($H16)),"X",""),"")))))))))),"") | N16: =IFERROR(IF(OR($H16="",$G16=""),"",IF($G16="Daily",IF(N$4>=$H16,"X",""),IF($G16="Weekly",IF(MOD(N$4-$H16,7)=0,"X",""),IF($G16="fortnightly",IF(MOD(N$4-$H16,14)=0,"X",""),IF($G16="Monthly",IF(DAY(N$4)=DAY($H16),"X",""),IF($G16="Two Monthly",IF(AND(DAY(N$4)=DAY($H16),MOD(MONTH(N$4)-MONTH($H16),2)=0),"X",""),IF($G16="Quarterly",IF(AND(DAY(N$4)=DAY($H16),MOD(MONTH(N$4)-MONTH($H16),3)=0),"X",""),IF($G16="Four Monthly",IF(AND(DAY(N$4)=DAY($H16),MOD(MONTH(N$4)-MONTH($H16),4)=0),"X",""),IF($G16="Half Yearly",IF(AND(DAY(N$4)=DAY($H16),MOD(MONTH(N$4)-MONTH($H16),6)=0),"X",""),IF($G16="Yearly",IF(AND(DAY(N$4)=DAY($H16),MONTH(N$4)=MONTH($H16)),"X",""),"")))))))))),"") | O16: =IFERROR(IF(OR($H16="",$G16=""),"",IF($G16="Daily",IF(O$4>=$H16,"X",""),IF($G16="Weekly",IF(MOD(O$4-$H16,7)=0,"X",""),IF($G16="fortnightly",IF(MOD(O$4-$H16,14)=0,"X",""),IF($G16="Monthly",IF(DAY(O$4)=DAY($H16),"X",""),IF($G16="Two Monthly",IF(AND(DAY(O$4)=DAY($H16),MOD(MONTH(O$4)-MONTH($H16),2)=0),"X",""),IF($G16="Quarterly",IF(AND(DAY(O$4)=DAY($H16),MOD(MONTH(O$4)-MONTH($H16),3)=0),"X",""),IF($G16="Four Monthly",IF(AND(DAY(O$4)=DAY($H16),MOD(MONTH(O$4)-MONTH($H16),4)=0),"X",""),IF($G16="Half Yearly",IF(AND(DAY(O$4)=DAY($H16),MOD(MONTH(O$4)-MONTH($H16),6)=0),"X",""),IF($G16="Yearly",IF(AND(DAY(O$4)=DAY($H16),MONTH(O$4)=MONTH($H16)),"X",""),"")))))))))),"") | P16: =IFERROR(IF(OR($H16="",$G16=""),"",IF($G16="Daily",IF(P$4>=$H16,"X",""),IF($G16="Weekly",IF(MOD(P$4-$H16,7)=0,"X",""),IF($G16="fortnightly",IF(MOD(P$4-$H16,14)=0,"X",""),IF($G16="Monthly",IF(DAY(P$4)=DAY($H16),"X",""),IF($G16="Two Monthly",IF(AND(DAY(P$4)=DAY($H16),MOD(MONTH(P$4)-MONTH($H16),2)=0),"X",""),IF($G16="Quarterly",IF(AND(DAY(P$4)=DAY($H16),MOD(MONTH(P$4)-MONTH($H16),3)=0),"X",""),IF($G16="Four Monthly",IF(AND(DAY(P$4)=DAY($H16),MOD(MONTH(P$4)-MONTH($H16),4)=0),"X",""),IF($G16="Half Yearly",IF(AND(DAY(P$4)=DAY($H16),MOD(MONTH(P$4)-MONTH($H16),6)=0),"X",""),IF($G16="Yearly",IF(AND(DAY(P$4)=DAY($H16),MONTH(P$4)=MONTH($H16)),"X",""),"")))))))))),"") | ... NJ16: =IFERROR(IF(OR($H16="",$G16=""),"",IF($G16="Daily",IF(NJ$4>=$H16,"X",""),IF($G16="Weekly",IF(MOD(NJ$4-$H16,7)=0,"X",""),IF($G16="fortnightly",IF(MOD(NJ$4-$H16,14)=0,"X",""),IF($G16="Monthly",IF(DAY(NJ$4)=DAY($H16),"X",""),IF($G16="Two Monthly",IF(AND(DAY(NJ$4)=DAY($H16),MOD(MONTH(NJ$4)-MONTH($H16),2)=0),"X",""),IF($G16="Quarterly",IF(AND(DAY(NJ$4)=DAY($H16),MOD(MONTH(NJ$4)-MONTH($H16),3)=0),"X",""),IF($G16="Four Monthly",IF(AND(DAY(NJ$4)=DAY($H16),MOD(MONTH(NJ$4)-MONTH($H16),4)=0),"X",""),IF($G16="Half Yearly",IF(AND(DAY(NJ$4)=DAY($H16),MOD(MONTH(NJ$4)-MONTH($H16),6)=0),"X",""),IF($G16="Yearly",IF(AND(DAY(NJ$4)=DAY($H16),MONTH(NJ$4)=MONTH($H16)),"X",""),"")))))))))),"")
I17: =IFERROR(IF(OR($H17="",$G17=""),"",IF($G17="Daily",IF(I$4>=$H17,"X",""),IF($G17="Weekly",IF(MOD(I$4-$H17,7)=0,"X",""),IF($G17="fortnightly",IF(MOD(I$4-$H17,14)=0,"X",""),IF($G17="Monthly",IF(DAY(I$4)=DAY($H17),"X",""),IF($G17="Two Monthly",IF(AND(DAY(I$4)=DAY($H17),MOD(MONTH(I$4)-MONTH($H17),2)=0),"X",""),IF($G17="Quarterly",IF(AND(DAY(I$4)=DAY($H17),MOD(MONTH(I$4)-MONTH($H17),3)=0),"X",""),IF($G17="Four Monthly",IF(AND(DAY(I$4)=DAY($H17),MOD(MONTH(I$4)-MONTH($H17),4)=0),"X",""),IF($G17="Half Yearly",IF(AND(DAY(I$4)=DAY($H17),MOD(MONTH(I$4)-MONTH($H17),6)=0),"X",""),IF($G17="Yearly",IF(AND(DAY(I$4)=DAY($H17),MONTH(I$4)=MONTH($H17)),"X",""),"")))))))))),"") | J17: =IFERROR(IF(OR($H17="",$G17=""),"",IF($G17="Daily",IF(J$4>=$H17,"X",""),IF($G17="Weekly",IF(MOD(J$4-$H17,7)=0,"X",""),IF($G17="fortnightly",IF(MOD(J$4-$H17,14)=0,"X",""),IF($G17="Monthly",IF(DAY(J$4)=DAY($H17),"X",""),IF($G17="Two Monthly",IF(AND(DAY(J$4)=DAY($H17),MOD(MONTH(J$4)-MONTH($H17),2)=0),"X",""),IF($G17="Quarterly",IF(AND(DAY(J$4)=DAY($H17),MOD(MONTH(J$4)-MONTH($H17),3)=0),"X",""),IF($G17="Four Monthly",IF(AND(DAY(J$4)=DAY($H17),MOD(MONTH(J$4)-MONTH($H17),4)=0),"X",""),IF($G17="Half Yearly",IF(AND(DAY(J$4)=DAY($H17),MOD(MONTH(J$4)-MONTH($H17),6)=0),"X",""),IF($G17="Yearly",IF(AND(DAY(J$4)=DAY($H17),MONTH(J$4)=MONTH($H17)),"X",""),"")))))))))),"") | K17: =IFERROR(IF(OR($H17="",$G17=""),"",IF($G17="Daily",IF(K$4>=$H17,"X",""),IF($G17="Weekly",IF(MOD(K$4-$H17,7)=0,"X",""),IF($G17="fortnightly",IF(MOD(K$4-$H17,14)=0,"X",""),IF($G17="Monthly",IF(DAY(K$4)=DAY($H17),"X",""),IF($G17="Two Monthly",IF(AND(DAY(K$4)=DAY($H17),MOD(MONTH(K$4)-MONTH($H17),2)=0),"X",""),IF($G17="Quarterly",IF(AND(DAY(K$4)=DAY($H17),MOD(MONTH(K$4)-MONTH($H17),3)=0),"X",""),IF($G17="Four Monthly",IF(AND(DAY(K$4)=DAY($H17),MOD(MONTH(K$4)-MONTH($H17),4)=0),"X",""),IF($G17="Half Yearly",IF(AND(DAY(K$4)=DAY($H17),MOD(MONTH(K$4)-MONTH($H17),6)=0),"X",""),IF($G17="Yearly",IF(AND(DAY(K$4)=DAY($H17),MONTH(K$4)=MONTH($H17)),"X",""),"")))))))))),"") | L17: =IFERROR(IF(OR($H17="",$G17=""),"",IF($G17="Daily",IF(L$4>=$H17,"X",""),IF($G17="Weekly",IF(MOD(L$4-$H17,7)=0,"X",""),IF($G17="fortnightly",IF(MOD(L$4-$H17,14)=0,"X",""),IF($G17="Monthly",IF(DAY(L$4)=DAY($H17),"X",""),IF($G17="Two Monthly",IF(AND(DAY(L$4)=DAY($H17),MOD(MONTH(L$4)-MONTH($H17),2)=0),"X",""),IF($G17="Quarterly",IF(AND(DAY(L$4)=DAY($H17),MOD(MONTH(L$4)-MONTH($H17),3)=0),"X",""),IF($G17="Four Monthly",IF(AND(DAY(L$4)=DAY($H17),MOD(MONTH(L$4)-MONTH($H17),4)=0),"X",""),IF($G17="Half Yearly",IF(AND(DAY(L$4)=DAY($H17),MOD(MONTH(L$4)-MONTH($H17),6)=0),"X",""),IF($G17="Yearly",IF(AND(DAY(L$4)=DAY($H17),MONTH(L$4)=MONTH($H17)),"X",""),"")))))))))),"") | M17: =IFERROR(IF(OR($H17="",$G17=""),"",IF($G17="Daily",IF(M$4>=$H17,"X",""),IF($G17="Weekly",IF(MOD(M$4-$H17,7)=0,"X",""),IF($G17="fortnightly",IF(MOD(M$4-$H17,14)=0,"X",""),IF($G17="Monthly",IF(DAY(M$4)=DAY($H17),"X",""),IF($G17="Two Monthly",IF(AND(DAY(M$4)=DAY($H17),MOD(MONTH(M$4)-MONTH($H17),2)=0),"X",""),IF($G17="Quarterly",IF(AND(DAY(M$4)=DAY($H17),MOD(MONTH(M$4)-MONTH($H17),3)=0),"X",""),IF($G17="Four Monthly",IF(AND(DAY(M$4)=DAY($H17),MOD(MONTH(M$4)-MONTH($H17),4)=0),"X",""),IF($G17="Half Yearly",IF(AND(DAY(M$4)=DAY($H17),MOD(MONTH(M$4)-MONTH($H17),6)=0),"X",""),IF($G17="Yearly",IF(AND(DAY(M$4)=DAY($H17),MONTH(M$4)=MONTH($H17)),"X",""),"")))))))))),"") | N17: =IFERROR(IF(OR($H17="",$G17=""),"",IF($G17="Daily",IF(N$4>=$H17,"X",""),IF($G17="Weekly",IF(MOD(N$4-$H17,7)=0,"X",""),IF($G17="fortnightly",IF(MOD(N$4-$H17,14)=0,"X",""),IF($G17="Monthly",IF(DAY(N$4)=DAY($H17),"X",""),IF($G17="Two Monthly",IF(AND(DAY(N$4)=DAY($H17),MOD(MONTH(N$4)-MONTH($H17),2)=0),"X",""),IF($G17="Quarterly",IF(AND(DAY(N$4)=DAY($H17),MOD(MONTH(N$4)-MONTH($H17),3)=0),"X",""),IF($G17="Four Monthly",IF(AND(DAY(N$4)=DAY($H17),MOD(MONTH(N$4)-MONTH($H17),4)=0),"X",""),IF($G17="Half Yearly",IF(AND(DAY(N$4)=DAY($H17),MOD(MONTH(N$4)-MONTH($H17),6)=0),"X",""),IF($G17="Yearly",IF(AND(DAY(N$4)=DAY($H17),MONTH(N$4)=MONTH($H17)),"X",""),"")))))))))),"") | O17: =IFERROR(IF(OR($H17="",$G17=""),"",IF($G17="Daily",IF(O$4>=$H17,"X",""),IF($G17="Weekly",IF(MOD(O$4-$H17,7)=0,"X",""),IF($G17="fortnightly",IF(MOD(O$4-$H17,14)=0,"X",""),IF($G17="Monthly",IF(DAY(O$4)=DAY($H17),"X",""),IF($G17="Two Monthly",IF(AND(DAY(O$4)=DAY($H17),MOD(MONTH(O$4)-MONTH($H17),2)=0),"X",""),IF($G17="Quarterly",IF(AND(DAY(O$4)=DAY($H17),MOD(MONTH(O$4)-MONTH($H17),3)=0),"X",""),IF($G17="Four Monthly",IF(AND(DAY(O$4)=DAY($H17),MOD(MONTH(O$4)-MONTH($H17),4)=0),"X",""),IF($G17="Half Yearly",IF(AND(DAY(O$4)=DAY($H17),MOD(MONTH(O$4)-MONTH($H17),6)=0),"X",""),IF($G17="Yearly",IF(AND(DAY(O$4)=DAY($H17),MONTH(O$4)=MONTH($H17)),"X",""),"")))))))))),"") | P17: =IFERROR(IF(OR($H17="",$G17=""),"",IF($G17="Daily",IF(P$4>=$H17,"X",""),IF($G17="Weekly",IF(MOD(P$4-$H17,7)=0,"X",""),IF($G17="fortnightly",IF(MOD(P$4-$H17,14)=0,"X",""),IF($G17="Monthly",IF(DAY(P$4)=DAY($H17),"X",""),IF($G17="Two Monthly",IF(AND(DAY(P$4)=DAY($H17),MOD(MONTH(P$4)-MONTH($H17),2)=0),"X",""),IF($G17="Quarterly",IF(AND(DAY(P$4)=DAY($H17),MOD(MONTH(P$4)-MONTH($H17),3)=0),"X",""),IF($G17="Four Monthly",IF(AND(DAY(P$4)=DAY($H17),MOD(MONTH(P$4)-MONTH($H17),4)=0),"X",""),IF($G17="Half Yearly",IF(AND(DAY(P$4)=DAY($H17),MOD(MONTH(P$4)-MONTH($H17),6)=0),"X",""),IF($G17="Yearly",IF(AND(DAY(P$4)=DAY($H17),MONTH(P$4)=MONTH($H17)),"X",""),"")))))))))),"") | ... NJ17: =IFERROR(IF(OR($H17="",$G17=""),"",IF($G17="Daily",IF(NJ$4>=$H17,"X",""),IF($G17="Weekly",IF(MOD(NJ$4-$H17,7)=0,"X",""),IF($G17="fortnightly",IF(MOD(NJ$4-$H17,14)=0,"X",""),IF($G17="Monthly",IF(DAY(NJ$4)=DAY($H17),"X",""),IF($G17="Two Monthly",IF(AND(DAY(NJ$4)=DAY($H17),MOD(MONTH(NJ$4)-MONTH($H17),2)=0),"X",""),IF($G17="Quarterly",IF(AND(DAY(NJ$4)=DAY($H17),MOD(MONTH(NJ$4)-MONTH($H17),3)=0),"X",""),IF($G17="Four Monthly",IF(AND(DAY(NJ$4)=DAY($H17),MOD(MONTH(NJ$4)-MONTH($H17),4)=0),"X",""),IF($G17="Half Yearly",IF(AND(DAY(NJ$4)=DAY($H17),MOD(MONTH(NJ$4)-MONTH($H17),6)=0),"X",""),IF($G17="Yearly",IF(AND(DAY(NJ$4)=DAY($H17),MONTH(NJ$4)=MONTH($H17)),"X",""),"")))))))))),"")
I18: =IFERROR(IF(OR($H18="",$G18=""),"",IF($G18="Daily",IF(I$4>=$H18,"X",""),IF($G18="Weekly",IF(MOD(I$4-$H18,7)=0,"X",""),IF($G18="fortnightly",IF(MOD(I$4-$H18,14)=0,"X",""),IF($G18="Monthly",IF(DAY(I$4)=DAY($H18),"X",""),IF($G18="Two Monthly",IF(AND(DAY(I$4)=DAY($H18),MOD(MONTH(I$4)-MONTH($H18),2)=0),"X",""),IF($G18="Quarterly",IF(AND(DAY(I$4)=DAY($H18),MOD(MONTH(I$4)-MONTH($H18),3)=0),"X",""),IF($G18="Four Monthly",IF(AND(DAY(I$4)=DAY($H18),MOD(MONTH(I$4)-MONTH($H18),4)=0),"X",""),IF($G18="Half Yearly",IF(AND(DAY(I$4)=DAY($H18),MOD(MONTH(I$4)-MONTH($H18),6)=0),"X",""),IF($G18="Yearly",IF(AND(DAY(I$4)=DAY($H18),MONTH(I$4)=MONTH($H18)),"X",""),"")))))))))),"") | J18: =IFERROR(IF(OR($H18="",$G18=""),"",IF($G18="Daily",IF(J$4>=$H18,"X",""),IF($G18="Weekly",IF(MOD(J$4-$H18,7)=0,"X",""),IF($G18="fortnightly",IF(MOD(J$4-$H18,14)=0,"X",""),IF($G18="Monthly",IF(DAY(J$4)=DAY($H18),"X",""),IF($G18="Two Monthly",IF(AND(DAY(J$4)=DAY($H18),MOD(MONTH(J$4)-MONTH($H18),2)=0),"X",""),IF($G18="Quarterly",IF(AND(DAY(J$4)=DAY($H18),MOD(MONTH(J$4)-MONTH($H18),3)=0),"X",""),IF($G18="Four Monthly",IF(AND(DAY(J$4)=DAY($H18),MOD(MONTH(J$4)-MONTH($H18),4)=0),"X",""),IF($G18="Half Yearly",IF(AND(DAY(J$4)=DAY($H18),MOD(MONTH(J$4)-MONTH($H18),6)=0),"X",""),IF($G18="Yearly",IF(AND(DAY(J$4)=DAY($H18),MONTH(J$4)=MONTH($H18)),"X",""),"")))))))))),"") | K18: =IFERROR(IF(OR($H18="",$G18=""),"",IF($G18="Daily",IF(K$4>=$H18,"X",""),IF($G18="Weekly",IF(MOD(K$4-$H18,7)=0,"X",""),IF($G18="fortnightly",IF(MOD(K$4-$H18,14)=0,"X",""),IF($G18="Monthly",IF(DAY(K$4)=DAY($H18),"X",""),IF($G18="Two Monthly",IF(AND(DAY(K$4)=DAY($H18),MOD(MONTH(K$4)-MONTH($H18),2)=0),"X",""),IF($G18="Quarterly",IF(AND(DAY(K$4)=DAY($H18),MOD(MONTH(K$4)-MONTH($H18),3)=0),"X",""),IF($G18="Four Monthly",IF(AND(DAY(K$4)=DAY($H18),MOD(MONTH(K$4)-MONTH($H18),4)=0),"X",""),IF($G18="Half Yearly",IF(AND(DAY(K$4)=DAY($H18),MOD(MONTH(K$4)-MONTH($H18),6)=0),"X",""),IF($G18="Yearly",IF(AND(DAY(K$4)=DAY($H18),MONTH(K$4)=MONTH($H18)),"X",""),"")))))))))),"") | L18: =IFERROR(IF(OR($H18="",$G18=""),"",IF($G18="Daily",IF(L$4>=$H18,"X",""),IF($G18="Weekly",IF(MOD(L$4-$H18,7)=0,"X",""),IF($G18="fortnightly",IF(MOD(L$4-$H18,14)=0,"X",""),IF($G18="Monthly",IF(DAY(L$4)=DAY($H18),"X",""),IF($G18="Two Monthly",IF(AND(DAY(L$4)=DAY($H18),MOD(MONTH(L$4)-MONTH($H18),2)=0),"X",""),IF($G18="Quarterly",IF(AND(DAY(L$4)=DAY($H18),MOD(MONTH(L$4)-MONTH($H18),3)=0),"X",""),IF($G18="Four Monthly",IF(AND(DAY(L$4)=DAY($H18),MOD(MONTH(L$4)-MONTH($H18),4)=0),"X",""),IF($G18="Half Yearly",IF(AND(DAY(L$4)=DAY($H18),MOD(MONTH(L$4)-MONTH($H18),6)=0),"X",""),IF($G18="Yearly",IF(AND(DAY(L$4)=DAY($H18),MONTH(L$4)=MONTH($H18)),"X",""),"")))))))))),"") | M18: =IFERROR(IF(OR($H18="",$G18=""),"",IF($G18="Daily",IF(M$4>=$H18,"X",""),IF($G18="Weekly",IF(MOD(M$4-$H18,7)=0,"X",""),IF($G18="fortnightly",IF(MOD(M$4-$H18,14)=0,"X",""),IF($G18="Monthly",IF(DAY(M$4)=DAY($H18),"X",""),IF($G18="Two Monthly",IF(AND(DAY(M$4)=DAY($H18),MOD(MONTH(M$4)-MONTH($H18),2)=0),"X",""),IF($G18="Quarterly",IF(AND(DAY(M$4)=DAY($H18),MOD(MONTH(M$4)-MONTH($H18),3)=0),"X",""),IF($G18="Four Monthly",IF(AND(DAY(M$4)=DAY($H18),MOD(MONTH(M$4)-MONTH($H18),4)=0),"X",""),IF($G18="Half Yearly",IF(AND(DAY(M$4)=DAY($H18),MOD(MONTH(M$4)-MONTH($H18),6)=0),"X",""),IF($G18="Yearly",IF(AND(DAY(M$4)=DAY($H18),MONTH(M$4)=MONTH($H18)),"X",""),"")))))))))),"") | N18: =IFERROR(IF(OR($H18="",$G18=""),"",IF($G18="Daily",IF(N$4>=$H18,"X",""),IF($G18="Weekly",IF(MOD(N$4-$H18,7)=0,"X",""),IF($G18="fortnightly",IF(MOD(N$4-$H18,14)=0,"X",""),IF($G18="Monthly",IF(DAY(N$4)=DAY($H18),"X",""),IF($G18="Two Monthly",IF(AND(DAY(N$4)=DAY($H18),MOD(MONTH(N$4)-MONTH($H18),2)=0),"X",""),IF($G18="Quarterly",IF(AND(DAY(N$4)=DAY($H18),MOD(MONTH(N$4)-MONTH($H18),3)=0),"X",""),IF($G18="Four Monthly",IF(AND(DAY(N$4)=DAY($H18),MOD(MONTH(N$4)-MONTH($H18),4)=0),"X",""),IF($G18="Half Yearly",IF(AND(DAY(N$4)=DAY($H18),MOD(MONTH(N$4)-MONTH($H18),6)=0),"X",""),IF($G18="Yearly",IF(AND(DAY(N$4)=DAY($H18),MONTH(N$4)=MONTH($H18)),"X",""),"")))))))))),"") | O18: =IFERROR(IF(OR($H18="",$G18=""),"",IF($G18="Daily",IF(O$4>=$H18,"X",""),IF($G18="Weekly",IF(MOD(O$4-$H18,7)=0,"X",""),IF($G18="fortnightly",IF(MOD(O$4-$H18,14)=0,"X",""),IF($G18="Monthly",IF(DAY(O$4)=DAY($H18),"X",""),IF($G18="Two Monthly",IF(AND(DAY(O$4)=DAY($H18),MOD(MONTH(O$4)-MONTH($H18),2)=0),"X",""),IF($G18="Quarterly",IF(AND(DAY(O$4)=DAY($H18),MOD(MONTH(O$4)-MONTH($H18),3)=0),"X",""),IF($G18="Four Monthly",IF(AND(DAY(O$4)=DAY($H18),MOD(MONTH(O$4)-MONTH($H18),4)=0),"X",""),IF($G18="Half Yearly",IF(AND(DAY(O$4)=DAY($H18),MOD(MONTH(O$4)-MONTH($H18),6)=0),"X",""),IF($G18="Yearly",IF(AND(DAY(O$4)=DAY($H18),MONTH(O$4)=MONTH($H18)),"X",""),"")))))))))),"") | P18: =IFERROR(IF(OR($H18="",$G18=""),"",IF($G18="Daily",IF(P$4>=$H18,"X",""),IF($G18="Weekly",IF(MOD(P$4-$H18,7)=0,"X",""),IF($G18="fortnightly",IF(MOD(P$4-$H18,14)=0,"X",""),IF($G18="Monthly",IF(DAY(P$4)=DAY($H18),"X",""),IF($G18="Two Monthly",IF(AND(DAY(P$4)=DAY($H18),MOD(MONTH(P$4)-MONTH($H18),2)=0),"X",""),IF($G18="Quarterly",IF(AND(DAY(P$4)=DAY($H18),MOD(MONTH(P$4)-MONTH($H18),3)=0),"X",""),IF($G18="Four Monthly",IF(AND(DAY(P$4)=DAY($H18),MOD(MONTH(P$4)-MONTH($H18),4)=0),"X",""),IF($G18="Half Yearly",IF(AND(DAY(P$4)=DAY($H18),MOD(MONTH(P$4)-MONTH($H18),6)=0),"X",""),IF($G18="Yearly",IF(AND(DAY(P$4)=DAY($H18),MONTH(P$4)=MONTH($H18)),"X",""),"")))))))))),"") | ... NJ18: =IFERROR(IF(OR($H18="",$G18=""),"",IF($G18="Daily",IF(NJ$4>=$H18,"X",""),IF($G18="Weekly",IF(MOD(NJ$4-$H18,7)=0,"X",""),IF($G18="fortnightly",IF(MOD(NJ$4-$H18,14)=0,"X",""),IF($G18="Monthly",IF(DAY(NJ$4)=DAY($H18),"X",""),IF($G18="Two Monthly",IF(AND(DAY(NJ$4)=DAY($H18),MOD(MONTH(NJ$4)-MONTH($H18),2)=0),"X",""),IF($G18="Quarterly",IF(AND(DAY(NJ$4)=DAY($H18),MOD(MONTH(NJ$4)-MONTH($H18),3)=0),"X",""),IF($G18="Four Monthly",IF(AND(DAY(NJ$4)=DAY($H18),MOD(MONTH(NJ$4)-MONTH($H18),4)=0),"X",""),IF($G18="Half Yearly",IF(AND(DAY(NJ$4)=DAY($H18),MOD(MONTH(NJ$4)-MONTH($H18),6)=0),"X",""),IF($G18="Yearly",IF(AND(DAY(NJ$4)=DAY($H18),MONTH(NJ$4)=MONTH($H18)),"X",""),"")))))))))),"")
I19: =IFERROR(IF(OR($H19="",$G19=""),"",IF($G19="Daily",IF(I$4>=$H19,"X",""),IF($G19="Weekly",IF(MOD(I$4-$H19,7)=0,"X",""),IF($G19="fortnightly",IF(MOD(I$4-$H19,14)=0,"X",""),IF($G19="Monthly",IF(DAY(I$4)=DAY($H19),"X",""),IF($G19="Two Monthly",IF(AND(DAY(I$4)=DAY($H19),MOD(MONTH(I$4)-MONTH($H19),2)=0),"X",""),IF($G19="Quarterly",IF(AND(DAY(I$4)=DAY($H19),MOD(MONTH(I$4)-MONTH($H19),3)=0),"X",""),IF($G19="Four Monthly",IF(AND(DAY(I$4)=DAY($H19),MOD(MONTH(I$4)-MONTH($H19),4)=0),"X",""),IF($G19="Half Yearly",IF(AND(DAY(I$4)=DAY($H19),MOD(MONTH(I$4)-MONTH($H19),6)=0),"X",""),IF($G19="Yearly",IF(AND(DAY(I$4)=DAY($H19),MONTH(I$4)=MONTH($H19)),"X",""),"")))))))))),"") | J19: =IFERROR(IF(OR($H19="",$G19=""),"",IF($G19="Daily",IF(J$4>=$H19,"X",""),IF($G19="Weekly",IF(MOD(J$4-$H19,7)=0,"X",""),IF($G19="fortnightly",IF(MOD(J$4-$H19,14)=0,"X",""),IF($G19="Monthly",IF(DAY(J$4)=DAY($H19),"X",""),IF($G19="Two Monthly",IF(AND(DAY(J$4)=DAY($H19),MOD(MONTH(J$4)-MONTH($H19),2)=0),"X",""),IF($G19="Quarterly",IF(AND(DAY(J$4)=DAY($H19),MOD(MONTH(J$4)-MONTH($H19),3)=0),"X",""),IF($G19="Four Monthly",IF(AND(DAY(J$4)=DAY($H19),MOD(MONTH(J$4)-MONTH($H19),4)=0),"X",""),IF($G19="Half Yearly",IF(AND(DAY(J$4)=DAY($H19),MOD(MONTH(J$4)-MONTH($H19),6)=0),"X",""),IF($G19="Yearly",IF(AND(DAY(J$4)=DAY($H19),MONTH(J$4)=MONTH($H19)),"X",""),"")))))))))),"") | K19: =IFERROR(IF(OR($H19="",$G19=""),"",IF($G19="Daily",IF(K$4>=$H19,"X",""),IF($G19="Weekly",IF(MOD(K$4-$H19,7)=0,"X",""),IF($G19="fortnightly",IF(MOD(K$4-$H19,14)=0,"X",""),IF($G19="Monthly",IF(DAY(K$4)=DAY($H19),"X",""),IF($G19="Two Monthly",IF(AND(DAY(K$4)=DAY($H19),MOD(MONTH(K$4)-MONTH($H19),2)=0),"X",""),IF($G19="Quarterly",IF(AND(DAY(K$4)=DAY($H19),MOD(MONTH(K$4)-MONTH($H19),3)=0),"X",""),IF($G19="Four Monthly",IF(AND(DAY(K$4)=DAY($H19),MOD(MONTH(K$4)-MONTH($H19),4)=0),"X",""),IF($G19="Half Yearly",IF(AND(DAY(K$4)=DAY($H19),MOD(MONTH(K$4)-MONTH($H19),6)=0),"X",""),IF($G19="Yearly",IF(AND(DAY(K$4)=DAY($H19),MONTH(K$4)=MONTH($H19)),"X",""),"")))))))))),"") | L19: =IFERROR(IF(OR($H19="",$G19=""),"",IF($G19="Daily",IF(L$4>=$H19,"X",""),IF($G19="Weekly",IF(MOD(L$4-$H19,7)=0,"X",""),IF($G19="fortnightly",IF(MOD(L$4-$H19,14)=0,"X",""),IF($G19="Monthly",IF(DAY(L$4)=DAY($H19),"X",""),IF($G19="Two Monthly",IF(AND(DAY(L$4)=DAY($H19),MOD(MONTH(L$4)-MONTH($H19),2)=0),"X",""),IF($G19="Quarterly",IF(AND(DAY(L$4)=DAY($H19),MOD(MONTH(L$4)-MONTH($H19),3)=0),"X",""),IF($G19="Four Monthly",IF(AND(DAY(L$4)=DAY($H19),MOD(MONTH(L$4)-MONTH($H19),4)=0),"X",""),IF($G19="Half Yearly",IF(AND(DAY(L$4)=DAY($H19),MOD(MONTH(L$4)-MONTH($H19),6)=0),"X",""),IF($G19="Yearly",IF(AND(DAY(L$4)=DAY($H19),MONTH(L$4)=MONTH($H19)),"X",""),"")))))))))),"") | M19: =IFERROR(IF(OR($H19="",$G19=""),"",IF($G19="Daily",IF(M$4>=$H19,"X",""),IF($G19="Weekly",IF(MOD(M$4-$H19,7)=0,"X",""),IF($G19="fortnightly",IF(MOD(M$4-$H19,14)=0,"X",""),IF($G19="Monthly",IF(DAY(M$4)=DAY($H19),"X",""),IF($G19="Two Monthly",IF(AND(DAY(M$4)=DAY($H19),MOD(MONTH(M$4)-MONTH($H19),2)=0),"X",""),IF($G19="Quarterly",IF(AND(DAY(M$4)=DAY($H19),MOD(MONTH(M$4)-MONTH($H19),3)=0),"X",""),IF($G19="Four Monthly",IF(AND(DAY(M$4)=DAY($H19),MOD(MONTH(M$4)-MONTH($H19),4)=0),"X",""),IF($G19="Half Yearly",IF(AND(DAY(M$4)=DAY($H19),MOD(MONTH(M$4)-MONTH($H19),6)=0),"X",""),IF($G19="Yearly",IF(AND(DAY(M$4)=DAY($H19),MONTH(M$4)=MONTH($H19)),"X",""),"")))))))))),"") | N19: =IFERROR(IF(OR($H19="",$G19=""),"",IF($G19="Daily",IF(N$4>=$H19,"X",""),IF($G19="Weekly",IF(MOD(N$4-$H19,7)=0,"X",""),IF($G19="fortnightly",IF(MOD(N$4-$H19,14)=0,"X",""),IF($G19="Monthly",IF(DAY(N$4)=DAY($H19),"X",""),IF($G19="Two Monthly",IF(AND(DAY(N$4)=DAY($H19),MOD(MONTH(N$4)-MONTH($H19),2)=0),"X",""),IF($G19="Quarterly",IF(AND(DAY(N$4)=DAY($H19),MOD(MONTH(N$4)-MONTH($H19),3)=0),"X",""),IF($G19="Four Monthly",IF(AND(DAY(N$4)=DAY($H19),MOD(MONTH(N$4)-MONTH($H19),4)=0),"X",""),IF($G19="Half Yearly",IF(AND(DAY(N$4)=DAY($H19),MOD(MONTH(N$4)-MONTH($H19),6)=0),"X",""),IF($G19="Yearly",IF(AND(DAY(N$4)=DAY($H19),MONTH(N$4)=MONTH($H19)),"X",""),"")))))))))),"") | O19: =IFERROR(IF(OR($H19="",$G19=""),"",IF($G19="Daily",IF(O$4>=$H19,"X",""),IF($G19="Weekly",IF(MOD(O$4-$H19,7)=0,"X",""),IF($G19="fortnightly",IF(MOD(O$4-$H19,14)=0,"X",""),IF($G19="Monthly",IF(DAY(O$4)=DAY($H19),"X",""),IF($G19="Two Monthly",IF(AND(DAY(O$4)=DAY($H19),MOD(MONTH(O$4)-MONTH($H19),2)=0),"X",""),IF($G19="Quarterly",IF(AND(DAY(O$4)=DAY($H19),MOD(MONTH(O$4)-MONTH($H19),3)=0),"X",""),IF($G19="Four Monthly",IF(AND(DAY(O$4)=DAY($H19),MOD(MONTH(O$4)-MONTH($H19),4)=0),"X",""),IF($G19="Half Yearly",IF(AND(DAY(O$4)=DAY($H19),MOD(MONTH(O$4)-MONTH($H19),6)=0),"X",""),IF($G19="Yearly",IF(AND(DAY(O$4)=DAY($H19),MONTH(O$4)=MONTH($H19)),"X",""),"")))))))))),"") | P19: =IFERROR(IF(OR($H19="",$G19=""),"",IF($G19="Daily",IF(P$4>=$H19,"X",""),IF($G19="Weekly",IF(MOD(P$4-$H19,7)=0,"X",""),IF($G19="fortnightly",IF(MOD(P$4-$H19,14)=0,"X",""),IF($G19="Monthly",IF(DAY(P$4)=DAY($H19),"X",""),IF($G19="Two Monthly",IF(AND(DAY(P$4)=DAY($H19),MOD(MONTH(P$4)-MONTH($H19),2)=0),"X",""),IF($G19="Quarterly",IF(AND(DAY(P$4)=DAY($H19),MOD(MONTH(P$4)-MONTH($H19),3)=0),"X",""),IF($G19="Four Monthly",IF(AND(DAY(P$4)=DAY($H19),MOD(MONTH(P$4)-MONTH($H19),4)=0),"X",""),IF($G19="Half Yearly",IF(AND(DAY(P$4)=DAY($H19),MOD(MONTH(P$4)-MONTH($H19),6)=0),"X",""),IF($G19="Yearly",IF(AND(DAY(P$4)=DAY($H19),MONTH(P$4)=MONTH($H19)),"X",""),"")))))))))),"") | ... NJ19: =IFERROR(IF(OR($H19="",$G19=""),"",IF($G19="Daily",IF(NJ$4>=$H19,"X",""),IF($G19="Weekly",IF(MOD(NJ$4-$H19,7)=0,"X",""),IF($G19="fortnightly",IF(MOD(NJ$4-$H19,14)=0,"X",""),IF($G19="Monthly",IF(DAY(NJ$4)=DAY($H19),"X",""),IF($G19="Two Monthly",IF(AND(DAY(NJ$4)=DAY($H19),MOD(MONTH(NJ$4)-MONTH($H19),2)=0),"X",""),IF($G19="Quarterly",IF(AND(DAY(NJ$4)=DAY($H19),MOD(MONTH(NJ$4)-MONTH($H19),3)=0),"X",""),IF($G19="Four Monthly",IF(AND(DAY(NJ$4)=DAY($H19),MOD(MONTH(NJ$4)-MONTH($H19),4)=0),"X",""),IF($G19="Half Yearly",IF(AND(DAY(NJ$4)=DAY($H19),MOD(MONTH(NJ$4)-MONTH($H19),6)=0),"X",""),IF($G19="Yearly",IF(AND(DAY(NJ$4)=DAY($H19),MONTH(NJ$4)=MONTH($H19)),"X",""),"")))))))))),"")
I20: =IFERROR(IF(OR($H20="",$G20=""),"",IF($G20="Daily",IF(I$4>=$H20,"X",""),IF($G20="Weekly",IF(MOD(I$4-$H20,7)=0,"X",""),IF($G20="fortnightly",IF(MOD(I$4-$H20,14)=0,"X",""),IF($G20="Monthly",IF(DAY(I$4)=DAY($H20),"X",""),IF($G20="Two Monthly",IF(AND(DAY(I$4)=DAY($H20),MOD(MONTH(I$4)-MONTH($H20),2)=0),"X",""),IF($G20="Quarterly",IF(AND(DAY(I$4)=DAY($H20),MOD(MONTH(I$4)-MONTH($H20),3)=0),"X",""),IF($G20="Four Monthly",IF(AND(DAY(I$4)=DAY($H20),MOD(MONTH(I$4)-MONTH($H20),4)=0),"X",""),IF($G20="Half Yearly",IF(AND(DAY(I$4)=DAY($H20),MOD(MONTH(I$4)-MONTH($H20),6)=0),"X",""),IF($G20="Yearly",IF(AND(DAY(I$4)=DAY($H20),MONTH(I$4)=MONTH($H20)),"X",""),"")))))))))),"") | J20: =IFERROR(IF(OR($H20="",$G20=""),"",IF($G20="Daily",IF(J$4>=$H20,"X",""),IF($G20="Weekly",IF(MOD(J$4-$H20,7)=0,"X",""),IF($G20="fortnightly",IF(MOD(J$4-$H20,14)=0,"X",""),IF($G20="Monthly",IF(DAY(J$4)=DAY($H20),"X",""),IF($G20="Two Monthly",IF(AND(DAY(J$4)=DAY($H20),MOD(MONTH(J$4)-MONTH($H20),2)=0),"X",""),IF($G20="Quarterly",IF(AND(DAY(J$4)=DAY($H20),MOD(MONTH(J$4)-MONTH($H20),3)=0),"X",""),IF($G20="Four Monthly",IF(AND(DAY(J$4)=DAY($H20),MOD(MONTH(J$4)-MONTH($H20),4)=0),"X",""),IF($G20="Half Yearly",IF(AND(DAY(J$4)=DAY($H20),MOD(MONTH(J$4)-MONTH($H20),6)=0),"X",""),IF($G20="Yearly",IF(AND(DAY(J$4)=DAY($H20),MONTH(J$4)=MONTH($H20)),"X",""),"")))))))))),"") | K20: =IFERROR(IF(OR($H20="",$G20=""),"",IF($G20="Daily",IF(K$4>=$H20,"X",""),IF($G20="Weekly",IF(MOD(K$4-$H20,7)=0,"X",""),IF($G20="fortnightly",IF(MOD(K$4-$H20,14)=0,"X",""),IF($G20="Monthly",IF(DAY(K$4)=DAY($H20),"X",""),IF($G20="Two Monthly",IF(AND(DAY(K$4)=DAY($H20),MOD(MONTH(K$4)-MONTH($H20),2)=0),"X",""),IF($G20="Quarterly",IF(AND(DAY(K$4)=DAY($H20),MOD(MONTH(K$4)-MONTH($H20),3)=0),"X",""),IF($G20="Four Monthly",IF(AND(DAY(K$4)=DAY($H20),MOD(MONTH(K$4)-MONTH($H20),4)=0),"X",""),IF($G20="Half Yearly",IF(AND(DAY(K$4)=DAY($H20),MOD(MONTH(K$4)-MONTH($H20),6)=0),"X",""),IF($G20="Yearly",IF(AND(DAY(K$4)=DAY($H20),MONTH(K$4)=MONTH($H20)),"X",""),"")))))))))),"") | L20: =IFERROR(IF(OR($H20="",$G20=""),"",IF($G20="Daily",IF(L$4>=$H20,"X",""),IF($G20="Weekly",IF(MOD(L$4-$H20,7)=0,"X",""),IF($G20="fortnightly",IF(MOD(L$4-$H20,14)=0,"X",""),IF($G20="Monthly",IF(DAY(L$4)=DAY($H20),"X",""),IF($G20="Two Monthly",IF(AND(DAY(L$4)=DAY($H20),MOD(MONTH(L$4)-MONTH($H20),2)=0),"X",""),IF($G20="Quarterly",IF(AND(DAY(L$4)=DAY($H20),MOD(MONTH(L$4)-MONTH($H20),3)=0),"X",""),IF($G20="Four Monthly",IF(AND(DAY(L$4)=DAY($H20),MOD(MONTH(L$4)-MONTH($H20),4)=0),"X",""),IF($G20="Half Yearly",IF(AND(DAY(L$4)=DAY($H20),MOD(MONTH(L$4)-MONTH($H20),6)=0),"X",""),IF($G20="Yearly",IF(AND(DAY(L$4)=DAY($H20),MONTH(L$4)=MONTH($H20)),"X",""),"")))))))))),"") | M20: =IFERROR(IF(OR($H20="",$G20=""),"",IF($G20="Daily",IF(M$4>=$H20,"X",""),IF($G20="Weekly",IF(MOD(M$4-$H20,7)=0,"X",""),IF($G20="fortnightly",IF(MOD(M$4-$H20,14)=0,"X",""),IF($G20="Monthly",IF(DAY(M$4)=DAY($H20),"X",""),IF($G20="Two Monthly",IF(AND(DAY(M$4)=DAY($H20),MOD(MONTH(M$4)-MONTH($H20),2)=0),"X",""),IF($G20="Quarterly",IF(AND(DAY(M$4)=DAY($H20),MOD(MONTH(M$4)-MONTH($H20),3)=0),"X",""),IF($G20="Four Monthly",IF(AND(DAY(M$4)=DAY($H20),MOD(MONTH(M$4)-MONTH($H20),4)=0),"X",""),IF($G20="Half Yearly",IF(AND(DAY(M$4)=DAY($H20),MOD(MONTH(M$4)-MONTH($H20),6)=0),"X",""),IF($G20="Yearly",IF(AND(DAY(M$4)=DAY($H20),MONTH(M$4)=MONTH($H20)),"X",""),"")))))))))),"") | N20: =IFERROR(IF(OR($H20="",$G20=""),"",IF($G20="Daily",IF(N$4>=$H20,"X",""),IF($G20="Weekly",IF(MOD(N$4-$H20,7)=0,"X",""),IF($G20="fortnightly",IF(MOD(N$4-$H20,14)=0,"X",""),IF($G20="Monthly",IF(DAY(N$4)=DAY($H20),"X",""),IF($G20="Two Monthly",IF(AND(DAY(N$4)=DAY($H20),MOD(MONTH(N$4)-MONTH($H20),2)=0),"X",""),IF($G20="Quarterly",IF(AND(DAY(N$4)=DAY($H20),MOD(MONTH(N$4)-MONTH($H20),3)=0),"X",""),IF($G20="Four Monthly",IF(AND(DAY(N$4)=DAY($H20),MOD(MONTH(N$4)-MONTH($H20),4)=0),"X",""),IF($G20="Half Yearly",IF(AND(DAY(N$4)=DAY($H20),MOD(MONTH(N$4)-MONTH($H20),6)=0),"X",""),IF($G20="Yearly",IF(AND(DAY(N$4)=DAY($H20),MONTH(N$4)=MONTH($H20)),"X",""),"")))))))))),"") | O20: =IFERROR(IF(OR($H20="",$G20=""),"",IF($G20="Daily",IF(O$4>=$H20,"X",""),IF($G20="Weekly",IF(MOD(O$4-$H20,7)=0,"X",""),IF($G20="fortnightly",IF(MOD(O$4-$H20,14)=0,"X",""),IF($G20="Monthly",IF(DAY(O$4)=DAY($H20),"X",""),IF($G20="Two Monthly",IF(AND(DAY(O$4)=DAY($H20),MOD(MONTH(O$4)-MONTH($H20),2)=0),"X",""),IF($G20="Quarterly",IF(AND(DAY(O$4)=DAY($H20),MOD(MONTH(O$4)-MONTH($H20),3)=0),"X",""),IF($G20="Four Monthly",IF(AND(DAY(O$4)=DAY($H20),MOD(MONTH(O$4)-MONTH($H20),4)=0),"X",""),IF($G20="Half Yearly",IF(AND(DAY(O$4)=DAY($H20),MOD(MONTH(O$4)-MONTH($H20),6)=0),"X",""),IF($G20="Yearly",IF(AND(DAY(O$4)=DAY($H20),MONTH(O$4)=MONTH($H20)),"X",""),"")))))))))),"") | P20: =IFERROR(IF(OR($H20="",$G20=""),"",IF($G20="Daily",IF(P$4>=$H20,"X",""),IF($G20="Weekly",IF(MOD(P$4-$H20,7)=0,"X",""),IF($G20="fortnightly",IF(MOD(P$4-$H20,14)=0,"X",""),IF($G20="Monthly",IF(DAY(P$4)=DAY($H20),"X",""),IF($G20="Two Monthly",IF(AND(DAY(P$4)=DAY($H20),MOD(MONTH(P$4)-MONTH($H20),2)=0),"X",""),IF($G20="Quarterly",IF(AND(DAY(P$4)=DAY($H20),MOD(MONTH(P$4)-MONTH($H20),3)=0),"X",""),IF($G20="Four Monthly",IF(AND(DAY(P$4)=DAY($H20),MOD(MONTH(P$4)-MONTH($H20),4)=0),"X",""),IF($G20="Half Yearly",IF(AND(DAY(P$4)=DAY($H20),MOD(MONTH(P$4)-MONTH($H20),6)=0),"X",""),IF($G20="Yearly",IF(AND(DAY(P$4)=DAY($H20),MONTH(P$4)=MONTH($H20)),"X",""),"")))))))))),"") | ... NJ20: =IFERROR(IF(OR($H20="",$G20=""),"",IF($G20="Daily",IF(NJ$4>=$H20,"X",""),IF($G20="Weekly",IF(MOD(NJ$4-$H20,7)=0,"X",""),IF($G20="fortnightly",IF(MOD(NJ$4-$H20,14)=0,"X",""),IF($G20="Monthly",IF(DAY(NJ$4)=DAY($H20),"X",""),IF($G20="Two Monthly",IF(AND(DAY(NJ$4)=DAY($H20),MOD(MONTH(NJ$4)-MONTH($H20),2)=0),"X",""),IF($G20="Quarterly",IF(AND(DAY(NJ$4)=DAY($H20),MOD(MONTH(NJ$4)-MONTH($H20),3)=0),"X",""),IF($G20="Four Monthly",IF(AND(DAY(NJ$4)=DAY($H20),MOD(MONTH(NJ$4)-MONTH($H20),4)=0),"X",""),IF($G20="Half Yearly",IF(AND(DAY(NJ$4)=DAY($H20),MOD(MONTH(NJ$4)-MONTH($H20),6)=0),"X",""),IF($G20="Yearly",IF(AND(DAY(NJ$4)=DAY($H20),MONTH(NJ$4)=MONTH($H20)),"X",""),"")))))))))),"")
I21: =IFERROR(IF(OR($H21="",$G21=""),"",IF($G21="Daily",IF(I$4>=$H21,"X",""),IF($G21="Weekly",IF(MOD(I$4-$H21,7)=0,"X",""),IF($G21="fortnightly",IF(MOD(I$4-$H21,14)=0,"X",""),IF($G21="Monthly",IF(DAY(I$4)=DAY($H21),"X",""),IF($G21="Two Monthly",IF(AND(DAY(I$4)=DAY($H21),MOD(MONTH(I$4)-MONTH($H21),2)=0),"X",""),IF($G21="Quarterly",IF(AND(DAY(I$4)=DAY($H21),MOD(MONTH(I$4)-MONTH($H21),3)=0),"X",""),IF($G21="Four Monthly",IF(AND(DAY(I$4)=DAY($H21),MOD(MONTH(I$4)-MONTH($H21),4)=0),"X",""),IF($G21="Half Yearly",IF(AND(DAY(I$4)=DAY($H21),MOD(MONTH(I$4)-MONTH($H21),6)=0),"X",""),IF($G21="Yearly",IF(AND(DAY(I$4)=DAY($H21),MONTH(I$4)=MONTH($H21)),"X",""),"")))))))))),"") | J21: =IFERROR(IF(OR($H21="",$G21=""),"",IF($G21="Daily",IF(J$4>=$H21,"X",""),IF($G21="Weekly",IF(MOD(J$4-$H21,7)=0,"X",""),IF($G21="fortnightly",IF(MOD(J$4-$H21,14)=0,"X",""),IF($G21="Monthly",IF(DAY(J$4)=DAY($H21),"X",""),IF($G21="Two Monthly",IF(AND(DAY(J$4)=DAY($H21),MOD(MONTH(J$4)-MONTH($H21),2)=0),"X",""),IF($G21="Quarterly",IF(AND(DAY(J$4)=DAY($H21),MOD(MONTH(J$4)-MONTH($H21),3)=0),"X",""),IF($G21="Four Monthly",IF(AND(DAY(J$4)=DAY($H21),MOD(MONTH(J$4)-MONTH($H21),4)=0),"X",""),IF($G21="Half Yearly",IF(AND(DAY(J$4)=DAY($H21),MOD(MONTH(J$4)-MONTH($H21),6)=0),"X",""),IF($G21="Yearly",IF(AND(DAY(J$4)=DAY($H21),MONTH(J$4)=MONTH($H21)),"X",""),"")))))))))),"") | K21: =IFERROR(IF(OR($H21="",$G21=""),"",IF($G21="Daily",IF(K$4>=$H21,"X",""),IF($G21="Weekly",IF(MOD(K$4-$H21,7)=0,"X",""),IF($G21="fortnightly",IF(MOD(K$4-$H21,14)=0,"X",""),IF($G21="Monthly",IF(DAY(K$4)=DAY($H21),"X",""),IF($G21="Two Monthly",IF(AND(DAY(K$4)=DAY($H21),MOD(MONTH(K$4)-MONTH($H21),2)=0),"X",""),IF($G21="Quarterly",IF(AND(DAY(K$4)=DAY($H21),MOD(MONTH(K$4)-MONTH($H21),3)=0),"X",""),IF($G21="Four Monthly",IF(AND(DAY(K$4)=DAY($H21),MOD(MONTH(K$4)-MONTH($H21),4)=0),"X",""),IF($G21="Half Yearly",IF(AND(DAY(K$4)=DAY($H21),MOD(MONTH(K$4)-MONTH($H21),6)=0),"X",""),IF($G21="Yearly",IF(AND(DAY(K$4)=DAY($H21),MONTH(K$4)=MONTH($H21)),"X",""),"")))))))))),"") | L21: =IFERROR(IF(OR($H21="",$G21=""),"",IF($G21="Daily",IF(L$4>=$H21,"X",""),IF($G21="Weekly",IF(MOD(L$4-$H21,7)=0,"X",""),IF($G21="fortnightly",IF(MOD(L$4-$H21,14)=0,"X",""),IF($G21="Monthly",IF(DAY(L$4)=DAY($H21),"X",""),IF($G21="Two Monthly",IF(AND(DAY(L$4)=DAY($H21),MOD(MONTH(L$4)-MONTH($H21),2)=0),"X",""),IF($G21="Quarterly",IF(AND(DAY(L$4)=DAY($H21),MOD(MONTH(L$4)-MONTH($H21),3)=0),"X",""),IF($G21="Four Monthly",IF(AND(DAY(L$4)=DAY($H21),MOD(MONTH(L$4)-MONTH($H21),4)=0),"X",""),IF($G21="Half Yearly",IF(AND(DAY(L$4)=DAY($H21),MOD(MONTH(L$4)-MONTH($H21),6)=0),"X",""),IF($G21="Yearly",IF(AND(DAY(L$4)=DAY($H21),MONTH(L$4)=MONTH($H21)),"X",""),"")))))))))),"") | M21: =IFERROR(IF(OR($H21="",$G21=""),"",IF($G21="Daily",IF(M$4>=$H21,"X",""),IF($G21="Weekly",IF(MOD(M$4-$H21,7)=0,"X",""),IF($G21="fortnightly",IF(MOD(M$4-$H21,14)=0,"X",""),IF($G21="Monthly",IF(DAY(M$4)=DAY($H21),"X",""),IF($G21="Two Monthly",IF(AND(DAY(M$4)=DAY($H21),MOD(MONTH(M$4)-MONTH($H21),2)=0),"X",""),IF($G21="Quarterly",IF(AND(DAY(M$4)=DAY($H21),MOD(MONTH(M$4)-MONTH($H21),3)=0),"X",""),IF($G21="Four Monthly",IF(AND(DAY(M$4)=DAY($H21),MOD(MONTH(M$4)-MONTH($H21),4)=0),"X",""),IF($G21="Half Yearly",IF(AND(DAY(M$4)=DAY($H21),MOD(MONTH(M$4)-MONTH($H21),6)=0),"X",""),IF($G21="Yearly",IF(AND(DAY(M$4)=DAY($H21),MONTH(M$4)=MONTH($H21)),"X",""),"")))))))))),"") | N21: =IFERROR(IF(OR($H21="",$G21=""),"",IF($G21="Daily",IF(N$4>=$H21,"X",""),IF($G21="Weekly",IF(MOD(N$4-$H21,7)=0,"X",""),IF($G21="fortnightly",IF(MOD(N$4-$H21,14)=0,"X",""),IF($G21="Monthly",IF(DAY(N$4)=DAY($H21),"X",""),IF($G21="Two Monthly",IF(AND(DAY(N$4)=DAY($H21),MOD(MONTH(N$4)-MONTH($H21),2)=0),"X",""),IF($G21="Quarterly",IF(AND(DAY(N$4)=DAY($H21),MOD(MONTH(N$4)-MONTH($H21),3)=0),"X",""),IF($G21="Four Monthly",IF(AND(DAY(N$4)=DAY($H21),MOD(MONTH(N$4)-MONTH($H21),4)=0),"X",""),IF($G21="Half Yearly",IF(AND(DAY(N$4)=DAY($H21),MOD(MONTH(N$4)-MONTH($H21),6)=0),"X",""),IF($G21="Yearly",IF(AND(DAY(N$4)=DAY($H21),MONTH(N$4)=MONTH($H21)),"X",""),"")))))))))),"") | O21: =IFERROR(IF(OR($H21="",$G21=""),"",IF($G21="Daily",IF(O$4>=$H21,"X",""),IF($G21="Weekly",IF(MOD(O$4-$H21,7)=0,"X",""),IF($G21="fortnightly",IF(MOD(O$4-$H21,14)=0,"X",""),IF($G21="Monthly",IF(DAY(O$4)=DAY($H21),"X",""),IF($G21="Two Monthly",IF(AND(DAY(O$4)=DAY($H21),MOD(MONTH(O$4)-MONTH($H21),2)=0),"X",""),IF($G21="Quarterly",IF(AND(DAY(O$4)=DAY($H21),MOD(MONTH(O$4)-MONTH($H21),3)=0),"X",""),IF($G21="Four Monthly",IF(AND(DAY(O$4)=DAY($H21),MOD(MONTH(O$4)-MONTH($H21),4)=0),"X",""),IF($G21="Half Yearly",IF(AND(DAY(O$4)=DAY($H21),MOD(MONTH(O$4)-MONTH($H21),6)=0),"X",""),IF($G21="Yearly",IF(AND(DAY(O$4)=DAY($H21),MONTH(O$4)=MONTH($H21)),"X",""),"")))))))))),"") | P21: =IFERROR(IF(OR($H21="",$G21=""),"",IF($G21="Daily",IF(P$4>=$H21,"X",""),IF($G21="Weekly",IF(MOD(P$4-$H21,7)=0,"X",""),IF($G21="fortnightly",IF(MOD(P$4-$H21,14)=0,"X",""),IF($G21="Monthly",IF(DAY(P$4)=DAY($H21),"X",""),IF($G21="Two Monthly",IF(AND(DAY(P$4)=DAY($H21),MOD(MONTH(P$4)-MONTH($H21),2)=0),"X",""),IF($G21="Quarterly",IF(AND(DAY(P$4)=DAY($H21),MOD(MONTH(P$4)-MONTH($H21),3)=0),"X",""),IF($G21="Four Monthly",IF(AND(DAY(P$4)=DAY($H21),MOD(MONTH(P$4)-MONTH($H21),4)=0),"X",""),IF($G21="Half Yearly",IF(AND(DAY(P$4)=DAY($H21),MOD(MONTH(P$4)-MONTH($H21),6)=0),"X",""),IF($G21="Yearly",IF(AND(DAY(P$4)=DAY($H21),MONTH(P$4)=MONTH($H21)),"X",""),"")))))))))),"") | ... NJ21: =IFERROR(IF(OR($H21="",$G21=""),"",IF($G21="Daily",IF(NJ$4>=$H21,"X",""),IF($G21="Weekly",IF(MOD(NJ$4-$H21,7)=0,"X",""),IF($G21="fortnightly",IF(MOD(NJ$4-$H21,14)=0,"X",""),IF($G21="Monthly",IF(DAY(NJ$4)=DAY($H21),"X",""),IF($G21="Two Monthly",IF(AND(DAY(NJ$4)=DAY($H21),MOD(MONTH(NJ$4)-MONTH($H21),2)=0),"X",""),IF($G21="Quarterly",IF(AND(DAY(NJ$4)=DAY($H21),MOD(MONTH(NJ$4)-MONTH($H21),3)=0),"X",""),IF($G21="Four Monthly",IF(AND(DAY(NJ$4)=DAY($H21),MOD(MONTH(NJ$4)-MONTH($H21),4)=0),"X",""),IF($G21="Half Yearly",IF(AND(DAY(NJ$4)=DAY($H21),MOD(MONTH(NJ$4)-MONTH($H21),6)=0),"X",""),IF($G21="Yearly",IF(AND(DAY(NJ$4)=DAY($H21),MONTH(NJ$4)=MONTH($H21)),"X",""),"")))))))))),"")
I22: =IFERROR(IF(OR($H22="",$G22=""),"",IF($G22="Daily",IF(I$4>=$H22,"X",""),IF($G22="Weekly",IF(MOD(I$4-$H22,7)=0,"X",""),IF($G22="fortnightly",IF(MOD(I$4-$H22,14)=0,"X",""),IF($G22="Monthly",IF(DAY(I$4)=DAY($H22),"X",""),IF($G22="Two Monthly",IF(AND(DAY(I$4)=DAY($H22),MOD(MONTH(I$4)-MONTH($H22),2)=0),"X",""),IF($G22="Quarterly",IF(AND(DAY(I$4)=DAY($H22),MOD(MONTH(I$4)-MONTH($H22),3)=0),"X",""),IF($G22="Four Monthly",IF(AND(DAY(I$4)=DAY($H22),MOD(MONTH(I$4)-MONTH($H22),4)=0),"X",""),IF($G22="Half Yearly",IF(AND(DAY(I$4)=DAY($H22),MOD(MONTH(I$4)-MONTH($H22),6)=0),"X",""),IF($G22="Yearly",IF(AND(DAY(I$4)=DAY($H22),MONTH(I$4)=MONTH($H22)),"X",""),"")))))))))),"") | J22: =IFERROR(IF(OR($H22="",$G22=""),"",IF($G22="Daily",IF(J$4>=$H22,"X",""),IF($G22="Weekly",IF(MOD(J$4-$H22,7)=0,"X",""),IF($G22="fortnightly",IF(MOD(J$4-$H22,14)=0,"X",""),IF($G22="Monthly",IF(DAY(J$4)=DAY($H22),"X",""),IF($G22="Two Monthly",IF(AND(DAY(J$4)=DAY($H22),MOD(MONTH(J$4)-MONTH($H22),2)=0),"X",""),IF($G22="Quarterly",IF(AND(DAY(J$4)=DAY($H22),MOD(MONTH(J$4)-MONTH($H22),3)=0),"X",""),IF($G22="Four Monthly",IF(AND(DAY(J$4)=DAY($H22),MOD(MONTH(J$4)-MONTH($H22),4)=0),"X",""),IF($G22="Half Yearly",IF(AND(DAY(J$4)=DAY($H22),MOD(MONTH(J$4)-MONTH($H22),6)=0),"X",""),IF($G22="Yearly",IF(AND(DAY(J$4)=DAY($H22),MONTH(J$4)=MONTH($H22)),"X",""),"")))))))))),"") | K22: =IFERROR(IF(OR($H22="",$G22=""),"",IF($G22="Daily",IF(K$4>=$H22,"X",""),IF($G22="Weekly",IF(MOD(K$4-$H22,7)=0,"X",""),IF($G22="fortnightly",IF(MOD(K$4-$H22,14)=0,"X",""),IF($G22="Monthly",IF(DAY(K$4)=DAY($H22),"X",""),IF($G22="Two Monthly",IF(AND(DAY(K$4)=DAY($H22),MOD(MONTH(K$4)-MONTH($H22),2)=0),"X",""),IF($G22="Quarterly",IF(AND(DAY(K$4)=DAY($H22),MOD(MONTH(K$4)-MONTH($H22),3)=0),"X",""),IF($G22="Four Monthly",IF(AND(DAY(K$4)=DAY($H22),MOD(MONTH(K$4)-MONTH($H22),4)=0),"X",""),IF($G22="Half Yearly",IF(AND(DAY(K$4)=DAY($H22),MOD(MONTH(K$4)-MONTH($H22),6)=0),"X",""),IF($G22="Yearly",IF(AND(DAY(K$4)=DAY($H22),MONTH(K$4)=MONTH($H22)),"X",""),"")))))))))),"") | L22: =IFERROR(IF(OR($H22="",$G22=""),"",IF($G22="Daily",IF(L$4>=$H22,"X",""),IF($G22="Weekly",IF(MOD(L$4-$H22,7)=0,"X",""),IF($G22="fortnightly",IF(MOD(L$4-$H22,14)=0,"X",""),IF($G22="Monthly",IF(DAY(L$4)=DAY($H22),"X",""),IF($G22="Two Monthly",IF(AND(DAY(L$4)=DAY($H22),MOD(MONTH(L$4)-MONTH($H22),2)=0),"X",""),IF($G22="Quarterly",IF(AND(DAY(L$4)=DAY($H22),MOD(MONTH(L$4)-MONTH($H22),3)=0),"X",""),IF($G22="Four Monthly",IF(AND(DAY(L$4)=DAY($H22),MOD(MONTH(L$4)-MONTH($H22),4)=0),"X",""),IF($G22="Half Yearly",IF(AND(DAY(L$4)=DAY($H22),MOD(MONTH(L$4)-MONTH($H22),6)=0),"X",""),IF($G22="Yearly",IF(AND(DAY(L$4)=DAY($H22),MONTH(L$4)=MONTH($H22)),"X",""),"")))))))))),"") | M22: =IFERROR(IF(OR($H22="",$G22=""),"",IF($G22="Daily",IF(M$4>=$H22,"X",""),IF($G22="Weekly",IF(MOD(M$4-$H22,7)=0,"X",""),IF($G22="fortnightly",IF(MOD(M$4-$H22,14)=0,"X",""),IF($G22="Monthly",IF(DAY(M$4)=DAY($H22),"X",""),IF($G22="Two Monthly",IF(AND(DAY(M$4)=DAY($H22),MOD(MONTH(M$4)-MONTH($H22),2)=0),"X",""),IF($G22="Quarterly",IF(AND(DAY(M$4)=DAY($H22),MOD(MONTH(M$4)-MONTH($H22),3)=0),"X",""),IF($G22="Four Monthly",IF(AND(DAY(M$4)=DAY($H22),MOD(MONTH(M$4)-MONTH($H22),4)=0),"X",""),IF($G22="Half Yearly",IF(AND(DAY(M$4)=DAY($H22),MOD(MONTH(M$4)-MONTH($H22),6)=0),"X",""),IF($G22="Yearly",IF(AND(DAY(M$4)=DAY($H22),MONTH(M$4)=MONTH($H22)),"X",""),"")))))))))),"") | N22: =IFERROR(IF(OR($H22="",$G22=""),"",IF($G22="Daily",IF(N$4>=$H22,"X",""),IF($G22="Weekly",IF(MOD(N$4-$H22,7)=0,"X",""),IF($G22="fortnightly",IF(MOD(N$4-$H22,14)=0,"X",""),IF($G22="Monthly",IF(DAY(N$4)=DAY($H22),"X",""),IF($G22="Two Monthly",IF(AND(DAY(N$4)=DAY($H22),MOD(MONTH(N$4)-MONTH($H22),2)=0),"X",""),IF($G22="Quarterly",IF(AND(DAY(N$4)=DAY($H22),MOD(MONTH(N$4)-MONTH($H22),3)=0),"X",""),IF($G22="Four Monthly",IF(AND(DAY(N$4)=DAY($H22),MOD(MONTH(N$4)-MONTH($H22),4)=0),"X",""),IF($G22="Half Yearly",IF(AND(DAY(N$4)=DAY($H22),MOD(MONTH(N$4)-MONTH($H22),6)=0),"X",""),IF($G22="Yearly",IF(AND(DAY(N$4)=DAY($H22),MONTH(N$4)=MONTH($H22)),"X",""),"")))))))))),"") | O22: =IFERROR(IF(OR($H22="",$G22=""),"",IF($G22="Daily",IF(O$4>=$H22,"X",""),IF($G22="Weekly",IF(MOD(O$4-$H22,7)=0,"X",""),IF($G22="fortnightly",IF(MOD(O$4-$H22,14)=0,"X",""),IF($G22="Monthly",IF(DAY(O$4)=DAY($H22),"X",""),IF($G22="Two Monthly",IF(AND(DAY(O$4)=DAY($H22),MOD(MONTH(O$4)-MONTH($H22),2)=0),"X",""),IF($G22="Quarterly",IF(AND(DAY(O$4)=DAY($H22),MOD(MONTH(O$4)-MONTH($H22),3)=0),"X",""),IF($G22="Four Monthly",IF(AND(DAY(O$4)=DAY($H22),MOD(MONTH(O$4)-MONTH($H22),4)=0),"X",""),IF($G22="Half Yearly",IF(AND(DAY(O$4)=DAY($H22),MOD(MONTH(O$4)-MONTH($H22),6)=0),"X",""),IF($G22="Yearly",IF(AND(DAY(O$4)=DAY($H22),MONTH(O$4)=MONTH($H22)),"X",""),"")))))))))),"") | P22: =IFERROR(IF(OR($H22="",$G22=""),"",IF($G22="Daily",IF(P$4>=$H22,"X",""),IF($G22="Weekly",IF(MOD(P$4-$H22,7)=0,"X",""),IF($G22="fortnightly",IF(MOD(P$4-$H22,14)=0,"X",""),IF($G22="Monthly",IF(DAY(P$4)=DAY($H22),"X",""),IF($G22="Two Monthly",IF(AND(DAY(P$4)=DAY($H22),MOD(MONTH(P$4)-MONTH($H22),2)=0),"X",""),IF($G22="Quarterly",IF(AND(DAY(P$4)=DAY($H22),MOD(MONTH(P$4)-MONTH($H22),3)=0),"X",""),IF($G22="Four Monthly",IF(AND(DAY(P$4)=DAY($H22),MOD(MONTH(P$4)-MONTH($H22),4)=0),"X",""),IF($G22="Half Yearly",IF(AND(DAY(P$4)=DAY($H22),MOD(MONTH(P$4)-MONTH($H22),6)=0),"X",""),IF($G22="Yearly",IF(AND(DAY(P$4)=DAY($H22),MONTH(P$4)=MONTH($H22)),"X",""),"")))))))))),"") | ... NJ22: =IFERROR(IF(OR($H22="",$G22=""),"",IF($G22="Daily",IF(NJ$4>=$H22,"X",""),IF($G22="Weekly",IF(MOD(NJ$4-$H22,7)=0,"X",""),IF($G22="fortnightly",IF(MOD(NJ$4-$H22,14)=0,"X",""),IF($G22="Monthly",IF(DAY(NJ$4)=DAY($H22),"X",""),IF($G22="Two Monthly",IF(AND(DAY(NJ$4)=DAY($H22),MOD(MONTH(NJ$4)-MONTH($H22),2)=0),"X",""),IF($G22="Quarterly",IF(AND(DAY(NJ$4)=DAY($H22),MOD(MONTH(NJ$4)-MONTH($H22),3)=0),"X",""),IF($G22="Four Monthly",IF(AND(DAY(NJ$4)=DAY($H22),MOD(MONTH(NJ$4)-MONTH($H22),4)=0),"X",""),IF($G22="Half Yearly",IF(AND(DAY(NJ$4)=DAY($H22),MOD(MONTH(NJ$4)-MONTH($H22),6)=0),"X",""),IF($G22="Yearly",IF(AND(DAY(NJ$4)=DAY($H22),MONTH(NJ$4)=MONTH($H22)),"X",""),"")))))))))),"")
I23: =IFERROR(IF(OR($H23="",$G23=""),"",IF($G23="Daily",IF(I$4>=$H23,"X",""),IF($G23="Weekly",IF(MOD(I$4-$H23,7)=0,"X",""),IF($G23="fortnightly",IF(MOD(I$4-$H23,14)=0,"X",""),IF($G23="Monthly",IF(DAY(I$4)=DAY($H23),"X",""),IF($G23="Two Monthly",IF(AND(DAY(I$4)=DAY($H23),MOD(MONTH(I$4)-MONTH($H23),2)=0),"X",""),IF($G23="Quarterly",IF(AND(DAY(I$4)=DAY($H23),MOD(MONTH(I$4)-MONTH($H23),3)=0),"X",""),IF($G23="Four Monthly",IF(AND(DAY(I$4)=DAY($H23),MOD(MONTH(I$4)-MONTH($H23),4)=0),"X",""),IF($G23="Half Yearly",IF(AND(DAY(I$4)=DAY($H23),MOD(MONTH(I$4)-MONTH($H23),6)=0),"X",""),IF($G23="Yearly",IF(AND(DAY(I$4)=DAY($H23),MONTH(I$4)=MONTH($H23)),"X",""),"")))))))))),"") | J23: =IFERROR(IF(OR($H23="",$G23=""),"",IF($G23="Daily",IF(J$4>=$H23,"X",""),IF($G23="Weekly",IF(MOD(J$4-$H23,7)=0,"X",""),IF($G23="fortnightly",IF(MOD(J$4-$H23,14)=0,"X",""),IF($G23="Monthly",IF(DAY(J$4)=DAY($H23),"X",""),IF($G23="Two Monthly",IF(AND(DAY(J$4)=DAY($H23),MOD(MONTH(J$4)-MONTH($H23),2)=0),"X",""),IF($G23="Quarterly",IF(AND(DAY(J$4)=DAY($H23),MOD(MONTH(J$4)-MONTH($H23),3)=0),"X",""),IF($G23="Four Monthly",IF(AND(DAY(J$4)=DAY($H23),MOD(MONTH(J$4)-MONTH($H23),4)=0),"X",""),IF($G23="Half Yearly",IF(AND(DAY(J$4)=DAY($H23),MOD(MONTH(J$4)-MONTH($H23),6)=0),"X",""),IF($G23="Yearly",IF(AND(DAY(J$4)=DAY($H23),MONTH(J$4)=MONTH($H23)),"X",""),"")))))))))),"") | K23: =IFERROR(IF(OR($H23="",$G23=""),"",IF($G23="Daily",IF(K$4>=$H23,"X",""),IF($G23="Weekly",IF(MOD(K$4-$H23,7)=0,"X",""),IF($G23="fortnightly",IF(MOD(K$4-$H23,14)=0,"X",""),IF($G23="Monthly",IF(DAY(K$4)=DAY($H23),"X",""),IF($G23="Two Monthly",IF(AND(DAY(K$4)=DAY($H23),MOD(MONTH(K$4)-MONTH($H23),2)=0),"X",""),IF($G23="Quarterly",IF(AND(DAY(K$4)=DAY($H23),MOD(MONTH(K$4)-MONTH($H23),3)=0),"X",""),IF($G23="Four Monthly",IF(AND(DAY(K$4)=DAY($H23),MOD(MONTH(K$4)-MONTH($H23),4)=0),"X",""),IF($G23="Half Yearly",IF(AND(DAY(K$4)=DAY($H23),MOD(MONTH(K$4)-MONTH($H23),6)=0),"X",""),IF($G23="Yearly",IF(AND(DAY(K$4)=DAY($H23),MONTH(K$4)=MONTH($H23)),"X",""),"")))))))))),"") | L23: =IFERROR(IF(OR($H23="",$G23=""),"",IF($G23="Daily",IF(L$4>=$H23,"X",""),IF($G23="Weekly",IF(MOD(L$4-$H23,7)=0,"X",""),IF($G23="fortnightly",IF(MOD(L$4-$H23,14)=0,"X",""),IF($G23="Monthly",IF(DAY(L$4)=DAY($H23),"X",""),IF($G23="Two Monthly",IF(AND(DAY(L$4)=DAY($H23),MOD(MONTH(L$4)-MONTH($H23),2)=0),"X",""),IF($G23="Quarterly",IF(AND(DAY(L$4)=DAY($H23),MOD(MONTH(L$4)-MONTH($H23),3)=0),"X",""),IF($G23="Four Monthly",IF(AND(DAY(L$4)=DAY($H23),MOD(MONTH(L$4)-MONTH($H23),4)=0),"X",""),IF($G23="Half Yearly",IF(AND(DAY(L$4)=DAY($H23),MOD(MONTH(L$4)-MONTH($H23),6)=0),"X",""),IF($G23="Yearly",IF(AND(DAY(L$4)=DAY($H23),MONTH(L$4)=MONTH($H23)),"X",""),"")))))))))),"") | M23: =IFERROR(IF(OR($H23="",$G23=""),"",IF($G23="Daily",IF(M$4>=$H23,"X",""),IF($G23="Weekly",IF(MOD(M$4-$H23,7)=0,"X",""),IF($G23="fortnightly",IF(MOD(M$4-$H23,14)=0,"X",""),IF($G23="Monthly",IF(DAY(M$4)=DAY($H23),"X",""),IF($G23="Two Monthly",IF(AND(DAY(M$4)=DAY($H23),MOD(MONTH(M$4)-MONTH($H23),2)=0),"X",""),IF($G23="Quarterly",IF(AND(DAY(M$4)=DAY($H23),MOD(MONTH(M$4)-MONTH($H23),3)=0),"X",""),IF($G23="Four Monthly",IF(AND(DAY(M$4)=DAY($H23),MOD(MONTH(M$4)-MONTH($H23),4)=0),"X",""),IF($G23="Half Yearly",IF(AND(DAY(M$4)=DAY($H23),MOD(MONTH(M$4)-MONTH($H23),6)=0),"X",""),IF($G23="Yearly",IF(AND(DAY(M$4)=DAY($H23),MONTH(M$4)=MONTH($H23)),"X",""),"")))))))))),"") | N23: =IFERROR(IF(OR($H23="",$G23=""),"",IF($G23="Daily",IF(N$4>=$H23,"X",""),IF($G23="Weekly",IF(MOD(N$4-$H23,7)=0,"X",""),IF($G23="fortnightly",IF(MOD(N$4-$H23,14)=0,"X",""),IF($G23="Monthly",IF(DAY(N$4)=DAY($H23),"X",""),IF($G23="Two Monthly",IF(AND(DAY(N$4)=DAY($H23),MOD(MONTH(N$4)-MONTH($H23),2)=0),"X",""),IF($G23="Quarterly",IF(AND(DAY(N$4)=DAY($H23),MOD(MONTH(N$4)-MONTH($H23),3)=0),"X",""),IF($G23="Four Monthly",IF(AND(DAY(N$4)=DAY($H23),MOD(MONTH(N$4)-MONTH($H23),4)=0),"X",""),IF($G23="Half Yearly",IF(AND(DAY(N$4)=DAY($H23),MOD(MONTH(N$4)-MONTH($H23),6)=0),"X",""),IF($G23="Yearly",IF(AND(DAY(N$4)=DAY($H23),MONTH(N$4)=MONTH($H23)),"X",""),"")))))))))),"") | O23: =IFERROR(IF(OR($H23="",$G23=""),"",IF($G23="Daily",IF(O$4>=$H23,"X",""),IF($G23="Weekly",IF(MOD(O$4-$H23,7)=0,"X",""),IF($G23="fortnightly",IF(MOD(O$4-$H23,14)=0,"X",""),IF($G23="Monthly",IF(DAY(O$4)=DAY($H23),"X",""),IF($G23="Two Monthly",IF(AND(DAY(O$4)=DAY($H23),MOD(MONTH(O$4)-MONTH($H23),2)=0),"X",""),IF($G23="Quarterly",IF(AND(DAY(O$4)=DAY($H23),MOD(MONTH(O$4)-MONTH($H23),3)=0),"X",""),IF($G23="Four Monthly",IF(AND(DAY(O$4)=DAY($H23),MOD(MONTH(O$4)-MONTH($H23),4)=0),"X",""),IF($G23="Half Yearly",IF(AND(DAY(O$4)=DAY($H23),MOD(MONTH(O$4)-MONTH($H23),6)=0),"X",""),IF($G23="Yearly",IF(AND(DAY(O$4)=DAY($H23),MONTH(O$4)=MONTH($H23)),"X",""),"")))))))))),"") | P23: =IFERROR(IF(OR($H23="",$G23=""),"",IF($G23="Daily",IF(P$4>=$H23,"X",""),IF($G23="Weekly",IF(MOD(P$4-$H23,7)=0,"X",""),IF($G23="fortnightly",IF(MOD(P$4-$H23,14)=0,"X",""),IF($G23="Monthly",IF(DAY(P$4)=DAY($H23),"X",""),IF($G23="Two Monthly",IF(AND(DAY(P$4)=DAY($H23),MOD(MONTH(P$4)-MONTH($H23),2)=0),"X",""),IF($G23="Quarterly",IF(AND(DAY(P$4)=DAY($H23),MOD(MONTH(P$4)-MONTH($H23),3)=0),"X",""),IF($G23="Four Monthly",IF(AND(DAY(P$4)=DAY($H23),MOD(MONTH(P$4)-MONTH($H23),4)=0),"X",""),IF($G23="Half Yearly",IF(AND(DAY(P$4)=DAY($H23),MOD(MONTH(P$4)-MONTH($H23),6)=0),"X",""),IF($G23="Yearly",IF(AND(DAY(P$4)=DAY($H23),MONTH(P$4)=MONTH($H23)),"X",""),"")))))))))),"") | ... NJ23: =IFERROR(IF(OR($H23="",$G23=""),"",IF($G23="Daily",IF(NJ$4>=$H23,"X",""),IF($G23="Weekly",IF(MOD(NJ$4-$H23,7)=0,"X",""),IF($G23="fortnightly",IF(MOD(NJ$4-$H23,14)=0,"X",""),IF($G23="Monthly",IF(DAY(NJ$4)=DAY($H23),"X",""),IF($G23="Two Monthly",IF(AND(DAY(NJ$4)=DAY($H23),MOD(MONTH(NJ$4)-MONTH($H23),2)=0),"X",""),IF($G23="Quarterly",IF(AND(DAY(NJ$4)=DAY($H23),MOD(MONTH(NJ$4)-MONTH($H23),3)=0),"X",""),IF($G23="Four Monthly",IF(AND(DAY(NJ$4)=DAY($H23),MOD(MONTH(NJ$4)-MONTH($H23),4)=0),"X",""),IF($G23="Half Yearly",IF(AND(DAY(NJ$4)=DAY($H23),MOD(MONTH(NJ$4)-MONTH($H23),6)=0),"X",""),IF($G23="Yearly",IF(AND(DAY(NJ$4)=DAY($H23),MONTH(NJ$4)=MONTH($H23)),"X",""),"")))))))))),"")
I24: =IFERROR(IF(OR($H24="",$G24=""),"",IF($G24="Daily",IF(I$4>=$H24,"X",""),IF($G24="Weekly",IF(MOD(I$4-$H24,7)=0,"X",""),IF($G24="fortnightly",IF(MOD(I$4-$H24,14)=0,"X",""),IF($G24="Monthly",IF(DAY(I$4)=DAY($H24),"X",""),IF($G24="Two Monthly",IF(AND(DAY(I$4)=DAY($H24),MOD(MONTH(I$4)-MONTH($H24),2)=0),"X",""),IF($G24="Quarterly",IF(AND(DAY(I$4)=DAY($H24),MOD(MONTH(I$4)-MONTH($H24),3)=0),"X",""),IF($G24="Four Monthly",IF(AND(DAY(I$4)=DAY($H24),MOD(MONTH(I$4)-MONTH($H24),4)=0),"X",""),IF($G24="Half Yearly",IF(AND(DAY(I$4)=DAY($H24),MOD(MONTH(I$4)-MONTH($H24),6)=0),"X",""),IF($G24="Yearly",IF(AND(DAY(I$4)=DAY($H24),MONTH(I$4)=MONTH($H24)),"X",""),"")))))))))),"") | J24: =IFERROR(IF(OR($H24="",$G24=""),"",IF($G24="Daily",IF(J$4>=$H24,"X",""),IF($G24="Weekly",IF(MOD(J$4-$H24,7)=0,"X",""),IF($G24="fortnightly",IF(MOD(J$4-$H24,14)=0,"X",""),IF($G24="Monthly",IF(DAY(J$4)=DAY($H24),"X",""),IF($G24="Two Monthly",IF(AND(DAY(J$4)=DAY($H24),MOD(MONTH(J$4)-MONTH($H24),2)=0),"X",""),IF($G24="Quarterly",IF(AND(DAY(J$4)=DAY($H24),MOD(MONTH(J$4)-MONTH($H24),3)=0),"X",""),IF($G24="Four Monthly",IF(AND(DAY(J$4)=DAY($H24),MOD(MONTH(J$4)-MONTH($H24),4)=0),"X",""),IF($G24="Half Yearly",IF(AND(DAY(J$4)=DAY($H24),MOD(MONTH(J$4)-MONTH($H24),6)=0),"X",""),IF($G24="Yearly",IF(AND(DAY(J$4)=DAY($H24),MONTH(J$4)=MONTH($H24)),"X",""),"")))))))))),"") | K24: =IFERROR(IF(OR($H24="",$G24=""),"",IF($G24="Daily",IF(K$4>=$H24,"X",""),IF($G24="Weekly",IF(MOD(K$4-$H24,7)=0,"X",""),IF($G24="fortnightly",IF(MOD(K$4-$H24,14)=0,"X",""),IF($G24="Monthly",IF(DAY(K$4)=DAY($H24),"X",""),IF($G24="Two Monthly",IF(AND(DAY(K$4)=DAY($H24),MOD(MONTH(K$4)-MONTH($H24),2)=0),"X",""),IF($G24="Quarterly",IF(AND(DAY(K$4)=DAY($H24),MOD(MONTH(K$4)-MONTH($H24),3)=0),"X",""),IF($G24="Four Monthly",IF(AND(DAY(K$4)=DAY($H24),MOD(MONTH(K$4)-MONTH($H24),4)=0),"X",""),IF($G24="Half Yearly",IF(AND(DAY(K$4)=DAY($H24),MOD(MONTH(K$4)-MONTH($H24),6)=0),"X",""),IF($G24="Yearly",IF(AND(DAY(K$4)=DAY($H24),MONTH(K$4)=MONTH($H24)),"X",""),"")))))))))),"") | L24: =IFERROR(IF(OR($H24="",$G24=""),"",IF($G24="Daily",IF(L$4>=$H24,"X",""),IF($G24="Weekly",IF(MOD(L$4-$H24,7)=0,"X",""),IF($G24="fortnightly",IF(MOD(L$4-$H24,14)=0,"X",""),IF($G24="Monthly",IF(DAY(L$4)=DAY($H24),"X",""),IF($G24="Two Monthly",IF(AND(DAY(L$4)=DAY($H24),MOD(MONTH(L$4)-MONTH($H24),2)=0),"X",""),IF($G24="Quarterly",IF(AND(DAY(L$4)=DAY($H24),MOD(MONTH(L$4)-MONTH($H24),3)=0),"X",""),IF($G24="Four Monthly",IF(AND(DAY(L$4)=DAY($H24),MOD(MONTH(L$4)-MONTH($H24),4)=0),"X",""),IF($G24="Half Yearly",IF(AND(DAY(L$4)=DAY($H24),MOD(MONTH(L$4)-MONTH($H24),6)=0),"X",""),IF($G24="Yearly",IF(AND(DAY(L$4)=DAY($H24),MONTH(L$4)=MONTH($H24)),"X",""),"")))))))))),"") | M24: =IFERROR(IF(OR($H24="",$G24=""),"",IF($G24="Daily",IF(M$4>=$H24,"X",""),IF($G24="Weekly",IF(MOD(M$4-$H24,7)=0,"X",""),IF($G24="fortnightly",IF(MOD(M$4-$H24,14)=0,"X",""),IF($G24="Monthly",IF(DAY(M$4)=DAY($H24),"X",""),IF($G24="Two Monthly",IF(AND(DAY(M$4)=DAY($H24),MOD(MONTH(M$4)-MONTH($H24),2)=0),"X",""),IF($G24="Quarterly",IF(AND(DAY(M$4)=DAY($H24),MOD(MONTH(M$4)-MONTH($H24),3)=0),"X",""),IF($G24="Four Monthly",IF(AND(DAY(M$4)=DAY($H24),MOD(MONTH(M$4)-MONTH($H24),4)=0),"X",""),IF($G24="Half Yearly",IF(AND(DAY(M$4)=DAY($H24),MOD(MONTH(M$4)-MONTH($H24),6)=0),"X",""),IF($G24="Yearly",IF(AND(DAY(M$4)=DAY($H24),MONTH(M$4)=MONTH($H24)),"X",""),"")))))))))),"") | N24: =IFERROR(IF(OR($H24="",$G24=""),"",IF($G24="Daily",IF(N$4>=$H24,"X",""),IF($G24="Weekly",IF(MOD(N$4-$H24,7)=0,"X",""),IF($G24="fortnightly",IF(MOD(N$4-$H24,14)=0,"X",""),IF($G24="Monthly",IF(DAY(N$4)=DAY($H24),"X",""),IF($G24="Two Monthly",IF(AND(DAY(N$4)=DAY($H24),MOD(MONTH(N$4)-MONTH($H24),2)=0),"X",""),IF($G24="Quarterly",IF(AND(DAY(N$4)=DAY($H24),MOD(MONTH(N$4)-MONTH($H24),3)=0),"X",""),IF($G24="Four Monthly",IF(AND(DAY(N$4)=DAY($H24),MOD(MONTH(N$4)-MONTH($H24),4)=0),"X",""),IF($G24="Half Yearly",IF(AND(DAY(N$4)=DAY($H24),MOD(MONTH(N$4)-MONTH($H24),6)=0),"X",""),IF($G24="Yearly",IF(AND(DAY(N$4)=DAY($H24),MONTH(N$4)=MONTH($H24)),"X",""),"")))))))))),"") | O24: =IFERROR(IF(OR($H24="",$G24=""),"",IF($G24="Daily",IF(O$4>=$H24,"X",""),IF($G24="Weekly",IF(MOD(O$4-$H24,7)=0,"X",""),IF($G24="fortnightly",IF(MOD(O$4-$H24,14)=0,"X",""),IF($G24="Monthly",IF(DAY(O$4)=DAY($H24),"X",""),IF($G24="Two Monthly",IF(AND(DAY(O$4)=DAY($H24),MOD(MONTH(O$4)-MONTH($H24),2)=0),"X",""),IF($G24="Quarterly",IF(AND(DAY(O$4)=DAY($H24),MOD(MONTH(O$4)-MONTH($H24),3)=0),"X",""),IF($G24="Four Monthly",IF(AND(DAY(O$4)=DAY($H24),MOD(MONTH(O$4)-MONTH($H24),4)=0),"X",""),IF($G24="Half Yearly",IF(AND(DAY(O$4)=DAY($H24),MOD(MONTH(O$4)-MONTH($H24),6)=0),"X",""),IF($G24="Yearly",IF(AND(DAY(O$4)=DAY($H24),MONTH(O$4)=MONTH($H24)),"X",""),"")))))))))),"") | P24: =IFERROR(IF(OR($H24="",$G24=""),"",IF($G24="Daily",IF(P$4>=$H24,"X",""),IF($G24="Weekly",IF(MOD(P$4-$H24,7)=0,"X",""),IF($G24="fortnightly",IF(MOD(P$4-$H24,14)=0,"X",""),IF($G24="Monthly",IF(DAY(P$4)=DAY($H24),"X",""),IF($G24="Two Monthly",IF(AND(DAY(P$4)=DAY($H24),MOD(MONTH(P$4)-MONTH($H24),2)=0),"X",""),IF($G24="Quarterly",IF(AND(DAY(P$4)=DAY($H24),MOD(MONTH(P$4)-MONTH($H24),3)=0),"X",""),IF($G24="Four Monthly",IF(AND(DAY(P$4)=DAY($H24),MOD(MONTH(P$4)-MONTH($H24),4)=0),"X",""),IF($G24="Half Yearly",IF(AND(DAY(P$4)=DAY($H24),MOD(MONTH(P$4)-MONTH($H24),6)=0),"X",""),IF($G24="Yearly",IF(AND(DAY(P$4)=DAY($H24),MONTH(P$4)=MONTH($H24)),"X",""),"")))))))))),"") | ... NJ24: =IFERROR(IF(OR($H24="",$G24=""),"",IF($G24="Daily",IF(NJ$4>=$H24,"X",""),IF($G24="Weekly",IF(MOD(NJ$4-$H24,7)=0,"X",""),IF($G24="fortnightly",IF(MOD(NJ$4-$H24,14)=0,"X",""),IF($G24="Monthly",IF(DAY(NJ$4)=DAY($H24),"X",""),IF($G24="Two Monthly",IF(AND(DAY(NJ$4)=DAY($H24),MOD(MONTH(NJ$4)-MONTH($H24),2)=0),"X",""),IF($G24="Quarterly",IF(AND(DAY(NJ$4)=DAY($H24),MOD(MONTH(NJ$4)-MONTH($H24),3)=0),"X",""),IF($G24="Four Monthly",IF(AND(DAY(NJ$4)=DAY($H24),MOD(MONTH(NJ$4)-MONTH($H24),4)=0),"X",""),IF($G24="Half Yearly",IF(AND(DAY(NJ$4)=DAY($H24),MOD(MONTH(NJ$4)-MONTH($H24),6)=0),"X",""),IF($G24="Yearly",IF(AND(DAY(NJ$4)=DAY($H24),MONTH(NJ$4)=MONTH($H24)),"X",""),"")))))))))),"")
I25: =IFERROR(IF(OR($H25="",$G25=""),"",IF($G25="Daily",IF(I$4>=$H25,"X",""),IF($G25="Weekly",IF(MOD(I$4-$H25,7)=0,"X",""),IF($G25="fortnightly",IF(MOD(I$4-$H25,14)=0,"X",""),IF($G25="Monthly",IF(DAY(I$4)=DAY($H25),"X",""),IF($G25="Two Monthly",IF(AND(DAY(I$4)=DAY($H25),MOD(MONTH(I$4)-MONTH($H25),2)=0),"X",""),IF($G25="Quarterly",IF(AND(DAY(I$4)=DAY($H25),MOD(MONTH(I$4)-MONTH($H25),3)=0),"X",""),IF($G25="Four Monthly",IF(AND(DAY(I$4)=DAY($H25),MOD(MONTH(I$4)-MONTH($H25),4)=0),"X",""),IF($G25="Half Yearly",IF(AND(DAY(I$4)=DAY($H25),MOD(MONTH(I$4)-MONTH($H25),6)=0),"X",""),IF($G25="Yearly",IF(AND(DAY(I$4)=DAY($H25),MONTH(I$4)=MONTH($H25)),"X",""),"")))))))))),"") | J25: =IFERROR(IF(OR($H25="",$G25=""),"",IF($G25="Daily",IF(J$4>=$H25,"X",""),IF($G25="Weekly",IF(MOD(J$4-$H25,7)=0,"X",""),IF($G25="fortnightly",IF(MOD(J$4-$H25,14)=0,"X",""),IF($G25="Monthly",IF(DAY(J$4)=DAY($H25),"X",""),IF($G25="Two Monthly",IF(AND(DAY(J$4)=DAY($H25),MOD(MONTH(J$4)-MONTH($H25),2)=0),"X",""),IF($G25="Quarterly",IF(AND(DAY(J$4)=DAY($H25),MOD(MONTH(J$4)-MONTH($H25),3)=0),"X",""),IF($G25="Four Monthly",IF(AND(DAY(J$4)=DAY($H25),MOD(MONTH(J$4)-MONTH($H25),4)=0),"X",""),IF($G25="Half Yearly",IF(AND(DAY(J$4)=DAY($H25),MOD(MONTH(J$4)-MONTH($H25),6)=0),"X",""),IF($G25="Yearly",IF(AND(DAY(J$4)=DAY($H25),MONTH(J$4)=MONTH($H25)),"X",""),"")))))))))),"") | K25: =IFERROR(IF(OR($H25="",$G25=""),"",IF($G25="Daily",IF(K$4>=$H25,"X",""),IF($G25="Weekly",IF(MOD(K$4-$H25,7)=0,"X",""),IF($G25="fortnightly",IF(MOD(K$4-$H25,14)=0,"X",""),IF($G25="Monthly",IF(DAY(K$4)=DAY($H25),"X",""),IF($G25="Two Monthly",IF(AND(DAY(K$4)=DAY($H25),MOD(MONTH(K$4)-MONTH($H25),2)=0),"X",""),IF($G25="Quarterly",IF(AND(DAY(K$4)=DAY($H25),MOD(MONTH(K$4)-MONTH($H25),3)=0),"X",""),IF($G25="Four Monthly",IF(AND(DAY(K$4)=DAY($H25),MOD(MONTH(K$4)-MONTH($H25),4)=0),"X",""),IF($G25="Half Yearly",IF(AND(DAY(K$4)=DAY($H25),MOD(MONTH(K$4)-MONTH($H25),6)=0),"X",""),IF($G25="Yearly",IF(AND(DAY(K$4)=DAY($H25),MONTH(K$4)=MONTH($H25)),"X",""),"")))))))))),"") | L25: =IFERROR(IF(OR($H25="",$G25=""),"",IF($G25="Daily",IF(L$4>=$H25,"X",""),IF($G25="Weekly",IF(MOD(L$4-$H25,7)=0,"X",""),IF($G25="fortnightly",IF(MOD(L$4-$H25,14)=0,"X",""),IF($G25="Monthly",IF(DAY(L$4)=DAY($H25),"X",""),IF($G25="Two Monthly",IF(AND(DAY(L$4)=DAY($H25),MOD(MONTH(L$4)-MONTH($H25),2)=0),"X",""),IF($G25="Quarterly",IF(AND(DAY(L$4)=DAY($H25),MOD(MONTH(L$4)-MONTH($H25),3)=0),"X",""),IF($G25="Four Monthly",IF(AND(DAY(L$4)=DAY($H25),MOD(MONTH(L$4)-MONTH($H25),4)=0),"X",""),IF($G25="Half Yearly",IF(AND(DAY(L$4)=DAY($H25),MOD(MONTH(L$4)-MONTH($H25),6)=0),"X",""),IF($G25="Yearly",IF(AND(DAY(L$4)=DAY($H25),MONTH(L$4)=MONTH($H25)),"X",""),"")))))))))),"") | M25: =IFERROR(IF(OR($H25="",$G25=""),"",IF($G25="Daily",IF(M$4>=$H25,"X",""),IF($G25="Weekly",IF(MOD(M$4-$H25,7)=0,"X",""),IF($G25="fortnightly",IF(MOD(M$4-$H25,14)=0,"X",""),IF($G25="Monthly",IF(DAY(M$4)=DAY($H25),"X",""),IF($G25="Two Monthly",IF(AND(DAY(M$4)=DAY($H25),MOD(MONTH(M$4)-MONTH($H25),2)=0),"X",""),IF($G25="Quarterly",IF(AND(DAY(M$4)=DAY($H25),MOD(MONTH(M$4)-MONTH($H25),3)=0),"X",""),IF($G25="Four Monthly",IF(AND(DAY(M$4)=DAY($H25),MOD(MONTH(M$4)-MONTH($H25),4)=0),"X",""),IF($G25="Half Yearly",IF(AND(DAY(M$4)=DAY($H25),MOD(MONTH(M$4)-MONTH($H25),6)=0),"X",""),IF($G25="Yearly",IF(AND(DAY(M$4)=DAY($H25),MONTH(M$4)=MONTH($H25)),"X",""),"")))))))))),"") | N25: =IFERROR(IF(OR($H25="",$G25=""),"",IF($G25="Daily",IF(N$4>=$H25,"X",""),IF($G25="Weekly",IF(MOD(N$4-$H25,7)=0,"X",""),IF($G25="fortnightly",IF(MOD(N$4-$H25,14)=0,"X",""),IF($G25="Monthly",IF(DAY(N$4)=DAY($H25),"X",""),IF($G25="Two Monthly",IF(AND(DAY(N$4)=DAY($H25),MOD(MONTH(N$4)-MONTH($H25),2)=0),"X",""),IF($G25="Quarterly",IF(AND(DAY(N$4)=DAY($H25),MOD(MONTH(N$4)-MONTH($H25),3)=0),"X",""),IF($G25="Four Monthly",IF(AND(DAY(N$4)=DAY($H25),MOD(MONTH(N$4)-MONTH($H25),4)=0),"X",""),IF($G25="Half Yearly",IF(AND(DAY(N$4)=DAY($H25),MOD(MONTH(N$4)-MONTH($H25),6)=0),"X",""),IF($G25="Yearly",IF(AND(DAY(N$4)=DAY($H25),MONTH(N$4)=MONTH($H25)),"X",""),"")))))))))),"") | O25: =IFERROR(IF(OR($H25="",$G25=""),"",IF($G25="Daily",IF(O$4>=$H25,"X",""),IF($G25="Weekly",IF(MOD(O$4-$H25,7)=0,"X",""),IF($G25="fortnightly",IF(MOD(O$4-$H25,14)=0,"X",""),IF($G25="Monthly",IF(DAY(O$4)=DAY($H25),"X",""),IF($G25="Two Monthly",IF(AND(DAY(O$4)=DAY($H25),MOD(MONTH(O$4)-MONTH($H25),2)=0),"X",""),IF($G25="Quarterly",IF(AND(DAY(O$4)=DAY($H25),MOD(MONTH(O$4)-MONTH($H25),3)=0),"X",""),IF($G25="Four Monthly",IF(AND(DAY(O$4)=DAY($H25),MOD(MONTH(O$4)-MONTH($H25),4)=0),"X",""),IF($G25="Half Yearly",IF(AND(DAY(O$4)=DAY($H25),MOD(MONTH(O$4)-MONTH($H25),6)=0),"X",""),IF($G25="Yearly",IF(AND(DAY(O$4)=DAY($H25),MONTH(O$4)=MONTH($H25)),"X",""),"")))))))))),"") | P25: =IFERROR(IF(OR($H25="",$G25=""),"",IF($G25="Daily",IF(P$4>=$H25,"X",""),IF($G25="Weekly",IF(MOD(P$4-$H25,7)=0,"X",""),IF($G25="fortnightly",IF(MOD(P$4-$H25,14)=0,"X",""),IF($G25="Monthly",IF(DAY(P$4)=DAY($H25),"X",""),IF($G25="Two Monthly",IF(AND(DAY(P$4)=DAY($H25),MOD(MONTH(P$4)-MONTH($H25),2)=0),"X",""),IF($G25="Quarterly",IF(AND(DAY(P$4)=DAY($H25),MOD(MONTH(P$4)-MONTH($H25),3)=0),"X",""),IF($G25="Four Monthly",IF(AND(DAY(P$4)=DAY($H25),MOD(MONTH(P$4)-MONTH($H25),4)=0),"X",""),IF($G25="Half Yearly",IF(AND(DAY(P$4)=DAY($H25),MOD(MONTH(P$4)-MONTH($H25),6)=0),"X",""),IF($G25="Yearly",IF(AND(DAY(P$4)=DAY($H25),MONTH(P$4)=MONTH($H25)),"X",""),"")))))))))),"") | ... NJ25: =IFERROR(IF(OR($H25="",$G25=""),"",IF($G25="Daily",IF(NJ$4>=$H25,"X",""),IF($G25="Weekly",IF(MOD(NJ$4-$H25,7)=0,"X",""),IF($G25="fortnightly",IF(MOD(NJ$4-$H25,14)=0,"X",""),IF($G25="Monthly",IF(DAY(NJ$4)=DAY($H25),"X",""),IF($G25="Two Monthly",IF(AND(DAY(NJ$4)=DAY($H25),MOD(MONTH(NJ$4)-MONTH($H25),2)=0),"X",""),IF($G25="Quarterly",IF(AND(DAY(NJ$4)=DAY($H25),MOD(MONTH(NJ$4)-MONTH($H25),3)=0),"X",""),IF($G25="Four Monthly",IF(AND(DAY(NJ$4)=DAY($H25),MOD(MONTH(NJ$4)-MONTH($H25),4)=0),"X",""),IF($G25="Half Yearly",IF(AND(DAY(NJ$4)=DAY($H25),MOD(MONTH(NJ$4)-MONTH($H25),6)=0),"X",""),IF($G25="Yearly",IF(AND(DAY(NJ$4)=DAY($H25),MONTH(NJ$4)=MONTH($H25)),"X",""),"")))))))))),"")
I26: =IFERROR(IF(OR($H26="",$G26=""),"",IF($G26="Daily",IF(I$4>=$H26,"X",""),IF($G26="Weekly",IF(MOD(I$4-$H26,7)=0,"X",""),IF($G26="fortnightly",IF(MOD(I$4-$H26,14)=0,"X",""),IF($G26="Monthly",IF(DAY(I$4)=DAY($H26),"X",""),IF($G26="Two Monthly",IF(AND(DAY(I$4)=DAY($H26),MOD(MONTH(I$4)-MONTH($H26),2)=0),"X",""),IF($G26="Quarterly",IF(AND(DAY(I$4)=DAY($H26),MOD(MONTH(I$4)-MONTH($H26),3)=0),"X",""),IF($G26="Four Monthly",IF(AND(DAY(I$4)=DAY($H26),MOD(MONTH(I$4)-MONTH($H26),4)=0),"X",""),IF($G26="Half Yearly",IF(AND(DAY(I$4)=DAY($H26),MOD(MONTH(I$4)-MONTH($H26),6)=0),"X",""),IF($G26="Yearly",IF(AND(DAY(I$4)=DAY($H26),MONTH(I$4)=MONTH($H26)),"X",""),"")))))))))),"") | J26: =IFERROR(IF(OR($H26="",$G26=""),"",IF($G26="Daily",IF(J$4>=$H26,"X",""),IF($G26="Weekly",IF(MOD(J$4-$H26,7)=0,"X",""),IF($G26="fortnightly",IF(MOD(J$4-$H26,14)=0,"X",""),IF($G26="Monthly",IF(DAY(J$4)=DAY($H26),"X",""),IF($G26="Two Monthly",IF(AND(DAY(J$4)=DAY($H26),MOD(MONTH(J$4)-MONTH($H26),2)=0),"X",""),IF($G26="Quarterly",IF(AND(DAY(J$4)=DAY($H26),MOD(MONTH(J$4)-MONTH($H26),3)=0),"X",""),IF($G26="Four Monthly",IF(AND(DAY(J$4)=DAY($H26),MOD(MONTH(J$4)-MONTH($H26),4)=0),"X",""),IF($G26="Half Yearly",IF(AND(DAY(J$4)=DAY($H26),MOD(MONTH(J$4)-MONTH($H26),6)=0),"X",""),IF($G26="Yearly",IF(AND(DAY(J$4)=DAY($H26),MONTH(J$4)=MONTH($H26)),"X",""),"")))))))))),"") | K26: =IFERROR(IF(OR($H26="",$G26=""),"",IF($G26="Daily",IF(K$4>=$H26,"X",""),IF($G26="Weekly",IF(MOD(K$4-$H26,7)=0,"X",""),IF($G26="fortnightly",IF(MOD(K$4-$H26,14)=0,"X",""),IF($G26="Monthly",IF(DAY(K$4)=DAY($H26),"X",""),IF($G26="Two Monthly",IF(AND(DAY(K$4)=DAY($H26),MOD(MONTH(K$4)-MONTH($H26),2)=0),"X",""),IF($G26="Quarterly",IF(AND(DAY(K$4)=DAY($H26),MOD(MONTH(K$4)-MONTH($H26),3)=0),"X",""),IF($G26="Four Monthly",IF(AND(DAY(K$4)=DAY($H26),MOD(MONTH(K$4)-MONTH($H26),4)=0),"X",""),IF($G26="Half Yearly",IF(AND(DAY(K$4)=DAY($H26),MOD(MONTH(K$4)-MONTH($H26),6)=0),"X",""),IF($G26="Yearly",IF(AND(DAY(K$4)=DAY($H26),MONTH(K$4)=MONTH($H26)),"X",""),"")))))))))),"") | L26: =IFERROR(IF(OR($H26="",$G26=""),"",IF($G26="Daily",IF(L$4>=$H26,"X",""),IF($G26="Weekly",IF(MOD(L$4-$H26,7)=0,"X",""),IF($G26="fortnightly",IF(MOD(L$4-$H26,14)=0,"X",""),IF($G26="Monthly",IF(DAY(L$4)=DAY($H26),"X",""),IF($G26="Two Monthly",IF(AND(DAY(L$4)=DAY($H26),MOD(MONTH(L$4)-MONTH($H26),2)=0),"X",""),IF($G26="Quarterly",IF(AND(DAY(L$4)=DAY($H26),MOD(MONTH(L$4)-MONTH($H26),3)=0),"X",""),IF($G26="Four Monthly",IF(AND(DAY(L$4)=DAY($H26),MOD(MONTH(L$4)-MONTH($H26),4)=0),"X",""),IF($G26="Half Yearly",IF(AND(DAY(L$4)=DAY($H26),MOD(MONTH(L$4)-MONTH($H26),6)=0),"X",""),IF($G26="Yearly",IF(AND(DAY(L$4)=DAY($H26),MONTH(L$4)=MONTH($H26)),"X",""),"")))))))))),"") | M26: =IFERROR(IF(OR($H26="",$G26=""),"",IF($G26="Daily",IF(M$4>=$H26,"X",""),IF($G26="Weekly",IF(MOD(M$4-$H26,7)=0,"X",""),IF($G26="fortnightly",IF(MOD(M$4-$H26,14)=0,"X",""),IF($G26="Monthly",IF(DAY(M$4)=DAY($H26),"X",""),IF($G26="Two Monthly",IF(AND(DAY(M$4)=DAY($H26),MOD(MONTH(M$4)-MONTH($H26),2)=0),"X",""),IF($G26="Quarterly",IF(AND(DAY(M$4)=DAY($H26),MOD(MONTH(M$4)-MONTH($H26),3)=0),"X",""),IF($G26="Four Monthly",IF(AND(DAY(M$4)=DAY($H26),MOD(MONTH(M$4)-MONTH($H26),4)=0),"X",""),IF($G26="Half Yearly",IF(AND(DAY(M$4)=DAY($H26),MOD(MONTH(M$4)-MONTH($H26),6)=0),"X",""),IF($G26="Yearly",IF(AND(DAY(M$4)=DAY($H26),MONTH(M$4)=MONTH($H26)),"X",""),"")))))))))),"") | N26: =IFERROR(IF(OR($H26="",$G26=""),"",IF($G26="Daily",IF(N$4>=$H26,"X",""),IF($G26="Weekly",IF(MOD(N$4-$H26,7)=0,"X",""),IF($G26="fortnightly",IF(MOD(N$4-$H26,14)=0,"X",""),IF($G26="Monthly",IF(DAY(N$4)=DAY($H26),"X",""),IF($G26="Two Monthly",IF(AND(DAY(N$4)=DAY($H26),MOD(MONTH(N$4)-MONTH($H26),2)=0),"X",""),IF($G26="Quarterly",IF(AND(DAY(N$4)=DAY($H26),MOD(MONTH(N$4)-MONTH($H26),3)=0),"X",""),IF($G26="Four Monthly",IF(AND(DAY(N$4)=DAY($H26),MOD(MONTH(N$4)-MONTH($H26),4)=0),"X",""),IF($G26="Half Yearly",IF(AND(DAY(N$4)=DAY($H26),MOD(MONTH(N$4)-MONTH($H26),6)=0),"X",""),IF($G26="Yearly",IF(AND(DAY(N$4)=DAY($H26),MONTH(N$4)=MONTH($H26)),"X",""),"")))))))))),"") | O26: =IFERROR(IF(OR($H26="",$G26=""),"",IF($G26="Daily",IF(O$4>=$H26,"X",""),IF($G26="Weekly",IF(MOD(O$4-$H26,7)=0,"X",""),IF($G26="fortnightly",IF(MOD(O$4-$H26,14)=0,"X",""),IF($G26="Monthly",IF(DAY(O$4)=DAY($H26),"X",""),IF($G26="Two Monthly",IF(AND(DAY(O$4)=DAY($H26),MOD(MONTH(O$4)-MONTH($H26),2)=0),"X",""),IF($G26="Quarterly",IF(AND(DAY(O$4)=DAY($H26),MOD(MONTH(O$4)-MONTH($H26),3)=0),"X",""),IF($G26="Four Monthly",IF(AND(DAY(O$4)=DAY($H26),MOD(MONTH(O$4)-MONTH($H26),4)=0),"X",""),IF($G26="Half Yearly",IF(AND(DAY(O$4)=DAY($H26),MOD(MONTH(O$4)-MONTH($H26),6)=0),"X",""),IF($G26="Yearly",IF(AND(DAY(O$4)=DAY($H26),MONTH(O$4)=MONTH($H26)),"X",""),"")))))))))),"") | P26: =IFERROR(IF(OR($H26="",$G26=""),"",IF($G26="Daily",IF(P$4>=$H26,"X",""),IF($G26="Weekly",IF(MOD(P$4-$H26,7)=0,"X",""),IF($G26="fortnightly",IF(MOD(P$4-$H26,14)=0,"X",""),IF($G26="Monthly",IF(DAY(P$4)=DAY($H26),"X",""),IF($G26="Two Monthly",IF(AND(DAY(P$4)=DAY($H26),MOD(MONTH(P$4)-MONTH($H26),2)=0),"X",""),IF($G26="Quarterly",IF(AND(DAY(P$4)=DAY($H26),MOD(MONTH(P$4)-MONTH($H26),3)=0),"X",""),IF($G26="Four Monthly",IF(AND(DAY(P$4)=DAY($H26),MOD(MONTH(P$4)-MONTH($H26),4)=0),"X",""),IF($G26="Half Yearly",IF(AND(DAY(P$4)=DAY($H26),MOD(MONTH(P$4)-MONTH($H26),6)=0),"X",""),IF($G26="Yearly",IF(AND(DAY(P$4)=DAY($H26),MONTH(P$4)=MONTH($H26)),"X",""),"")))))))))),"") | ... NJ26: =IFERROR(IF(OR($H26="",$G26=""),"",IF($G26="Daily",IF(NJ$4>=$H26,"X",""),IF($G26="Weekly",IF(MOD(NJ$4-$H26,7)=0,"X",""),IF($G26="fortnightly",IF(MOD(NJ$4-$H26,14)=0,"X",""),IF($G26="Monthly",IF(DAY(NJ$4)=DAY($H26),"X",""),IF($G26="Two Monthly",IF(AND(DAY(NJ$4)=DAY($H26),MOD(MONTH(NJ$4)-MONTH($H26),2)=0),"X",""),IF($G26="Quarterly",IF(AND(DAY(NJ$4)=DAY($H26),MOD(MONTH(NJ$4)-MONTH($H26),3)=0),"X",""),IF($G26="Four Monthly",IF(AND(DAY(NJ$4)=DAY($H26),MOD(MONTH(NJ$4)-MONTH($H26),4)=0),"X",""),IF($G26="Half Yearly",IF(AND(DAY(NJ$4)=DAY($H26),MOD(MONTH(NJ$4)-MONTH($H26),6)=0),"X",""),IF($G26="Yearly",IF(AND(DAY(NJ$4)=DAY($H26),MONTH(NJ$4)=MONTH($H26)),"X",""),"")))))))))),"")
I27: =IFERROR(IF(OR($H27="",$G27=""),"",IF($G27="Daily",IF(I$4>=$H27,"X",""),IF($G27="Weekly",IF(MOD(I$4-$H27,7)=0,"X",""),IF($G27="fortnightly",IF(MOD(I$4-$H27,14)=0,"X",""),IF($G27="Monthly",IF(DAY(I$4)=DAY($H27),"X",""),IF($G27="Two Monthly",IF(AND(DAY(I$4)=DAY($H27),MOD(MONTH(I$4)-MONTH($H27),2)=0),"X",""),IF($G27="Quarterly",IF(AND(DAY(I$4)=DAY($H27),MOD(MONTH(I$4)-MONTH($H27),3)=0),"X",""),IF($G27="Four Monthly",IF(AND(DAY(I$4)=DAY($H27),MOD(MONTH(I$4)-MONTH($H27),4)=0),"X",""),IF($G27="Half Yearly",IF(AND(DAY(I$4)=DAY($H27),MOD(MONTH(I$4)-MONTH($H27),6)=0),"X",""),IF($G27="Yearly",IF(AND(DAY(I$4)=DAY($H27),MONTH(I$4)=MONTH($H27)),"X",""),"")))))))))),"") | J27: =IFERROR(IF(OR($H27="",$G27=""),"",IF($G27="Daily",IF(J$4>=$H27,"X",""),IF($G27="Weekly",IF(MOD(J$4-$H27,7)=0,"X",""),IF($G27="fortnightly",IF(MOD(J$4-$H27,14)=0,"X",""),IF($G27="Monthly",IF(DAY(J$4)=DAY($H27),"X",""),IF($G27="Two Monthly",IF(AND(DAY(J$4)=DAY($H27),MOD(MONTH(J$4)-MONTH($H27),2)=0),"X",""),IF($G27="Quarterly",IF(AND(DAY(J$4)=DAY($H27),MOD(MONTH(J$4)-MONTH($H27),3)=0),"X",""),IF($G27="Four Monthly",IF(AND(DAY(J$4)=DAY($H27),MOD(MONTH(J$4)-MONTH($H27),4)=0),"X",""),IF($G27="Half Yearly",IF(AND(DAY(J$4)=DAY($H27),MOD(MONTH(J$4)-MONTH($H27),6)=0),"X",""),IF($G27="Yearly",IF(AND(DAY(J$4)=DAY($H27),MONTH(J$4)=MONTH($H27)),"X",""),"")))))))))),"") | K27: =IFERROR(IF(OR($H27="",$G27=""),"",IF($G27="Daily",IF(K$4>=$H27,"X",""),IF($G27="Weekly",IF(MOD(K$4-$H27,7)=0,"X",""),IF($G27="fortnightly",IF(MOD(K$4-$H27,14)=0,"X",""),IF($G27="Monthly",IF(DAY(K$4)=DAY($H27),"X",""),IF($G27="Two Monthly",IF(AND(DAY(K$4)=DAY($H27),MOD(MONTH(K$4)-MONTH($H27),2)=0),"X",""),IF($G27="Quarterly",IF(AND(DAY(K$4)=DAY($H27),MOD(MONTH(K$4)-MONTH($H27),3)=0),"X",""),IF($G27="Four Monthly",IF(AND(DAY(K$4)=DAY($H27),MOD(MONTH(K$4)-MONTH($H27),4)=0),"X",""),IF($G27="Half Yearly",IF(AND(DAY(K$4)=DAY($H27),MOD(MONTH(K$4)-MONTH($H27),6)=0),"X",""),IF($G27="Yearly",IF(AND(DAY(K$4)=DAY($H27),MONTH(K$4)=MONTH($H27)),"X",""),"")))))))))),"") | L27: =IFERROR(IF(OR($H27="",$G27=""),"",IF($G27="Daily",IF(L$4>=$H27,"X",""),IF($G27="Weekly",IF(MOD(L$4-$H27,7)=0,"X",""),IF($G27="fortnightly",IF(MOD(L$4-$H27,14)=0,"X",""),IF($G27="Monthly",IF(DAY(L$4)=DAY($H27),"X",""),IF($G27="Two Monthly",IF(AND(DAY(L$4)=DAY($H27),MOD(MONTH(L$4)-MONTH($H27),2)=0),"X",""),IF($G27="Quarterly",IF(AND(DAY(L$4)=DAY($H27),MOD(MONTH(L$4)-MONTH($H27),3)=0),"X",""),IF($G27="Four Monthly",IF(AND(DAY(L$4)=DAY($H27),MOD(MONTH(L$4)-MONTH($H27),4)=0),"X",""),IF($G27="Half Yearly",IF(AND(DAY(L$4)=DAY($H27),MOD(MONTH(L$4)-MONTH($H27),6)=0),"X",""),IF($G27="Yearly",IF(AND(DAY(L$4)=DAY($H27),MONTH(L$4)=MONTH($H27)),"X",""),"")))))))))),"") | M27: =IFERROR(IF(OR($H27="",$G27=""),"",IF($G27="Daily",IF(M$4>=$H27,"X",""),IF($G27="Weekly",IF(MOD(M$4-$H27,7)=0,"X",""),IF($G27="fortnightly",IF(MOD(M$4-$H27,14)=0,"X",""),IF($G27="Monthly",IF(DAY(M$4)=DAY($H27),"X",""),IF($G27="Two Monthly",IF(AND(DAY(M$4)=DAY($H27),MOD(MONTH(M$4)-MONTH($H27),2)=0),"X",""),IF($G27="Quarterly",IF(AND(DAY(M$4)=DAY($H27),MOD(MONTH(M$4)-MONTH($H27),3)=0),"X",""),IF($G27="Four Monthly",IF(AND(DAY(M$4)=DAY($H27),MOD(MONTH(M$4)-MONTH($H27),4)=0),"X",""),IF($G27="Half Yearly",IF(AND(DAY(M$4)=DAY($H27),MOD(MONTH(M$4)-MONTH($H27),6)=0),"X",""),IF($G27="Yearly",IF(AND(DAY(M$4)=DAY($H27),MONTH(M$4)=MONTH($H27)),"X",""),"")))))))))),"") | N27: =IFERROR(IF(OR($H27="",$G27=""),"",IF($G27="Daily",IF(N$4>=$H27,"X",""),IF($G27="Weekly",IF(MOD(N$4-$H27,7)=0,"X",""),IF($G27="fortnightly",IF(MOD(N$4-$H27,14)=0,"X",""),IF($G27="Monthly",IF(DAY(N$4)=DAY($H27),"X",""),IF($G27="Two Monthly",IF(AND(DAY(N$4)=DAY($H27),MOD(MONTH(N$4)-MONTH($H27),2)=0),"X",""),IF($G27="Quarterly",IF(AND(DAY(N$4)=DAY($H27),MOD(MONTH(N$4)-MONTH($H27),3)=0),"X",""),IF($G27="Four Monthly",IF(AND(DAY(N$4)=DAY($H27),MOD(MONTH(N$4)-MONTH($H27),4)=0),"X",""),IF($G27="Half Yearly",IF(AND(DAY(N$4)=DAY($H27),MOD(MONTH(N$4)-MONTH($H27),6)=0),"X",""),IF($G27="Yearly",IF(AND(DAY(N$4)=DAY($H27),MONTH(N$4)=MONTH($H27)),"X",""),"")))))))))),"") | O27: =IFERROR(IF(OR($H27="",$G27=""),"",IF($G27="Daily",IF(O$4>=$H27,"X",""),IF($G27="Weekly",IF(MOD(O$4-$H27,7)=0,"X",""),IF($G27="fortnightly",IF(MOD(O$4-$H27,14)=0,"X",""),IF($G27="Monthly",IF(DAY(O$4)=DAY($H27),"X",""),IF($G27="Two Monthly",IF(AND(DAY(O$4)=DAY($H27),MOD(MONTH(O$4)-MONTH($H27),2)=0),"X",""),IF($G27="Quarterly",IF(AND(DAY(O$4)=DAY($H27),MOD(MONTH(O$4)-MONTH($H27),3)=0),"X",""),IF($G27="Four Monthly",IF(AND(DAY(O$4)=DAY($H27),MOD(MONTH(O$4)-MONTH($H27),4)=0),"X",""),IF($G27="Half Yearly",IF(AND(DAY(O$4)=DAY($H27),MOD(MONTH(O$4)-MONTH($H27),6)=0),"X",""),IF($G27="Yearly",IF(AND(DAY(O$4)=DAY($H27),MONTH(O$4)=MONTH($H27)),"X",""),"")))))))))),"") | P27: =IFERROR(IF(OR($H27="",$G27=""),"",IF($G27="Daily",IF(P$4>=$H27,"X",""),IF($G27="Weekly",IF(MOD(P$4-$H27,7)=0,"X",""),IF($G27="fortnightly",IF(MOD(P$4-$H27,14)=0,"X",""),IF($G27="Monthly",IF(DAY(P$4)=DAY($H27),"X",""),IF($G27="Two Monthly",IF(AND(DAY(P$4)=DAY($H27),MOD(MONTH(P$4)-MONTH($H27),2)=0),"X",""),IF($G27="Quarterly",IF(AND(DAY(P$4)=DAY($H27),MOD(MONTH(P$4)-MONTH($H27),3)=0),"X",""),IF($G27="Four Monthly",IF(AND(DAY(P$4)=DAY($H27),MOD(MONTH(P$4)-MONTH($H27),4)=0),"X",""),IF($G27="Half Yearly",IF(AND(DAY(P$4)=DAY($H27),MOD(MONTH(P$4)-MONTH($H27),6)=0),"X",""),IF($G27="Yearly",IF(AND(DAY(P$4)=DAY($H27),MONTH(P$4)=MONTH($H27)),"X",""),"")))))))))),"") | ... NJ27: =IFERROR(IF(OR($H27="",$G27=""),"",IF($G27="Daily",IF(NJ$4>=$H27,"X",""),IF($G27="Weekly",IF(MOD(NJ$4-$H27,7)=0,"X",""),IF($G27="fortnightly",IF(MOD(NJ$4-$H27,14)=0,"X",""),IF($G27="Monthly",IF(DAY(NJ$4)=DAY($H27),"X",""),IF($G27="Two Monthly",IF(AND(DAY(NJ$4)=DAY($H27),MOD(MONTH(NJ$4)-MONTH($H27),2)=0),"X",""),IF($G27="Quarterly",IF(AND(DAY(NJ$4)=DAY($H27),MOD(MONTH(NJ$4)-MONTH($H27),3)=0),"X",""),IF($G27="Four Monthly",IF(AND(DAY(NJ$4)=DAY($H27),MOD(MONTH(NJ$4)-MONTH($H27),4)=0),"X",""),IF($G27="Half Yearly",IF(AND(DAY(NJ$4)=DAY($H27),MOD(MONTH(NJ$4)-MONTH($H27),6)=0),"X",""),IF($G27="Yearly",IF(AND(DAY(NJ$4)=DAY($H27),MONTH(NJ$4)=MONTH($H27)),"X",""),"")))))))))),"")
... I195: =IFERROR(IF(OR($H195="",$G195=""),"",IF($G195="Daily",IF(I$4>=$H195,"X",""),IF($G195="Weekly",IF(MOD(I$4-$H195,7)=0,"X",""),IF($G195="fortnightly",IF(MOD(I$4-$H195,14)=0,"X",""),IF($G195="Monthly",IF(DAY(I$4)=DAY($H195),"X",""),IF($G195="Two Monthly",IF(AND(DAY(I$4)=DAY($H195),MOD(MONTH(I$4)-MONTH($H195),2)=0),"X",""),IF($G195="Quarterly",IF(AND(DAY(I$4)=DAY($H195),MOD(MONTH(I$4)-MONTH($H195),3)=0),"X",""),IF($G195="Four Monthly",IF(AND(DAY(I$4)=DAY($H195),MOD(MONTH(I$4)-MONTH($H195),4)=0),"X",""),IF($G195="Half Yearly",IF(AND(DAY(I$4)=DAY($H195),MOD(MONTH(I$4)-MONTH($H195),6)=0),"X",""),IF($G195="Yearly",IF(AND(DAY(I$4)=DAY($H195),MONTH(I$4)=MONTH($H195)),"X",""),"")))))))))),"") | J195: =IFERROR(IF(OR($H195="",$G195=""),"",IF($G195="Daily",IF(J$4>=$H195,"X",""),IF($G195="Weekly",IF(MOD(J$4-$H195,7)=0,"X",""),IF($G195="fortnightly",IF(MOD(J$4-$H195,14)=0,"X",""),IF($G195="Monthly",IF(DAY(J$4)=DAY($H195),"X",""),IF($G195="Two Monthly",IF(AND(DAY(J$4)=DAY($H195),MOD(MONTH(J$4)-MONTH($H195),2)=0),"X",""),IF($G195="Quarterly",IF(AND(DAY(J$4)=DAY($H195),MOD(MONTH(J$4)-MONTH($H195),3)=0),"X",""),IF($G195="Four Monthly",IF(AND(DAY(J$4)=DAY($H195),MOD(MONTH(J$4)-MONTH($H195),4)=0),"X",""),IF($G195="Half Yearly",IF(AND(DAY(J$4)=DAY($H195),MOD(MONTH(J$4)-MONTH($H195),6)=0),"X",""),IF($G195="Yearly",IF(AND(DAY(J$4)=DAY($H195),MONTH(J$4)=MONTH($H195)),"X",""),"")))))))))),"") | K195: =IFERROR(IF(OR($H195="",$G195=""),"",IF($G195="Daily",IF(K$4>=$H195,"X",""),IF($G195="Weekly",IF(MOD(K$4-$H195,7)=0,"X",""),IF($G195="fortnightly",IF(MOD(K$4-$H195,14)=0,"X",""),IF($G195="Monthly",IF(DAY(K$4)=DAY($H195),"X",""),IF($G195="Two Monthly",IF(AND(DAY(K$4)=DAY($H195),MOD(MONTH(K$4)-MONTH($H195),2)=0),"X",""),IF($G195="Quarterly",IF(AND(DAY(K$4)=DAY($H195),MOD(MONTH(K$4)-MONTH($H195),3)=0),"X",""),IF($G195="Four Monthly",IF(AND(DAY(K$4)=DAY($H195),MOD(MONTH(K$4)-MONTH($H195),4)=0),"X",""),IF($G195="Half Yearly",IF(AND(DAY(K$4)=DAY($H195),MOD(MONTH(K$4)-MONTH($H195),6)=0),"X",""),IF($G195="Yearly",IF(AND(DAY(K$4)=DAY($H195),MONTH(K$4)=MONTH($H195)),"X",""),"")))))))))),"") | L195: =IFERROR(IF(OR($H195="",$G195=""),"",IF($G195="Daily",IF(L$4>=$H195,"X",""),IF($G195="Weekly",IF(MOD(L$4-$H195,7)=0,"X",""),IF($G195="fortnightly",IF(MOD(L$4-$H195,14)=0,"X",""),IF($G195="Monthly",IF(DAY(L$4)=DAY($H195),"X",""),IF($G195="Two Monthly",IF(AND(DAY(L$4)=DAY($H195),MOD(MONTH(L$4)-MONTH($H195),2)=0),"X",""),IF($G195="Quarterly",IF(AND(DAY(L$4)=DAY($H195),MOD(MONTH(L$4)-MONTH($H195),3)=0),"X",""),IF($G195="Four Monthly",IF(AND(DAY(L$4)=DAY($H195),MOD(MONTH(L$4)-MONTH($H195),4)=0),"X",""),IF($G195="Half Yearly",IF(AND(DAY(L$4)=DAY($H195),MOD(MONTH(L$4)-MONTH($H195),6)=0),"X",""),IF($G195="Yearly",IF(AND(DAY(L$4)=DAY($H195),MONTH(L$4)=MONTH($H195)),"X",""),"")))))))))),"") | M195: =IFERROR(IF(OR($H195="",$G195=""),"",IF($G195="Daily",IF(M$4>=$H195,"X",""),IF($G195="Weekly",IF(MOD(M$4-$H195,7)=0,"X",""),IF($G195="fortnightly",IF(MOD(M$4-$H195,14)=0,"X",""),IF($G195="Monthly",IF(DAY(M$4)=DAY($H195),"X",""),IF($G195="Two Monthly",IF(AND(DAY(M$4)=DAY($H195),MOD(MONTH(M$4)-MONTH($H195),2)=0),"X",""),IF($G195="Quarterly",IF(AND(DAY(M$4)=DAY($H195),MOD(MONTH(M$4)-MONTH($H195),3)=0),"X",""),IF($G195="Four Monthly",IF(AND(DAY(M$4)=DAY($H195),MOD(MONTH(M$4)-MONTH($H195),4)=0),"X",""),IF($G195="Half Yearly",IF(AND(DAY(M$4)=DAY($H195),MOD(MONTH(M$4)-MONTH($H195),6)=0),"X",""),IF($G195="Yearly",IF(AND(DAY(M$4)=DAY($H195),MONTH(M$4)=MONTH($H195)),"X",""),"")))))))))),"") | N195: =IFERROR(IF(OR($H195="",$G195=""),"",IF($G195="Daily",IF(N$4>=$H195,"X",""),IF($G195="Weekly",IF(MOD(N$4-$H195,7)=0,"X",""),IF($G195="fortnightly",IF(MOD(N$4-$H195,14)=0,"X",""),IF($G195="Monthly",IF(DAY(N$4)=DAY($H195),"X",""),IF($G195="Two Monthly",IF(AND(DAY(N$4)=DAY($H195),MOD(MONTH(N$4)-MONTH($H195),2)=0),"X",""),IF($G195="Quarterly",IF(AND(DAY(N$4)=DAY($H195),MOD(MONTH(N$4)-MONTH($H195),3)=0),"X",""),IF($G195="Four Monthly",IF(AND(DAY(N$4)=DAY($H195),MOD(MONTH(N$4)-MONTH($H195),4)=0),"X",""),IF($G195="Half Yearly",IF(AND(DAY(N$4)=DAY($H195),MOD(MONTH(N$4)-MONTH($H195),6)=0),"X",""),IF($G195="Yearly",IF(AND(DAY(N$4)=DAY($H195),MONTH(N$4)=MONTH($H195)),"X",""),"")))))))))),"") | O195: =IFERROR(IF(OR($H195="",$G195=""),"",IF($G195="Daily",IF(O$4>=$H195,"X",""),IF($G195="Weekly",IF(MOD(O$4-$H195,7)=0,"X",""),IF($G195="fortnightly",IF(MOD(O$4-$H195,14)=0,"X",""),IF($G195="Monthly",IF(DAY(O$4)=DAY($H195),"X",""),IF($G195="Two Monthly",IF(AND(DAY(O$4)=DAY($H195),MOD(MONTH(O$4)-MONTH($H195),2)=0),"X",""),IF($G195="Quarterly",IF(AND(DAY(O$4)=DAY($H195),MOD(MONTH(O$4)-MONTH($H195),3)=0),"X",""),IF($G195="Four Monthly",IF(AND(DAY(O$4)=DAY($H195),MOD(MONTH(O$4)-MONTH($H195),4)=0),"X",""),IF($G195="Half Yearly",IF(AND(DAY(O$4)=DAY($H195),MOD(MONTH(O$4)-MONTH($H195),6)=0),"X",""),IF($G195="Yearly",IF(AND(DAY(O$4)=DAY($H195),MONTH(O$4)=MONTH($H195)),"X",""),"")))))))))),"") | P195: =IFERROR(IF(OR($H195="",$G195=""),"",IF($G195="Daily",IF(P$4>=$H195,"X",""),IF($G195="Weekly",IF(MOD(P$4-$H195,7)=0,"X",""),IF($G195="fortnightly",IF(MOD(P$4-$H195,14)=0,"X",""),IF($G195="Monthly",IF(DAY(P$4)=DAY($H195),"X",""),IF($G195="Two Monthly",IF(AND(DAY(P$4)=DAY($H195),MOD(MONTH(P$4)-MONTH($H195),2)=0),"X",""),IF($G195="Quarterly",IF(AND(DAY(P$4)=DAY($H195),MOD(MONTH(P$4)-MONTH($H195),3)=0),"X",""),IF($G195="Four Monthly",IF(AND(DAY(P$4)=DAY($H195),MOD(MONTH(P$4)-MONTH($H195),4)=0),"X",""),IF($G195="Half Yearly",IF(AND(DAY(P$4)=DAY($H195),MOD(MONTH(P$4)-MONTH($H195),6)=0),"X",""),IF($G195="Yearly",IF(AND(DAY(P$4)=DAY($H195),MONTH(P$4)=MONTH($H195)),"X",""),"")))))))))),"") | ... NJ195: =IFERROR(IF(OR($H195="",$G195=""),"",IF($G195="Daily",IF(NJ$4>=$H195,"X",""),IF($G195="Weekly",IF(MOD(NJ$4-$H195,7)=0,"X",""),IF($G195="fortnightly",IF(MOD(NJ$4-$H195,14)=0,"X",""),IF($G195="Monthly",IF(DAY(NJ$4)=DAY($H195),"X",""),IF($G195="Two Monthly",IF(AND(DAY(NJ$4)=DAY($H195),MOD(MONTH(NJ$4)-MONTH($H195),2)=0),"X",""),IF($G195="Quarterly",IF(AND(DAY(NJ$4)=DAY($H195),MOD(MONTH(NJ$4)-MONTH($H195),3)=0),"X",""),IF($G195="Four Monthly",IF(AND(DAY(NJ$4)=DAY($H195),MOD(MONTH(NJ$4)-MONTH($H195),4)=0),"X",""),IF($G195="Half Yearly",IF(AND(DAY(NJ$4)=DAY($H195),MOD(MONTH(NJ$4)-MONTH($H195),6)=0),"X",""),IF($G195="Yearly",IF(AND(DAY(NJ$4)=DAY($H195),MONTH(NJ$4)=MONTH($H195)),"X",""),"")))))))))),"")

Sheet Mark Status
B2: ='PM Scheduling'!Y2 -> 46023 | E2: TO | G2: ='PM Scheduling'!AG2 -> 46387 | L2: TOTAL DONE (D) | V2: =COUNTIF($I$7:$NJ$195,"D") -> 0 | AA2: TOTAL PENDING (X) | AK2: =COUNTIF($I$7:$NY$195,"X") -> 473 | AP2: ON HOLD (OH) | AZ2: =COUNTIF($I$7:$ON$195,"OH") -> 0
B4: Dates & Days | I4: ='PM Scheduling'!I4 -> 46023 | J4: ='PM Scheduling'!J4 -> 46024 | K4: ='PM Scheduling'!K4 -> 46025 | L4: ='PM Scheduling'!L4 -> 46026 | M4: ='PM Scheduling'!M4 -> 46027 | N4: ='PM Scheduling'!N4 -> 46028 | O4: ='PM Scheduling'!O4 -> 46029 | P4: ='PM Scheduling'!P4 -> 46030 | ... NJ4: ='PM Scheduling'!NJ4 -> 46388
B5: Equpiments & Task discription | I5: ='PM Scheduling'!I5 -> Thu | J5: =TEXT(J4,"ddd") -> Fri | K5: =TEXT(K4,"ddd") -> Sat | L5: =TEXT(L4,"ddd") -> Sun | M5: =TEXT(M4,"ddd") -> Mon | N5: =TEXT(N4,"ddd") -> Tue | O5: =TEXT(O4,"ddd") -> Wed | P5: =TEXT(P4,"ddd") -> Thu | Q5: =TEXT(Q4,"ddd") -> Fri | ... NJ5: =TEXT(NJ4,"ddd") -> Fri
B6: SI. No | C6: Equpiment ID | D6: Equipments | E6: Task Discription | F6: Location | G6: Frequancy | H6: Start Date | I6: ='PM Scheduling'!I6 -> 1 | J6: ='PM Scheduling'!J6 -> 2 | K6: ='PM Scheduling'!K6 -> 3 | L6: ='PM Scheduling'!L6 -> 4 | M6: ='PM Scheduling'!M6 -> 5 | N6: ='PM Scheduling'!N6 -> 6 | O6: ='PM Scheduling'!O6 -> 7 | P6: ='PM Scheduling'!P6 -> 8 | ... NJ6: ='PM Scheduling'!NJ6 -> 366
B7: =IFERROR('PM Scheduling'!B7,"") -> 1 | C7: ='PM Scheduling'!C7 -> EQ 001 | D7: ='PM Scheduling'!D7 -> Equipment 1 | E7: ='PM Scheduling'!E7 -> Part 1 | F7: ='PM Scheduling'!F7 -> Zone 1 | G7: =IF('PM Scheduling'!G7="","",'PM Scheduling'!G7) -> Daily | H7: =IF('PM Scheduling'!H7="","",'PM Scheduling'!H7) -> 46023 | I7: =IF('PM Scheduling'!I7="","",'PM Scheduling'!I7) -> X | J7: =IF('PM Scheduling'!J7="","",'PM Scheduling'!J7) -> X | K7: =IF('PM Scheduling'!K7="","",'PM Scheduling'!K7) -> X | L7: =IF('PM Scheduling'!L7="","",'PM Scheduling'!L7) -> X | M7: =IF('PM Scheduling'!M7="","",'PM Scheduling'!M7) -> X | N7: =IF('PM Scheduling'!N7="","",'PM Scheduling'!N7) -> X | ... NJ7: =IF('PM Scheduling'!NJ7="","",'PM Scheduling'!NJ7) -> X
B8: ='PM Scheduling'!B8 -> 2 | C8: ='PM Scheduling'!C8 -> EQ 002 | D8: ='PM Scheduling'!D8 -> Equipment 2 | E8: ='PM Scheduling'!E8 -> Part 2 | F8: ='PM Scheduling'!F8 -> Zone 2 | G8: =IF('PM Scheduling'!G8="","",'PM Scheduling'!G8) -> Weekly | H8: =IF('PM Scheduling'!H8="","",'PM Scheduling'!H8) -> 46024 | I8: =IF('PM Scheduling'!I8="","",'PM Scheduling'!I8) | J8: =IF('PM Scheduling'!J8="","",'PM Scheduling'!J8) -> X | K8: =IF('PM Scheduling'!K8="","",'PM Scheduling'!K8) | L8: =IF('PM Scheduling'!L8="","",'PM Scheduling'!L8) | M8: =IF('PM Scheduling'!M8="","",'PM Scheduling'!M8) | N8: =IF('PM Scheduling'!N8="","",'PM Scheduling'!N8) | ... NJ8: =IF('PM Scheduling'!NJ8="","",'PM Scheduling'!NJ8) -> X
B9: ='PM Scheduling'!B9 -> 3 | C9: ='PM Scheduling'!C9 -> EQ 003 | D9: ='PM Scheduling'!D9 -> Equipment 3 | E9: ='PM Scheduling'!E9 -> Part 3 | F9: ='PM Scheduling'!F9 -> Zone 3 | G9: =IF('PM Scheduling'!G9="","",'PM Scheduling'!G9) -> Fortnightly | H9: =IF('PM Scheduling'!H9="","",'PM Scheduling'!H9) -> 46025 | I9: =IF('PM Scheduling'!I9="","",'PM Scheduling'!I9) | J9: =IF('PM Scheduling'!J9="","",'PM Scheduling'!J9) | K9: =IF('PM Scheduling'!K9="","",'PM Scheduling'!K9) -> X | L9: =IF('PM Scheduling'!L9="","",'PM Scheduling'!L9) | M9: =IF('PM Scheduling'!M9="","",'PM Scheduling'!M9) | N9: =IF('PM Scheduling'!N9="","",'PM Scheduling'!N9) | ... NJ9: =IF('PM Scheduling'!NJ9="","",'PM Scheduling'!NJ9)
B10: ='PM Scheduling'!B10 -> 4 | C10: ='PM Scheduling'!C10 -> EQ 004 | D10: ='PM Scheduling'!D10 -> Equipment 4 | E10: ='PM Scheduling'!E10 -> Part 1 | F10: ='PM Scheduling'!F10 -> Zone 1 | G10: =IF('PM Scheduling'!G10="","",'PM Scheduling'!G10) -> Monthly | H10: =IF('PM Scheduling'!H10="","",'PM Scheduling'!H10) -> 46026 | I10: =IF('PM Scheduling'!I10="","",'PM Scheduling'!I10) | J10: =IF('PM Scheduling'!J10="","",'PM Scheduling'!J10) | K10: =IF('PM Scheduling'!K10="","",'PM Scheduling'!K10) | L10: =IF('PM Scheduling'!L10="","",'PM Scheduling'!L10) -> X | M10: =IF('PM Scheduling'!M10="","",'PM Scheduling'!M10) | N10: =IF('PM Scheduling'!N10="","",'PM Scheduling'!N10) | ... NJ10: =IF('PM Scheduling'!NJ10="","",'PM Scheduling'!NJ10)
B11: ='PM Scheduling'!B11 -> 5 | C11: ='PM Scheduling'!C11 -> EQ 005 | D11: ='PM Scheduling'!D11 -> Equipment 5 | E11: ='PM Scheduling'!E11 -> Part 2 | F11: ='PM Scheduling'!F11 -> Zone 2 | G11: =IF('PM Scheduling'!G11="","",'PM Scheduling'!G11) -> two monthly | H11: =IF('PM Scheduling'!H11="","",'PM Scheduling'!H11) -> 46027 | I11: =IF('PM Scheduling'!I11="","",'PM Scheduling'!I11) | J11: =IF('PM Scheduling'!J11="","",'PM Scheduling'!J11) | K11: =IF('PM Scheduling'!K11="","",'PM Scheduling'!K11) | L11: =IF('PM Scheduling'!L11="","",'PM Scheduling'!L11) | M11: =IF('PM Scheduling'!M11="","",'PM Scheduling'!M11) -> X | N11: =IF('PM Scheduling'!N11="","",'PM Scheduling'!N11) | ... NJ11: =IF('PM Scheduling'!NJ11="","",'PM Scheduling'!NJ11)
B12: ='PM Scheduling'!B12 -> 6 | C12: ='PM Scheduling'!C12 -> EQ 006 | D12: ='PM Scheduling'!D12 -> Equipment 6 | E12: ='PM Scheduling'!E12 -> Part 3 | F12: ='PM Scheduling'!F12 -> Zone 3 | G12: =IF('PM Scheduling'!G12="","",'PM Scheduling'!G12) -> Quarterly | H12: =IF('PM Scheduling'!H12="","",'PM Scheduling'!H12) -> 46028 | I12: =IF('PM Scheduling'!I12="","",'PM Scheduling'!I12) | J12: =IF('PM Scheduling'!J12="","",'PM Scheduling'!J12) | K12: =IF('PM Scheduling'!K12="","",'PM Scheduling'!K12) | L12: =IF('PM Scheduling'!L12="","",'PM Scheduling'!L12) | M12: =IF('PM Scheduling'!M12="","",'PM Scheduling'!M12) | N12: =IF('PM Scheduling'!N12="","",'PM Scheduling'!N12) -> X | ... NJ12: =IF('PM Scheduling'!NJ12="","",'PM Scheduling'!NJ12)
B13: ='PM Scheduling'!B13 -> 7 | C13: ='PM Scheduling'!C13 -> EQ 007 | D13: ='PM Scheduling'!D13 -> Equipment 7 | E13: ='PM Scheduling'!E13 -> Part 1 | F13: ='PM Scheduling'!F13 -> Zone 1 | G13: =IF('PM Scheduling'!G13="","",'PM Scheduling'!G13) -> Four Monthly | H13: =IF('PM Scheduling'!H13="","",'PM Scheduling'!H13) -> 46029 | I13: =IF('PM Scheduling'!I13="","",'PM Scheduling'!I13) | J13: =IF('PM Scheduling'!J13="","",'PM Scheduling'!J13) | K13: =IF('PM Scheduling'!K13="","",'PM Scheduling'!K13) | L13: =IF('PM Scheduling'!L13="","",'PM Scheduling'!L13) | M13: =IF('PM Scheduling'!M13="","",'PM Scheduling'!M13) | N13: =IF('PM Scheduling'!N13="","",'PM Scheduling'!N13) | ... NJ13: =IF('PM Scheduling'!NJ13="","",'PM Scheduling'!NJ13)
B14: ='PM Scheduling'!B14 -> 8 | C14: ='PM Scheduling'!C14 -> EQ 008 | D14: ='PM Scheduling'!D14 -> Equipment 8 | E14: ='PM Scheduling'!E14 -> Part 2 | F14: ='PM Scheduling'!F14 -> Zone 2 | G14: =IF('PM Scheduling'!G14="","",'PM Scheduling'!G14) -> Half yearly | H14: =IF('PM Scheduling'!H14="","",'PM Scheduling'!H14) -> 46030 | I14: =IF('PM Scheduling'!I14="","",'PM Scheduling'!I14) | J14: =IF('PM Scheduling'!J14="","",'PM Scheduling'!J14) | K14: =IF('PM Scheduling'!K14="","",'PM Scheduling'!K14) | L14: =IF('PM Scheduling'!L14="","",'PM Scheduling'!L14) | M14: =IF('PM Scheduling'!M14="","",'PM Scheduling'!M14) | N14: =IF('PM Scheduling'!N14="","",'PM Scheduling'!N14) | ... NJ14: =IF('PM Scheduling'!NJ14="","",'PM Scheduling'!NJ14)
B15: ='PM Scheduling'!B15 -> 9 | C15: ='PM Scheduling'!C15 -> EQ 009 | D15: ='PM Scheduling'!D15 -> Equipment 9 | E15: ='PM Scheduling'!E15 -> Part 3 | F15: ='PM Scheduling'!F15 -> Zone 3 | G15: =IF('PM Scheduling'!G15="","",'PM Scheduling'!G15) -> Yearly | H15: =IF('PM Scheduling'!H15="","",'PM Scheduling'!H15) -> 46031 | I15: =IF('PM Scheduling'!I15="","",'PM Scheduling'!I15) | J15: =IF('PM Scheduling'!J15="","",'PM Scheduling'!J15) | K15: =IF('PM Scheduling'!K15="","",'PM Scheduling'!K15) | L15: =IF('PM Scheduling'!L15="","",'PM Scheduling'!L15) | M15: =IF('PM Scheduling'!M15="","",'PM Scheduling'!M15) | N15: =IF('PM Scheduling'!N15="","",'PM Scheduling'!N15) | ... NJ15: =IF('PM Scheduling'!NJ15="","",'PM Scheduling'!NJ15)
B16: ='PM Scheduling'!B16 -> 0 | C16: ='PM Scheduling'!C16 -> 0 | D16: ='PM Scheduling'!D16 -> 0 | E16: ='PM Scheduling'!E16 -> 0 | F16: ='PM Scheduling'!F16 -> 0 | G16: =IF('PM Scheduling'!G16="","",'PM Scheduling'!G16) | H16: =IF('PM Scheduling'!H16="","",'PM Scheduling'!H16) | I16: =IF('PM Scheduling'!I16="","",'PM Scheduling'!I16) | J16: =IF('PM Scheduling'!J16="","",'PM Scheduling'!J16) | K16: =IF('PM Scheduling'!K16="","",'PM Scheduling'!K16) | L16: =IF('PM Scheduling'!L16="","",'PM Scheduling'!L16) | M16: =IF('PM Scheduling'!M16="","",'PM Scheduling'!M16) | N16: =IF('PM Scheduling'!N16="","",'PM Scheduling'!N16) | ... NJ16: =IF('PM Scheduling'!NJ16="","",'PM Scheduling'!NJ16)
B17: ='PM Scheduling'!B17 -> 0 | C17: ='PM Scheduling'!C17 -> 0 | D17: ='PM Scheduling'!D17 -> 0 | E17: ='PM Scheduling'!E17 -> 0 | F17: ='PM Scheduling'!F17 -> 0 | G17: =IF('PM Scheduling'!G17="","",'PM Scheduling'!G17) | H17: =IF('PM Scheduling'!H17="","",'PM Scheduling'!H17) | I17: =IF('PM Scheduling'!I17="","",'PM Scheduling'!I17) | J17: =IF('PM Scheduling'!J17="","",'PM Scheduling'!J17) | K17: =IF('PM Scheduling'!K17="","",'PM Scheduling'!K17) | L17: =IF('PM Scheduling'!L17="","",'PM Scheduling'!L17) | M17: =IF('PM Scheduling'!M17="","",'PM Scheduling'!M17) | N17: =IF('PM Scheduling'!N17="","",'PM Scheduling'!N17) | ... NJ17: =IF('PM Scheduling'!NJ17="","",'PM Scheduling'!NJ17)
B18: ='PM Scheduling'!B18 -> 0 | C18: ='PM Scheduling'!C18 -> 0 | D18: ='PM Scheduling'!D18 -> 0 | E18: ='PM Scheduling'!E18 -> 0 | F18: ='PM Scheduling'!F18 -> 0 | G18: =IF('PM Scheduling'!G18="","",'PM Scheduling'!G18) | H18: =IF('PM Scheduling'!H18="","",'PM Scheduling'!H18) | I18: =IF('PM Scheduling'!I18="","",'PM Scheduling'!I18) | J18: =IF('PM Scheduling'!J18="","",'PM Scheduling'!J18) | K18: =IF('PM Scheduling'!K18="","",'PM Scheduling'!K18) | L18: =IF('PM Scheduling'!L18="","",'PM Scheduling'!L18) | M18: =IF('PM Scheduling'!M18="","",'PM Scheduling'!M18) | N18: =IF('PM Scheduling'!N18="","",'PM Scheduling'!N18) | ... NJ18: =IF('PM Scheduling'!NJ18="","",'PM Scheduling'!NJ18)
B19: ='PM Scheduling'!B19 -> 0 | C19: ='PM Scheduling'!C19 -> 0 | D19: ='PM Scheduling'!D19 -> 0 | E19: ='PM Scheduling'!E19 -> 0 | F19: ='PM Scheduling'!F19 -> 0 | G19: =IF('PM Scheduling'!G19="","",'PM Scheduling'!G19) | H19: =IF('PM Scheduling'!H19="","",'PM Scheduling'!H19) | I19: =IF('PM Scheduling'!I19="","",'PM Scheduling'!I19) | J19: =IF('PM Scheduling'!J19="","",'PM Scheduling'!J19) | K19: =IF('PM Scheduling'!K19="","",'PM Scheduling'!K19) | L19: =IF('PM Scheduling'!L19="","",'PM Scheduling'!L19) | M19: =IF('PM Scheduling'!M19="","",'PM Scheduling'!M19) | N19: =IF('PM Scheduling'!N19="","",'PM Scheduling'!N19) | ... NJ19: =IF('PM Scheduling'!NJ19="","",'PM Scheduling'!NJ19)
... B195: ='PM Scheduling'!B195 -> 0 | C195: ='PM Scheduling'!C195 -> 0 | D195: ='PM Scheduling'!D195 -> 0 | E195: ='PM Scheduling'!E195 -> 0 | F195: ='PM Scheduling'!F195 -> 0 | G195: =IF('PM Scheduling'!G195="","",'PM Scheduling'!G195) | H195: =IF('PM Scheduling'!H195="","",'PM Scheduling'!H195) | I195: =IF('PM Scheduling'!I195="","",'PM Scheduling'!I195) | J195: =IF('PM Scheduling'!J195="","",'PM Scheduling'!J195) | K195: =IF('PM Scheduling'!K195="","",'PM Scheduling'!K195) | L195: =IF('PM Scheduling'!L195="","",'PM Scheduling'!L195) | M195: =IF('PM Scheduling'!M195="","",'PM Scheduling'!M195) | N195: =IF('PM Scheduling'!N195="","",'PM Scheduling'!N195) | ... NJ195: =IF('PM Scheduling'!NJ195="","",'PM Scheduling'!NJ195)

Sheet Filtered List
B2: Select Date Range | E2: 46023 | F2: TO | G2: 46388 | L2: TOTAL DONE (D) | V2: =COUNTIF($I$7:$NJ$195,"D") -> 0 | AA2: TOTAL PENDING (X) | AK2: =COUNTIF($I$7:$NY$195,"X") -> 473 | AP2: ON HOLD (OH) | AZ2: =COUNTIF($I$7:$ON$195,"OH") -> 0
B4: Dates & Days | I4: =E2 -> 46023 | J4: =IF($I4<EOMONTH($I$4,0),I4+1,"") -> 46024 | K4: =IF($I4<EOMONTH($I$4,0),J4+1,"") -> 46025 | L4: =IF($I4<EOMONTH($I$4,0),K4+1,"") -> 46026 | M4: =IF($I4<EOMONTH($I$4,0),L4+1,"") -> 46027 | N4: =IF($I4<EOMONTH($I$4,0),M4+1,"") -> 46028 | O4: =IF($I4<EOMONTH($I$4,0),N4+1,"") -> 46029 | P4: =IF($I4<EOMONTH($I$4,0),O4+1,"") -> 46030 | Q4: =IF($I4<EOMONTH($I$4,0),P4+1,"") -> 46031 | ... NJ4: =IF($I4<EOMONTH($I$4,0),NI4+1,"") -> 46388
B5: Equpiments & Task discription | I5: =TEXT(I4,"ddd") -> Thu | J5: =TEXT(J4,"ddd") -> Fri | K5: =TEXT(K4,"ddd") -> Sat | L5: =TEXT(L4,"ddd") -> Sun | M5: =TEXT(M4,"ddd") -> Mon | N5: =TEXT(N4,"ddd") -> Tue | O5: =TEXT(O4,"ddd") -> Wed | P5: =TEXT(P4,"ddd") -> Thu | ... NJ5: =TEXT(NJ4,"ddd") -> Fri
B6: SI. No | C6: Equpiment ID | D6: Equipments | E6: Task Discription | F6: Location | G6: Frequancy | H6: Start Date | I6: =HLOOKUP(I4,'Mark Status'!$I$4:$NJ$6,3,0) -> 1 | J6: =HLOOKUP(J4,'Mark Status'!$I$4:$NJ$6,3,0) -> 2 | K6: =HLOOKUP(K4,'Mark Status'!$I$4:$NJ$6,3,0) -> 3 | L6: =HLOOKUP(L4,'Mark Status'!$I$4:$NJ$6,3,0) -> 4 | M6: =HLOOKUP(M4,'Mark Status'!$I$4:$NJ$6,3,0) -> 5 | N6: =HLOOKUP(N4,'Mark Status'!$I$4:$NJ$6,3,0) -> 6 | O6: =HLOOKUP(O4,'Mark Status'!$I$4:$NJ$6,3,0) -> 7 | P6: =HLOOKUP(P4,'Mark Status'!$I$4:$NJ$6,3,0) -> 8 | ... NJ6: =HLOOKUP(NJ4,'Mark Status'!$I$4:$NJ$6,3,0) -> 366
B7: ='Mark Status'!B7 -> 1 | C7: ='Mark Status'!C7 -> EQ 001 | D7: ='Mark Status'!D7 -> Equipment 1 | E7: ='Mark Status'!E7 -> Part 1 | F7: ='Mark Status'!F7 -> Zone 1 | G7: ='Mark Status'!G7 -> Daily | H7: ='Mark Status'!H7 -> 46023 | I7: {=IFERROR(_xlfn._xlws.FILTER('Mark Status'!$I$7:$NJ$195,('Mark Status'!I$4:$NJ$4>='Filtered List'!E2)*('Mark Status'!I$4:$NJ$4<='Filtered List'!$G$2)),"")} -> X | J7: X | K7: X | L7: X | M7: X | N7: X | O7: X | P7: X | Q7: X | R7: X | S7: X | T7: X | U7: X | V7: X | W7: X | X7: X | Y7: X | Z7: X | AA7: X | AB7: X | AC7: X | AD7: X | AE7: X | AF7: X | AG7: X | AH7: X | AI7: X | AJ7: X | AK7: X | AL7: X | AM7: X | AN7: X | AO7: X | AP7: X | AQ7: X | AR7: X | AS7: X | AT7: X | AU7: X | AV7: X | AW7: X | AX7: X | AY7: X | AZ7: X | BA7: X | BB7: X | BC7: X | BD7: X | BE7: X | BF7: X | BG7: X | BH7: X | BI7: X | BJ7: X | BK7: X | BL7: X | BM7: X | BN7: X | BO7: X | BP7: X | BQ7: X | BR7: X | BS7: X | BT7: X | BU7: X | BV7: X | BW7: X | BX7: X | BY7: X | BZ7: X | CA7: X | CB7: X | CC7: X | CD7: X | CE7: X | CF7: X | CG7: X | CH7: X | CI7: X | CJ7: X | CK7: X | CL7: X | CM7: X | CN7: X | CO7: X | CP7: X | CQ7: X | CR7: X | CS7: X | CT7: X | CU7: X | CV7: X | CW7: X | CX7: X | CY7: X | CZ7: X | DA7: X | DB7: X | DC7: X | DD7: X | DE7: X | DF7: X | DG7: X | DH7: X | DI7: X | DJ7: X | DK7: X | DL7: X | DM7: X | DN7: X | DO7: X | DP7: X | DQ7: X | DR7: X | DS7: X | DT7: X | DU7: X | DV7: X | DW7: X | DX7: X | DY7: X | DZ7: X | EA7: X | EB7: X | EC7: X | ED7: X | EE7: X | EF7: X | EG7: X | EH7: X | EI7: X | EJ7: X | EK7: X | EL7: X | EM7: X | EN7: X | EO7: X | EP7: X | EQ7: X | ER7: X | ES7: X | ET7: X | EU7: X | EV7: X | EW7: X | EX7: X | EY7: X | EZ7: X | FA7: X | FB7: X | FC7: X | FD7: X | FE7: X | FF7: X | FG7: X | FH7: X | FI7: X | FJ7: X | FK7: X | FL7: X | FM7: X | FN7: X | FO7: X | FP7: X | FQ7: X | FR7: X | FS7: X | FT7: X | FU7: X | FV7: X | FW7: X | FX7: X | FY7: X | FZ7: X | GA7: X | GB7: X | GC7: X | GD7: X | GE7: X | GF7: X | GG7: X | GH7: X | GI7: X | GJ7: X | GK7: X | GL7: X | GM7: X | GN7: X | GO7: X | GP7: X | GQ7: X | GR7: X | GS7: X | GT7: X | GU7: X | GV7: X | GW7: X | GX7: X | GY7: X | GZ7: X | HA7: X | HB7: X | HC7: X | HD7: X | HE7: X | HF7: X | HG7: X | HH7: X | HI7: X | HJ7: X | HK7: X | HL7: X | HM7: X | HN7: X | HO7: X | HP7: X | HQ7: X | HR7: X | HS7: X | HT7: X | HU7: X | HV7: X | HW7: X | HX7: X | HY7: X | HZ7: X | IA7: X | IB7: X | IC7: X | ID7: X | IE7: X | IF7: X | IG7: X | IH7: X | II7: X | IJ7: X | IK7: X | IL7: X | IM7: X | IN7: X | IO7: X | IP7: X | IQ7: X | IR7: X | IS7: X | IT7: X | IU7: X | IV7: X | IW7: X | IX7: X | IY7: X | IZ7: X | JA7: X | JB7: X | JC7: X | JD7: X | JE7: X | JF7: X | JG7: X | JH7: X | JI7: X | JJ7: X | JK7: X | JL7: X | JM7: X | JN7: X | JO7: X | JP7: X | JQ7: X | JR7: X | JS7: X | JT7: X | JU7: X | JV7: X | JW7: X | JX7: X | JY7: X | JZ7: X | KA7: X | KB7: X | KC7: X | KD7: X | KE7: X | KF7: X | KG7: X | KH7: X | KI7: X | KJ7: X | KK7: X | KL7: X | KM7: X | KN7: X | KO7: X | KP7: X | KQ7: X | KR7: X | KS7: X | KT7: X | KU7: X | KV7: X | KW7: X | KX7: X | KY7: X | KZ7: X | LA7: X | LB7: X | LC7: X | LD7: X | LE7: X | LF7: X | LG7: X | LH7: X | LI7: X | LJ7: X | LK7: X | LL7: X | LM7: X | LN7: X | LO7: X | LP7: X | LQ7: X | LR7: X | LS7: X | LT7: X | LU7: X | LV7: X | LW7: X | LX7: X | LY7: X | LZ7: X | MA7: X | MB7: X | MC7: X | MD7: X | ME7: X | MF7: X | MG7: X | MH7: X | MI7: X | MJ7: X | MK7: X | ML7: X | MM7: X | MN7: X | MO7: X | MP7: X | MQ7: X | MR7: X | MS7: X | MT7: X | MU7: X | MV7: X | MW7: X | MX7: X | MY7: X | MZ7: X | NA7: X | NB7: X | NC7: X | ND7: X | NE7: X | NF7: X | NG7: X | NH7: X | NI7: X | NJ7: X
B8: ='Mark Status'!B8 -> 2 | C8: ='Mark Status'!C8 -> EQ 002 | D8: ='Mark Status'!D8 -> Equipment 2 | E8: ='Mark Status'!E8 -> Part 2 | F8: ='Mark Status'!F8 -> Zone 2 | G8: ='Mark Status'!G8 -> Weekly | H8: ='Mark Status'!H8 -> 46024 | J8: X | Q8: X | X8: X | AE8: X | AL8: X | AS8: X | AZ8: X | BG8: X | BN8: X | BU8: X | CB8: X | CI8: X | CP8: X | CW8: X | DD8: X | DK8: X | DR8: X | DY8: X | EF8: X | EM8: X | ET8: X | FA8: X | FH8: X | FO8: X | FV8: X | GC8: X | GJ8: X | GQ8: X | GX8: X | HE8: X | HL8: X | HS8: X | HZ8: X | IG8: X | IN8: X | IU8: X | JB8: X | JI8: X | JP8: X | JW8: X | KD8: X | KK8: X | KR8: X | KY8: X | LF8: X | LM8: X | LT8: X | MA8: X | MH8: X | MO8: X | MV8: X | NC8: X | NJ8: X
B9: ='Mark Status'!B9 -> 3 | C9: ='Mark Status'!C9 -> EQ 003 | D9: ='Mark Status'!D9 -> Equipment 3 | E9: ='Mark Status'!E9 -> Part 3 | F9: ='Mark Status'!F9 -> Zone 3 | G9: ='Mark Status'!G9 -> Fortnightly | H9: ='Mark Status'!H9 -> 46025 | K9: X | Y9: X | AM9: X | BA9: X | BO9: X | CC9: X | CQ9: X | DE9: X | DS9: X | EG9: X | EU9: X | FI9: X | FW9: X | GK9: X | GY9: X | HM9: X | IA9: X | IO9: X | JC9: X | JQ9: X | KE9: X | KS9: X | LG9: X | LU9: X | MI9: X | MW9: X
B10: ='Mark Status'!B10 -> 4 | C10: ='Mark Status'!C10 -> EQ 004 | D10: ='Mark Status'!D10 -> Equipment 4 | E10: ='Mark Status'!E10 -> Part 1 | F10: ='Mark Status'!F10 -> Zone 1 | G10: ='Mark Status'!G10 -> Monthly | H10: ='Mark Status'!H10 -> 46026 | L10: X | AQ10: X | BS10: X | CX10: X | EB10: X | FG10: X | GK10: X | HP10: X | IU10: X | JY10: X | LD10: X | MH10: X
B11: ='Mark Status'!B11 -> 5 | C11: ='Mark Status'!C11 -> EQ 005 | D11: ='Mark Status'!D11 -> Equipment 5 | E11: ='Mark Status'!E11 -> Part 2 | F11: ='Mark Status'!F11 -> Zone 2 | G11: ='Mark Status'!G11 -> two monthly | H11: ='Mark Status'!H11 -> 46027 | M11: X | BT11: X | EC11: X | GL11: X | IV11: X | LE11: X
B12: ='Mark Status'!B12 -> 6 | C12: ='Mark Status'!C12 -> EQ 006 | D12: ='Mark Status'!D12 -> Equipment 6 | E12: ='Mark Status'!E12 -> Part 3 | F12: ='Mark Status'!F12 -> Zone 3 | G12: ='Mark Status'!G12 -> Quarterly | H12: ='Mark Status'!H12 -> 46028 | N12: X | CZ12: X | GM12: X | KA12: X
B13: ='Mark Status'!B13 -> 7 | C13: ='Mark Status'!C13 -> EQ 007 | D13: ='Mark Status'!D13 -> Equipment 7 | E13: ='Mark Status'!E13 -> Part 1 | F13: ='Mark Status'!F13 -> Zone 1 | G13: ='Mark Status'!G13 -> Four Monthly | H13: ='Mark Status'!H13 -> 46029 | O13: X | EE13: X | IX13: X
B14: ='Mark Status'!B14 -> 8 | C14: ='Mark Status'!C14 -> EQ 008 | D14: ='Mark Status'!D14 -> Equipment 8 | E14: ='Mark Status'!E14 -> Part 2 | F14: ='Mark Status'!F14 -> Zone 2 | G14: ='Mark Status'!G14 -> Half yearly | H14: ='Mark Status'!H14 -> 46030 | P14: X | GO14: X
B15: ='Mark Status'!B15 -> 9 | C15: ='Mark Status'!C15 -> EQ 009 | D15: ='Mark Status'!D15 -> Equipment 9 | E15: ='Mark Status'!E15 -> Part 3 | F15: ='Mark Status'!F15 -> Zone 3 | G15: ='Mark Status'!G15 -> Yearly | H15: ='Mark Status'!H15 -> 46031 | Q15: X
B16: ='Mark Status'!B16 -> 0 | C16: ='Mark Status'!C16 -> 0 | D16: ='Mark Status'!D16 -> 0 | E16: ='Mark Status'!E16 -> 0 | F16: ='Mark Status'!F16 -> 0 | G16: ='Mark Status'!G16 | H16: ='Mark Status'!H16
B17: ='Mark Status'!B17 -> 0 | C17: ='Mark Status'!C17 -> 0 | D17: ='Mark Status'!D17 -> 0 | E17: ='Mark Status'!E17 -> 0 | F17: ='Mark Status'!F17 -> 0 | G17: ='Mark Status'!G17 | H17: ='Mark Status'!H17
B18: ='Mark Status'!B18 -> 0 | C18: ='Mark Status'!C18 -> 0 | D18: ='Mark Status'!D18 -> 0 | E18: ='Mark Status'!E18 -> 0 | F18: ='Mark Status'!F18 -> 0 | G18: ='Mark Status'!G18 | H18: ='Mark Status'!H18
B19: ='Mark Status'!B19 -> 0 | C19: ='Mark Status'!C19 -> 0 | D19: ='Mark Status'!D19 -> 0 | E19: ='Mark Status'!E19 -> 0 | F19: ='Mark Status'!F19 -> 0 | G19: ='Mark Status'!G19 | H19: ='Mark Status'!H19
B20: ='Mark Status'!B20 -> 0 | C20: ='Mark Status'!C20 -> 0 | D20: ='Mark Status'!D20 -> 0 | E20: ='Mark Status'!E20 -> 0 | F20: ='Mark Status'!F20 -> 0 | G20: ='Mark Status'!G20 | H20: ='Mark Status'!H20
B21: ='Mark Status'!B21 -> 0 | C21: ='Mark Status'!C21 -> 0 | D21: ='Mark Status'!D21 -> 0 | E21: ='Mark Status'!E21 -> 0 | F21: ='Mark Status'!F21 -> 0 | G21: ='Mark Status'!G21 | H21: ='Mark Status'!H21
B22: ='Mark Status'!B22 -> 0 | C22: ='Mark Status'!C22 -> 0 | D22: ='Mark Status'!D22 -> 0 | E22: ='Mark Status'!E22 -> 0 | F22: ='Mark Status'!F22 -> 0 | G22: ='Mark Status'!G22 | H22: ='Mark Status'!H22
B23: ='Mark Status'!B23 -> 0 | C23: ='Mark Status'!C23 -> 0 | D23: ='Mark Status'!D23 -> 0 | E23: ='Mark Status'!E23 -> 0 | F23: ='Mark Status'!F23 -> 0 | G23: ='Mark Status'!G23 | H23: ='Mark Status'!H23
B24: ='Mark Status'!B24 -> 0 | C24: ='Mark Status'!C24 -> 0 | D24: ='Mark Status'!D24 -> 0 | E24: ='Mark Status'!E24 -> 0 | F24: ='Mark Status'!F24 -> 0 | G24: ='Mark Status'!G24 | H24: ='Mark Status'!H24
B25: ='Mark Status'!B25 -> 0 | C25: ='Mark Status'!C25 -> 0 | D25: ='Mark Status'!D25 -> 0 | E25: ='Mark Status'!E25 -> 0 | F25: ='Mark Status'!F25 -> 0 | G25: ='Mark Status'!G25 | H25: ='Mark Status'!H25
B26: ='Mark Status'!B26 -> 0 | C26: ='Mark Status'!C26 -> 0 | D26: ='Mark Status'!D26 -> 0 | E26: ='Mark Status'!E26 -> 0 | F26: ='Mark Status'!F26 -> 0 | G26: ='Mark Status'!G26 | H26: ='Mark Status'!H26
B27: ='Mark Status'!B27 -> 0 | C27: ='Mark Status'!C27 -> 0 | D27: ='Mark Status'!D27 -> 0 | E27: ='Mark Status'!E27 -> 0 | F27: ='Mark Status'!F27 -> 0 | G27: ='Mark Status'!G27 | H27: ='Mark Status'!H27
... B195: ='Mark Status'!B195 -> 0 | C195: ='Mark Status'!C195 -> 0 | D195: ='Mark Status'!D195 -> 0 | E195: ='Mark Status'!E195 -> 0 | F195: ='Mark Status'!F195 -> 0 | G195: ='Mark Status'!G195 | H195: ='Mark Status'!H195
