Workbook

Sheet PM Scheduling
B2: Preventive Maintenance Tracker | H2: January | O2: 2026 | S2: From | Y2: =I4 -> 46023 | AE2: TO | AG2: =Y2+364 -> 46387
B4: Dates & Days | I4: =DATEVALUE("1"&H2&O2) -> 46023 | J4: =IF($I4<EOMONTH($I$4,0),I4+1,"") -> 46024 | K4: =IF($I4<EOMONTH($I$4,0),J4+1,"") -> 46025 | L4: =IF($I4<EOMONTH($I$4,0),K4+1,"") -> 46026 | M4: =IF($I4<EOMONTH($I$4,0),L4+1,"") -> 46027 | N4: =IF($I4<EOMONTH($I$4,0),M4+1,"") -> 46028 | O4: =IF($I4<EOMONTH($I$4,0),N4+1,"") -> 46029 | P4: =IF($I4<EOMONTH($I$4,0),O4+1,"") -> 46030 | Q4: =IF($I4<EOMONTH($I$4,0),P4+1,"") -> 46031 | ... NJ4: =IF($I4<EOMONTH($I$4,0),NI4+1,"") -> 46388
B5: Equpiments & Task discription | I5: =TEXT(I4,"ddd") -> Thu | J5: =TEXT(J4,"ddd") -> Fri | K5: =TEXT(K4,"ddd") -> Sat | L5: =TEXT(L4,"ddd") -> Sun | M5: =TEXT(M4,"ddd") -> Mon | N5: =TEXT(N4,"ddd") -> Tue | O5: =TEXT(O4,"ddd") -> Wed | P5: =TEXT(P4,"ddd") -> Thu | ... NJ5: =TEXT(NJ4,"ddd") -> Fri
B6: SI. No | C6: Equpiment ID | D6: Equipments | E6: Task Discription | F6: Location | G6: Frequancy | H6: Start Date | I6: 1 | J6: 2 | K6: 3 | L6: 4 | M6: 5 | N6: 6 | O6: 7 | P6: 8 | Q6: 9 | R6: 10 | S6: 11 | T6: 12 | U6: 13 | V6: 14 | W6: 15 | X6: 16 | Y6: 17 | Z6: 18 | AA6: 19 | AB6: 20 | AC6: 21 | AD6: 22 | AE6: 23 | AF6: 24 | AG6: 25 | AH6: 26 | AI6: 27 | AJ6: 28 | AK6: 29 | AL6: 30 | AM6: 31 | AN6: 32 | AO6: 33 | AP6: 34 | AQ6: 35 | AR6: 36 | AS6: 37 | AT6: 38 | AU6: 39 | AV6: 40 | AW6: 41 | AX6: 42 | AY6: 43 | AZ6: 44 | BA6: 45 | BB6: 46 | BC6: 47 | BD6: 48 | BE6: 49 | BF6: 50 | BG6: 51 | BH6: 52 | BI6: 53 | BJ6: 54 | BK6: 55 | BL6: 56 | BM6: 57 | BN6: 58 | BO6: 59 | BP6: 60 | BQ6: 61 | BR6: 62 | BS6: 63 | BT6: 64 | BU6: 65 | BV6: 66 | BW6: 67 | BX6: 68 | BY6: 69 | BZ6: 70 | CA6: 71 | CB6: 72 | CC6: 73 | CD6: 74 | CE6: 75 | CF6: 76 | CG6: 77 | CH6: 78 | CI6: 79 | CJ6: 80 | CK6: 81 | CL6: 82 | CM6: 83 | CN6: 84 | CO6: 85 | CP6: 86 | CQ6: 87 | CR6: 88 | CS6: 89 | CT6: 90 | CU6: 91 | CV6: 92 | CW6: 93 | CX6: 94 | CY6: 95 | CZ6: 96 | DA6: 97 | DB6: 98 | DC6: 99 | DD6: 100 | DE6: 101 | DF6: 102 | DG6: 103 | DH6: 104 | DI6: 105 | DJ6: 106 | DK6: 107 | DL6: 108 | DM6: 109 | DN6: 110 | DO6: 111 | DP6: 112 | DQ6: 113 | DR6: 114 | DS6: 115 | DT6: 116 | DU6: 117 | DV6: 118 | DW6: 119 | DX6: 120 | DY6: 121 | DZ6: 122 | EA6: 123 | EB6: 124 | EC6: 125 | ED6: 126 | EE6: 127 | EF6: 128 | EG6: 129 | EH6: 130 | EI6: 131 | EJ6: 132 | EK6: 133 | EL6: 134 | EM6: 135 | EN6: 136 | EO6: 137 | EP6: 138 | EQ6: 139 | ER6: 140 | ES6: 141 | ET6: 142 | EU6: 143 | EV6: 144 | EW6: 145 | EX6: 146 | EY6: 147 | EZ6: 148 | FA6: 149 | FB6: 150 | FC6: 151 | FD6: 152 | FE6: 153 | FF6: 154 | FG6: 155 | FH6: 156 | FI6: 157 | FJ6: 158 | FK6: 159 | FL6: 160 | FM6: 161 | FN6: 162 | FO6: 163 | FP6: 164 | FQ6: 165 | FR6: 166 | FS6: 167 | FT6: 168 | FU6: 169 | FV6: 170 | FW6: 171 | FX6: 172 | FY6: 173 | FZ6: 174 | GA6: 175 | GB6: 176 | GC6: 177 | GD6: 178 | GE6: 179 | GF6: 180 | GG6: 181 | GH6: 182 | GI6: 183 | GJ6: 184 | GK6: 185 | GL6: 186 | GM6: 187 | GN6: 188 | GO6: 189 | GP6: 190 | GQ6: 191 | GR6: 192 | GS6: 193 | GT6: 194 | GU6: 195 | GV6: 196 | GW6: 197 | GX6: 198 | GY6: 199 | GZ6: 200 | HA6: 201 | HB6: 202 | HC6: 203 | HD6: 204 | HE6: 205 | HF6: 206 | HG6: 207 | HH6: 208 | HI6: 209 | HJ6: 210 | HK6: 211 | HL6: 212 | HM6: 213 | HN6: 214 | HO6: 215 | HP6: 216 | HQ6: 217 | HR6: 218 | HS6: 219 | HT6: 220 | HU6: 221 | HV6: 222 | HW6: 223 | HX6: 224 | HY6: 225 | HZ6: 226 | IA6: 227 | IB6: 228 | IC6: 229 | ID6: 230 | IE6: 231 | IF6: 232 | IG6: 233 | IH6: 234 | II6: 235 | IJ6: 236 | IK6: 237 | IL6: 238 | IM6: 239 | IN6: 240 | IO6: 241 | IP6: 242 | IQ6: 243 | IR6: 244 | IS6: 245 | IT6: 246 | IU6: 247 | IV6: 248 | IW6: 249 | IX6: 250 | IY6: 251 | IZ6: 252 | JA6: 253 | JB6: 254 | JC6: 255 | JD6: 256 | JE6: 257 | JF6: 258 | JG6: 259 | JH6: 260 | JI6: 261 | JJ6: 262 | JK6: 263 | JL6: 264 | JM6: 265 | JN6: 266 | JO6: 267 | JP6: 268 | JQ6: 269 | JR6: 270 | JS6: 271 | JT6: 272 | JU6: 273 | JV6: 274 | JW6: 275 | JX6: 276 | JY6: 277 | JZ6: 278 | KA6: 279 | KB6: 280 | KC6: 281 | KD6: 282 | KE6: 283 | KF6: 284 | KG6: 285 | KH6: 286 | KI6: 287 | KJ6: 288 | KK6: 289 | KL6: 290 | KM6: 291 | KN6: 292 | KO6: 293 | KP6: 294 | KQ6: 295 | KR6: 296 | KS6: 297 | KT6: 298 | KU6: 299 | KV6: 300 | KW6: 301 | KX6: 302 | KY6: 303 | KZ6: 304 | LA6: 305 | LB6: 306 | LC6: 307 | LD6: 308 | LE6: 309 | LF6: 310 | LG6: 311 | LH6: 312 | LI6: 313 | LJ6: 314 | LK6: 315 | LL6: 316 | LM6: 317 | LN6: 318 | LO6: 319 | LP6: 320 | LQ6: 321 | LR6: 322 | LS6: 323 | LT6: 324 | LU6: 325 | LV6: 326 | LW6: 327 | LX6: 328 | LY6: 329 | LZ6: 330 | MA6: 331 | MB6: 332 | MC6: 333 | MD6: 334 | ME6: 335 | MF6: 336 | MG6: 337 | MH6: 338 | MI6: 339 | MJ6: 340 | MK6: 341 | ML6: 342 | MM6: 343 | MN6: 344 | MO6: 345 | MP6: 346 | MQ6: 347 | MR6: 348 | MS6: 349 | MT6: 350 | MU6: 351 | MV6: 352 | MW6: 353 | MX6: 354 | MY6: 355 | MZ6: 356 | NA6: 357 | NB6: 358 | NC6: 359 | ND6: 360 | NE6: 361 | NF6: 362 | NG6: 363 | NH6: 364 | NI6: 365 | NJ6: 366
B7: 1 | C7: EQ 001 | D7: Equipment 1 | E7: Part 1 | F7: Zone 1 | G7: Daily | H7: 46023 | I7: =IFERROR(IF(OR($H7="",$G7=""),"",IF($G7="Daily",IF(I$4>=$H7,"X",""),IF($G7="Weekly",IF(MOD(I$4-$H7,7)=0,"X",""),IF($G7="fortnightly",IF(MOD(I$4-$H7,14)=0,"X",""),IF($G7="Monthly",IF(DAY(I$4)=DAY($H7),"X",""),IF($G7="Two Monthly",IF(AND(DAY(I$4)=DAY($H7),MOD(MONTH(I$4)-MONTH($H7),2)=0),"X",""),IF($G7="Quarterly",IF(AND(DAY(I$4)=DAY($H7),MOD(MONTH(I$4)-MONTH($H7),3)=0),"X",""),IF($G7="Four Monthly",IF(AND(DAY(I$4)=DAY($H7),MOD(MONTH(I$4)-MONTH($H7),4)=0),"X",""),IF($G7="Half Yearly",IF(AND(DAY(I$4)=DAY($H7),MOD(MONTH(I$4)-MONTH($H7),6)=0),"X",""),IF($G7="Yearly",IF(AND(DAY(I$4)=DAY($H7),MONTH(I$4)=MONTH($H7)),"X",""),"")))))))))),"") -> X | J7: =IFERROR(IF(OR($H7="",$G7=""),"",IF($G7="Daily",IF(J$4>=$H7,"X",""),IF($G7="Weekly",IF(MOD(J$4-$H7,7)=0,"X",""),IF($G7="fortnightly",IF(MOD(J$4-$H7,14)=0,"X",""),IF($G7="Monthly",IF(DAY(J$4)=DAY($H7),"X",""),IF($G7="Two Monthly",IF(AND(DAY(J$4)=DAY($H7),MOD(MONTH(J$4)-MONTH($H7),2)=0),"X",""),IF($G7="Quarterly",IF(AND(DAY(J$4)=DAY($H7),MOD(MONTH(J$4)-MONTH($H7),3)=0),"X",""),IF($G7="Four Monthly",IF(AND(DAY(J$4)=DAY($H7),MOD(MONTH(J$4)-MONTH($H7),4)=0),"X",""),IF($G7="Half Yearly",IF(AND(DAY(J$4)=DAY($H7),MOD(MONTH(J$4)-MONTH($H7),6)=0),"X",""),IF($G7="Yearly",IF(AND(DAY(J$4)=DAY($H7),MONTH(J$4)=MONTH($H7)),"X",""),"")))))))))),"") -> X | K7: =IFERROR(IF(OR($H7="",$G7=""),"",IF($G7="Daily",IF(K$4>=$H7,"X",""),IF($G7="Weekly",IF(MOD(K$4-$H7,7)=0,"X",""),IF($G7="fortnightly",IF(MOD(K$4-$H7,14)=0,"X",""),IF($G7="Monthly",IF(DAY(K$4)=DAY($H7),"X",""),IF($G7="Two Monthly",IF(AND(DAY(K$4)=DAY($H7),MOD(MONTH(K$4)-MONTH($H7),2)=0),"X",""),IF($G7="Quarterly",IF(AND(DAY(K$4)=DAY($H7),MOD(MONTH(K$4)-MONTH($H7),3)=0),"X",""),IF($G7="Four Monthly",IF(AND(DAY(K$4)=DAY($H7),MOD(MONTH(K$4)-MONTH($H7),4)=0),"X",""),IF($G7="Half Yearly",IF(AND(DAY(K$4)=DAY($H7),MOD(MONTH(K$4)-MONTH($H7),6)=0),"X",""),IF($G7="Yearly",IF(AND(DAY(K$4)=DAY($H7),MONTH(K$4)=MONTH($H7)),"X",""),"")))))))))),"") -> X | L7: =IFERROR(IF(OR($H7="",$G7=""),"",IF($G7="Daily",IF(L$4>=$H7,"X",""),IF($G7="Weekly",IF(MOD(L$4-$H7,7)=0,"X",""),IF($G7="fortnightly",IF(MOD(L$4-$H7,14)=0,"X",""),IF($G7="Monthly",IF(DAY(L$4)=DAY($H7),"X",""),IF($G7="Two Monthly",IF(AND(DAY(L$4)=DAY($H7),MOD(MONTH(L$4)-MONTH($H7),2)=0),"X",""),IF($G7="Quarterly",IF(AND(DAY(L$4)=DAY($H7),MOD(MONTH(L$4)-MONTH($H7),3)=0),"X",""),IF($G7="Four Monthly",IF(AND(DAY(L$4)=DAY($H7),MOD(MONTH(L$4)-MONTH($H7),4)=0),"X",""),IF($G7="Half Yearly",IF(AND(DAY(L$4)=DAY($H7),MOD(MONTH(L$4)-MONTH($H7),6)=0),"X",""),IF($G7="Yearly",IF(AND(DAY(L$4)=DAY($H7),MONTH(L$4)=MONTH($H7)),"X",""),"")))))))))),"") -> X | M7: =IFERROR(IF(OR($H7="",$G7=""),"",IF($G7="Daily",IF(M$4>=$H7,"X",""),IF($G7="Weekly",IF(MOD(M$4-$H7,7)=0,"X",""),IF($G7="fortnightly",IF(MOD(M$4-$H7,14)=0,"X",""),IF($G7="Monthly",IF(DAY(M$4)=DAY($H7),"X",""),IF($G7="Two Monthly",IF(AND(DAY(M$4)=DAY($H7),MOD(MONTH(M$4)-MONTH($H7),2)=0),"X",""),IF($G7="Quarterly",IF(AND(DAY(M$4)=DAY($H7),MOD(MONTH(M$4)-MONTH($H7),3)=0),"X",""),IF($G7="Four Monthly",IF(AND(DAY(M$4)=DAY($H7),MOD(MONTH(M$4)-MONTH($H7),4)=0),"X",""),IF($G7="Half Yearly",IF(AND(DAY(M$4)=DAY($H7),MOD(MONTH(M$4)-MONTH($H7),6)=0),"X",""),IF($G7="Yearly",IF(AND(DAY(M$4)=DAY($H7),MONTH(M$4)=MONTH($H7)),"X",""),"")))))))))),"") -> X | N7: =IFERROR(IF(OR($H7="",$G7=""),"",IF($G7="Daily",IF(N$4>=$H7,"X",""),IF($G7="Weekly",IF(MOD(N$4-$H7,7)=0,"X",""),IF($G7="fortnightly",IF(MOD(N$4-$H7,14)=0,"X",""),IF($G7="Monthly",IF(DAY(N$4)=DAY($H7),"X",""),IF($G7="Two Monthly",IF(AND(DAY(N$4)=DAY($H7),MOD(MONTH(N$4)-MONTH($H7),2)=0),"X",""),IF($G7="Quarterly",IF(AND(DAY(N$4)=DAY($H7),MOD(MONTH(N$4)-MONTH($H7),3)=0),"X",""),IF($G7="Four Monthly",IF(AND(DAY(N$4)=DAY($H7),MOD(MONTH(N$4)-MONTH($H7),4)=0),"X",""),IF($G7="Half Yearly",IF(AND(DAY(N$4)=DAY($H7),MOD(MONTH(N$4)-MONTH($H7),6)=0),"X",""),IF($G7="Yearly",IF(AND(DAY(N$4)=DAY($H7),MONTH(N$4)=MONTH($H7)),"X",""),"")))))))))),"") -> X | O7: =IFERROR(IF(OR($H7="",$G7=""),"",IF($G7="Daily",IF(O$4>=$H7,"X",""),IF($G7="Weekly",IF(MOD(O$4-$H7,7)=0,"X",""),IF($G7="fortnightly",IF(MOD(O$4-$H7,14)=0,"X",""),IF($G7="Monthly",IF(DAY(O$4)=DAY($H7),"X",""),IF($G7="Two Monthly",IF(AND(DAY(O$4)=DAY($H7),MOD(MONTH(O$4)-MONTH($H7),2)=0),"X",""),IF($G7="Quarterly",IF(AND(DAY(O$4)=DAY($H7),MOD(MONTH(O$4)-MONTH($H7),3)=0),"X",""),IF($G7="Four Monthly",IF(AND(DAY(O$4)=DAY($H7),MOD(MONTH(O$4)-MONTH($H7),4)=0),"X",""),IF($G7="Half Yearly",IF(AND(DAY(O$4)=DAY($H7),MOD(MONTH(O$4)-MONTH($H7),6)=0),"X",""),IF($G7="Yearly",IF(AND(DAY(O$4)=DAY($H7),MONTH(O$4)=MONTH($H7)),"X",""),"")))))))))),"") -> X | P7: =IFERROR(IF(OR($H7="",$G7=""),"",IF($G7="Daily",IF(P$4>=$H7,"X",""),IF($G7="Weekly",IF(MOD(P$4-$H7,7)=0,"X",""),IF($G7="fortnightly",IF(MOD(P$4-$H7,14)=0,"X",""),IF($G7="Monthly",IF(DAY(P$4)=DAY($H7),"X",""),IF($G7="Two Monthly",IF(AND(DAY(P$4)=DAY($H7),MOD(MONTH(P$4)-MONTH($H7),2)=0),"X",""),IF($G7="Quarterly",IF(AND(DAY(P$4)=DAY($H7),MOD(MONTH(P$4)-MONTH($H7),3)=0),"X",""),IF($G7="Four Monthly",IF(AND(DAY(P$4)=DAY($H7),MOD(MONTH(P$4)-MONTH($H7),4)=0),"X",""),IF($G7="Half Yearly",IF(AND(DAY(P$4)=DAY($H7),MOD(MONTH(P$4)-MONTH($H7),6)=0),"X",""),IF($G7="Yearly",IF(AND(DAY(P$4)=DAY($H7),MONTH(P$4)=MONTH($H7)),"X",""),"")))))))))),"") -> X | ... NJ7: =IFERROR(IF(OR($H7="",$G7=""),"",IF($G7="Daily",IF(NJ$4>=$H7,"X",""),IF($G7="Weekly",IF(MOD(NJ$4-$H7,7)=0,"X",""),IF($G7="fortnightly",IF(MOD(NJ$4-$H7,14)=0,"X",""),IF($G7="Monthly",IF(DAY(NJ$4)=DAY($H7),"X",""),IF($G7="Two Monthly",IF(AND(DAY(NJ$4)=DAY($H7),MOD(MONTH(NJ$4)-MONTH($H7),2)=0),"X",""),IF($G7="Quarterly",IF(AND(DAY(NJ$4)=DAY($H7),MOD(MONTH(NJ$4)-MONTH($H7),3)=0),"X",""),IF($G7="Four Monthly",IF(AND(DAY(NJ$4)=DAY($H7),MOD(MONTH(NJ$4)-MONTH($H7),4)=0),"X",""),IF($G7="Half Yearly",IF(AND(DAY(NJ$4)=DAY($H7),MOD(MONTH(NJ$4)-MONTH($H7),6)=0),"X",""),IF($G7="Yearly",IF(AND(DAY(NJ$4)=DAY($H7),MONTH(NJ$4)=MONTH($H7)),"X",""),"")))))))))),"") -> X
B8: 2 | C8: EQ 002 | D8: Equipment 2 | E8: Part 2 | F8: Zone 2 | G8: Weekly | H8: 46024 | I8: =IFERROR(IF(OR($H8="",$G8=""),"",IF($G8="Daily",IF(I$4>=$H8,"X",""),IF($G8="Weekly",IF(MOD(I$4-$H8,7)=0,"X",""),IF($G8="fortnightly",IF(MOD(I$4-$H8,14)=0,"X",""),IF($G8="Monthly",IF(DAY(I$4)=DAY($H8),"X",""),IF($G8="Two Monthly",IF(AND(DAY(I$4)=DAY($H8),MOD(MONTH(I$4)-MONTH($H8),2)=0),"X",""),IF($G8="Quarterly",IF(AND(DAY(I$4)=DAY($H8),MOD(MONTH(I$4)-MONTH($H8),3)=0),"X",""),IF($G8="Four Monthly",IF(AND(DAY(I$4)=DAY($H8),MOD(MONTH(I$4)-MONTH($H8),4)=0),"X",""),IF($G8="Half Yearly",IF(AND(DAY(I$4)=DAY($H8),MOD(MONTH(I$4)-MONTH($H8),6)=0),"X",""),IF($G8="Yearly",IF(AND(DAY(I$4)=DAY($H8),MONTH(I$4)=MONTH($H8)),"X",""),"")))))))))),"") | J8: =IFERROR(IF(OR($H8="",$G8=""),"",IF($G8="Daily",IF(J$4>=$H8,"X",""),IF($G8="Weekly",IF(MOD(J$4-$H8,7)=0,"X",""),IF($G8="fortnightly",IF(MOD(J$4-$H8,14)=0,"X",""),IF($G8="Monthly",IF(DAY(J$4)=DAY($H8),"X",""),IF($G8="Two Monthly",IF(AND(DAY(J$4)=DAY($H8),MOD(MONTH(J$4)-MONTH($H8),2)=0),"X",""),IF($G8="Quarterly",IF(AND(DAY(J$4)=DAY($H8),MOD(MONTH(J$4)-MONTH($H8),3)=0),"X",""),IF($G8="Four Monthly",IF(AND(DAY(J$4)=DAY($H8),MOD(MONTH(J$4)-MONTH($H8),4)=0),"X",""),IF($G8="Half Yearly",IF(AND(DAY(J$4)=DAY($H8),MOD(MONTH(J$4)-MONTH($H8),6)=0),"X",""),IF($G8="Yearly",IF(AND(DAY(J$4)=DAY($H8),MONTH(J$4)=MONTH($H8)),"X",""),"")))))))))),"") -> X | K8: =IFERROR(IF(OR($H8="",$G8=""),"",IF($G8="Daily",IF(K$4>=$H8,"X",""),IF($G8="Weekly",IF(MOD(K$4-$H8,7)=0,"X",""),IF($G8="fortnightly",IF(MOD(K$4-$H8,14)=0,"X",""),IF($G8="Monthly",IF(DAY(K$4)=DAY($H8),"X",""),IF($G8="Two Monthly",IF(AND(DAY(K$4)=DAY($H8),MOD(MONTH(K$4)-MONTH($H8),2)=0),"X",""),IF($G8="Quarterly",IF(AND(DAY(K$4)=DAY($H8),MOD(MONTH(K$4)-MONTH($H8),3)=0),"X",""),IF($G8="Four Monthly",IF(AND(DAY(K$4)=DAY($H8),MOD(MONTH(K$4)-MONTH($H8),4)=0),"X",""),IF($G8="Half Yearly",IF(AND(DAY(K$4)=DAY($H8),MOD(MONTH(K$4)-MONTH($H8),6)=0),"X",""),IF($G8="Yearly",IF(AND(DAY(K$4)=DAY($H8),MONTH(K$4)=MONTH($H8)),"X",""),"")))))))))),"") | L8: =IFERROR(IF(OR($H8="",$G8=""),"",IF($G8="Daily",IF(L$4>=$H8,"X",""),IF($G8="Weekly",IF(MOD(L$4-$H8,7)=0,"X",""),IF($G8="fortnightly",IF(MOD(L$4-$H8,14)=0,"X",""),IF($G8="Monthly",IF(DAY(L$4)=DAY($H8),"X",""),IF($G8="Two Monthly",IF(AND(DAY(L$4)=DAY($H8),MOD(MONTH(L$4)-MONTH($H8),2)=0),"X",""),IF($G8="Quarterly",IF(AND(DAY(L$4)=DAY($H8),MOD(MONTH(L$4)-MONTH($H8),3)=0),"X",""),IF($G8="Four Monthly",IF(AND(DAY(L$4)=DAY($H8),MOD(MONTH(L$4)-MONTH($H8),4)=0),"X",""),IF($G8="Half Yearly",IF(AND(DAY(L$4)=DAY($H8),MOD(MONTH(L$4)-MONTH($H8),6)=0),"X",""),IF($G8="Yearly",IF(AND(DAY(L$4)=DAY($H8),MONTH(L$4)=MONTH($H8)),"X",""),"")))))))))),"") | M8: =IFERROR(IF(OR($H8="",$G8=""),"",IF($G8="Daily",IF(M$4>=$H8,"X",""),IF($G8="Weekly",IF(MOD(M$4-$H8,7)=0,"X",""),IF($G8="fortnightly",IF(MOD(M$4-$H8,14)=0,"X",""),IF($G8="Monthly",IF(DAY(M$4)=DAY($H8),"X",""),IF($G8="Two Monthly",IF(AND(DAY(M$4)=DAY($H8),MOD(MONTH(M$4)-MONTH($H8),2)=0),"X",""),IF($G8="Quarterly",IF(AND(DAY(M$4)=DAY($H8),MOD(MONTH(M$4)-MONTH($H8),3)=0),"X",""),IF($G8="Four Monthly",IF(AND(DAY(M$4)=DAY($H8),MOD(MONTH(M$4)-MONTH($H8),4)=0),"X",""),IF($G8="Half Yearly",IF(AND(DAY(M$4)=DAY($H8),MOD(MONTH(M$4)-MONTH($H8),6)=0),"X",""),IF($G8="Yearly",IF(AND(DAY(M$4)=DAY($H8),MONTH(M$4)=MONTH($H8)),"X",""),"")))))))))),"") | N8: =IFERROR(IF(OR($H8="",$G8=""),"",IF($G8="Daily",IF(N$4>=$H8,"X",""),IF($G8="Weekly",IF(MOD(N$4-$H8,7)=0,"X",""),IF($G8="fortnightly",IF(MOD(N$4-$H8,14)=0,"X",""),IF($G8="Monthly",IF(DAY(N$4)=DAY($H8),"X",""),IF($G8="Two Monthly",IF(AND(DAY(N$4)=DAY($H8),MOD(MONTH(N$4)-MONTH($H8),2)=0),"X",""),IF($G8="Quarterly",IF(AND(DAY(N$4)=DAY($H8),MOD(MONTH(N$4)-MONTH($H8),3)=0),"X",""),IF($G8="Four Monthly",IF(AND(DAY(N$4)=DAY($H8),MOD(MONTH(N$4)-MONTH($H8),4)=0),"X",""),IF($G8="Half Yearly",IF(AND(DAY(N$4)=DAY($H8),MOD(MONTH(N$4)-MONTH($H8),6)=0),"X",""),IF($G8="Yearly",IF(AND(DAY(N$4)=DAY($H8),MONTH(N$4)=MONTH($H8)),"X",""),"")))))))))),"") | O8: =IFERROR(IF(OR($H8="",$G8=""),"",IF($G8="Daily",IF(O$4>=$H8,"X",""),IF($G8="Weekly",IF(MOD(O$4-$H8,7)=0,"X",""),IF($G8="fortnightly",IF(MOD(O$4-$H8,14)=0,"X",""),IF($G8="Monthly",IF(DAY(O$4)=DAY($H8),"X",""),IF($G8="Two Monthly",IF(AND(DAY(O$4)=DAY($H8),MOD(MONTH(O$4)-MONTH($H8),2)=0),"X",""),IF($G8="Quarterly",IF(AND(DAY(O$4)=DAY($H8),MOD(MONTH(O$4)-MONTH($H8),3)=0),"X",""),IF($G8="Four Monthly",IF(AND(DAY(O$4)=DAY($H8),MOD(MONTH(O$4)-MONTH($H8),4)=0),"X",""),IF($G8="Half Yearly",IF(AND(DAY(O$4)=DAY($H8),MOD(MONTH(O$4)-MONTH($H8),6)=0),"X",""),IF($G8="Yearly",IF(AND(DAY(O$4)=DAY($H8),MONTH(O$4)=MONTH($H8)),"X",""),"")))))))))),"") | P8: =IFERROR(IF(OR($H8="",$G8=""),"",IF($G8="Daily",IF(P$4>=$H8,"X",""),IF($G8="Weekly",IF(MOD(P$4-$H8,7)=0,"X",""),IF($G8="fortnightly",IF(MOD(P$4-$H8,14)=0,"X",""),IF($G8="Monthly",IF(DAY(P$4)=DAY($H8),"X",""),IF($G8="Two Monthly",IF(AND(DAY(P$4)=DAY($H8),MOD(MONTH(P$4)-MONTH($H8),2)=0),"X",""),IF($G8="Quarterly",IF(AND(DAY(P$4)=DAY($H8),MOD(MONTH(P$4)-MONTH($H8),3)=0),"X",""),IF($G8="Four Monthly",IF(AND(DAY(P$4)=DAY($H8),MOD(MONTH(P$4)-MONTH($H8),4)=0),"X",""),IF($G8="Half Yearly",IF(AND(DAY(P$4)=DAY($H8),MOD(MONTH(P$4)-MONTH($H8),6)=0),"X",""),IF($G8="Yearly",IF(AND(DAY(P$4)=DAY($H8),MONTH(P$4)=MONTH($H8)),"X",""),"")))))))))),"") | ... NJ8: =IFERROR(IF(OR($H8="",$G8=""),"",IF($G8="Daily",IF(NJ$4>=$H8,"X",""),IF($G8="Weekly",IF(MOD(NJ$4-$H8,7)=0,"X",""),IF($G8="fortnightly",IF(MOD(NJ$4-$H8,14)=0,"X",""),IF($G8="Monthly",IF(DAY(NJ$4)=DAY($H8),"X",""),IF($G8="Two Monthly",IF(AND(DAY(NJ$4)=DAY($H8),MOD(MONTH(NJ$4)-MONTH($H8),2)=0),"X",""),IF($G8="Quarterly",IF(AND(DAY(NJ$4)=DAY($H8),MOD(MONTH(NJ$4)-MONTH($H8),3)=0),"X",""),IF($G8="Four Monthly",IF(AND(DAY(NJ$4)=DAY($H8),MOD(MONTH(NJ$4)-MONTH($H8),4)=0),"X",""),IF($G8="Half Yearly",IF(AND(DAY(NJ$4)=DAY($H8),MOD(MONTH(NJ$4)-MONTH($H8),6)=0),"X",""),IF($G8="Yearly",IF(AND(DAY(NJ$4)=DAY($H8),MONTH(NJ$4)=MONTH($H8)),"X",""),"")))))))))),"") -> X
B9: 3 | C9: EQ 003 | D9: Equipment 3 | E9: Part 3 | F9: Zone 3 | G9: Fortnightly | H9: 46025 | I9: =IFERROR(IF(OR($H9="",$G9=""),"",IF($G9="Daily",IF(I$4>=$H9,"X",""),IF($G9="Weekly",IF(MOD(I$4-$H9,7)=0,"X",""),IF($G9="fortnightly",IF(MOD(I$4-$H9,14)=0,"X",""),IF($G9="Monthly",IF(DAY(I$4)=DAY($H9),"X",""),IF($G9="Two Monthly",IF(AND(DAY(I$4)=DAY($H9),MOD(MONTH(I$4)-MONTH($H9),2)=0),"X",""),IF($G9="Quarterly",IF(AND(DAY(I$4)=DAY($H9),MOD(MONTH(I$4)-MONTH($H9),3)=0),"X",""),IF($G9="Four Monthly",IF(AND(DAY(I$4)=DAY($H9),MOD(MONTH(I$4)-MONTH($H9),4)=0),"X",""),IF($G9="Half Yearly",IF(AND(DAY(I$4)=DAY($H9),MOD(MONTH(I$4)-MONTH($H9),6)=0),"X",""),IF($G9="Yearly",IF(AND(DAY(I$4)=DAY($H9),MONTH(I$4)=MONTH($H9)),"X",""),"")))))))))),"") | J9: =IFERROR(IF(OR($H9="",$G9=""),"",IF($G9="Daily",IF(J$4>=$H9,"X",""),IF($G9="Weekly",IF(MOD(J$4-$H9,7)=0,"X",""),IF($G9="fortnightly",IF(MOD(J$4-$H9,14)=0,"X",""),IF($G9="Monthly",IF(DAY(J$4)=DAY($H9),"X",""),IF($G9="Two Monthly",IF(AND(DAY(J$4)=DAY($H9),MOD(MONTH(J$4)-MONTH($H9),2)=0),"X",""),IF($G9="Quarterly",IF(AND(DAY(J$4)=DAY($H9),MOD(MONTH(J$4)-MONTH($H9),3)=0),"X",""),IF($G9="Four Monthly",IF(AND(DAY(J$4)=DAY($H9),MOD(MONTH(J$4)-MONTH($H9),4)=0),"X",""),IF($G9="Half Yearly",IF(AND(DAY(J$4)=DAY($H9),MOD(MONTH(J$4)-MONTH($H9),6)=0),"X",""),IF($G9="Yearly",IF(AND(DAY(J$4)=DAY($H9),MONTH(J$4)=MONTH($H9)),"X",""),"")))))))))),"") | K9: =IFERROR(IF(OR($H9="",$G9=""),"",IF($G9="Daily",IF(K$4>=$H9,"X",""),IF($G9="Weekly",IF(MOD(K$4-$H9,7)=0,"X",""),IF($G9="fortnightly",IF(MOD(K$4-$H9,14)=0,"X",""),IF($G9="Monthly",IF(DAY(K$4)=DAY($H9),"X",""),IF($G9="Two Monthly",IF(AND(DAY(K$4)=DAY($H9),MOD(MONTH(K$4)-MONTH($H9),2)=0),"X",""),IF($G9="Quarterly",IF(AND(DAY(K$4)=DAY($H9),MOD(MONTH(K$4)-MONTH($H9),3)=0),"X",""),IF($G9="Four Monthly",IF(AND(DAY(K$4)=DAY($H9),MOD(MONTH(K$4)-MONTH($H9),4)=0),"X",""),IF($G9="Half Yearly",IF(AND(DAY(K$4)=DAY($H9),MOD(MONTH(K$4)-MONTH($H9),6)=0),"X",""),IF($G9="Yearly",IF(AND(DAY(K$4)=DAY($H9),MONTH(K$4)=MONTH($H9)),"X",""),"")))))))))),"") -> X | L9: =IFERROR(IF(OR($H9="",$G9=""),"",IF($G9="Daily",IF(L$4>=$H9,"X",""),IF($G9="Weekly",IF(MOD(L$4-$H9,7)=0,"X",""),IF($G9="fortnightly",IF(MOD(L$4-$H9,14)=0,"X",""),IF($G9="Monthly",IF(DAY(L$4)=DAY($H9),"X",""),IF($G9="Two Monthly",IF(AND(DAY(L$4)=DAY($H9),MOD(MONTH(L$4)-MONTH($H9),2)=0),"X",""),IF($G9="Quarterly",IF(AND(DAY(L$4)=DAY($H9),MOD(MONTH(L$4)-MONTH($H9),3)=0),"X",""),IF($G9="Four Monthly",IF(AND(DAY(L$4)=DAY($H9),MOD(MONTH(L$4)-MONTH($H9),4)=0),"X",""),IF($G9="Half Yearly",IF(AND(DAY(L$4)=DAY($H9),MOD(MONTH(L$4)-MONTH($H9),6)=0),"X",""),IF($G9="Yearly",IF(AND(DAY(L$4)=DAY($H9),MONTH(L$4)=MONTH($H9)),"X",""),"")))))))))),"") | M9: =IFERROR(IF(OR($H9="",$G9=""),"",IF($G9="Daily",IF(M$4>=$H9,"X",""),IF($G9="Weekly",IF(MOD(M$4-$H9,7)=0,"X",""),IF($G9="fortnightly",IF(MOD(M$4-$H9,14)=0,"X",""),IF($G9="Monthly",IF(DAY(M$4)=DAY($H9),"X",""),IF($G9="Two Monthly",IF(AND(DAY(M$4)=DAY($H9),MOD(MONTH(M$4)-MONTH($H9),2)=0),"X",""),IF($G9="Quarterly",IF(AND(DAY(M$4)=DAY($H9),MOD(MONTH(M$4)-MONTH($H9),3)=0),"X",""),IF($G9="Four Monthly",IF(AND(DAY(M$4)=DAY($H9),MOD(MONTH(M$4)-MONTH($H9),4)=0),"X",""),IF($G9="Half Yearly",IF(AND(DAY(M$4)=DAY($H9),MOD(MONTH(M$4)-MONTH($H9),6)=0),"X",""),IF($G9="Yearly",IF(AND(DAY(M$4)=DAY($H9),MONTH(M$4)=MONTH($H9)),"X",""),"")))))))))),"") | N9: =IFERROR(IF(OR($H9="",$G9=""),"",IF($G9="Daily",IF(N$4>=$H9,"X",""),IF($G9="Weekly",IF(MOD(N$4-$H9,7)=0,"X",""),IF($G9="fortnightly",IF(MOD(N$4-$H9,14)=0,"X",""),IF($G9="Monthly",IF(DAY(N$4)=DAY($H9),"X",""),IF($G9="Two Monthly",IF(AND(DAY(N$4)=DAY($H9),MOD(MONTH(N$4)-MONTH($H9),2)=0),"X",""),IF($G9="Quarterly",IF(AND(DAY(N$4)=DAY($H9),MOD(MONTH(N$4)-MONTH($H9),3)=0),"X",""),IF($G9="Four Monthly",IF(AND(DAY(N$4)=DAY($H9),MOD(MONTH(N$4)-MONTH($H9),4)=0),"X",""),IF($G9="Half Yearly",IF(AND(DAY(N$4)=DAY($H9),MOD(MONTH(N$4)-MONTH($H9),6)=0),"X",""),IF($G9="Yearly",IF(AND(DAY(N$4)=DAY($H9),MONTH(N$4)=MONTH($H9)),"X",""),"")))))))))),"") | O9: =IFERROR(IF(OR($H9="",$G9=""),"",IF($G9="Daily",IF(O$4>=$H9,"X",""),IF($G9="Weekly",IF(MOD(O$4-$H9,7)=0,"X",""),IF($G9="fortnightly",IF(MOD(O$4-$H9,14)=0,"X",""),IF($G9="Monthly",IF(DAY(O$4)=DAY($H9),"X",""),IF($G9="Two Monthly",IF(AND(DAY(O$4)=DAY($H9),MOD(MONTH(O$4)-MONTH($H9),2)=0),"X",""),IF($G9="Quarterly",IF(AND(DAY(O$4)=DAY($H9),MOD(MONTH(O$4)-MONTH($H9),3)=0),"X",""),IF($G9="Four Monthly",IF(AND(DAY(O$4)=DAY($H9),MOD(MONTH(O$4)-MONTH($H9),4)=0),"X",""),IF($G9="Half Yearly",IF(AND(DAY(O$4)=DAY($H9),MOD(MONTH(O$4)-MONTH($H9),6)=0),"X",""),IF($G9="Yearly",IF(AND(DAY(O$4)=DAY($H9),MONTH(O$4)=MONTH($H9)),"X",""),"")))))))))),"") | P9: =IFERROR(IF(OR($H9="",$G9=""),"",IF($G9="Daily",IF(P$4>=$H9,"X",""),IF($G9="Weekly",IF(MOD(P$4-$H9,7)=0,"X",""),IF($G9="fortnightly",IF(MOD(P$4-$H9,14)=0,"X",""),IF($G9="Monthly",IF(DAY(P$4)=DAY($H9),"X",""),IF($G9="Two Monthly",IF(AND(DAY(P$4)=DAY($H9),MOD(MONTH(P$4)-MONTH($H9),2)=0),"X",""),IF($G9="Quarterly",IF(AND(DAY(P$4)=DAY($H9),MOD(MONTH(P$4)-MONTH($H9),3)=0),"X",""),IF($G9="Four Monthly",IF(AND(DAY(P$4)=DAY($H9),MOD(MONTH(P$4)-MONTH($H9),4)=0),"X",""),IF($G9="Half Yearly",IF(AND(DAY(P$4)=DAY($H9),MOD(MONTH(P$4)-MONTH($H9),6)=0),"X",""),IF($G9="Yearly",IF(AND(DAY(P$4)=DAY($H9),MONTH(P$4)=MONTH($H9)),"X",""),"")))))))))),"") | ... NJ9: =IFERROR(IF(OR($H9="",$G9=""),"",IF($G9="Daily",IF(NJ$4>=$H9,"X",""),IF($G9="Weekly",IF(MOD(NJ$4-$H9,7)=0,"X",""),IF($G9="fortnightly",IF(MOD(NJ$4-$H9,14)=0,"X",""),IF($G9="Monthly",IF(DAY(NJ$4)=DAY($H9),"X",""),IF($G9="Two Monthly",IF(AND(DAY(NJ$4)=DAY($H9),MOD(MONTH(NJ$4)-MONTH($H9),2)=0),"X",""),IF($G9="Quarterly",IF(AND(DAY(NJ$4)=DAY($H9),MOD(MONTH(NJ$4)-MONTH($H9),3)=0),"X",""),IF($G9="Four Monthly",IF(AND(DAY(NJ$4)=DAY($H9),MOD(MONTH(NJ$4)-MONTH($H9),4)=0),"X",""),IF($G9="Half Yearly",IF(AND(DAY(NJ$4)=DAY($H9),MOD(MONTH(NJ$4)-MONTH($H9),6)=0),"X",""),IF($G9="Yearly",IF(AND(DAY(NJ$4)=DAY($H9),MONTH(NJ$4)=MONTH($H9)),"X",""),"")))))))))),"")
B10: 4 | C10: EQ 004 | D10: Equipment 4 | E10: Part 1 | F10: Zone 1 | G10: Monthly | H10: 46026 | I10: =IFERROR(IF(OR($H10="",$G10=""),"",IF($G10="Daily",IF(I$4>=$H10,"X",""),IF($G10="Weekly",IF(MOD(I$4-$H10,7)=0,"X",""),IF($G10="fortnightly",IF(MOD(I$4-$H10,14)=0,"X",""),IF($G10="Monthly",IF(DAY(I$4)=DAY($H10),"X",""),IF($G10="Two Monthly",IF(AND(DAY(I$4)=DAY($H10),MOD(MONTH(I$4)-MONTH($H10),2)=0),"X",""),IF($G10="Quarterly",IF(AND(DAY(I$4)=DAY($H10),MOD(MONTH(I$4)-MONTH($H10),3)=0),"X",""),IF($G10="Four Monthly",IF(AND(DAY(I$4)=DAY($H10),MOD(MONTH(I$4)-MONTH($H10),4)=0),"X",""),IF($G10="Half Yearly",IF(AND(DAY(I$4)=DAY($H10),MOD(MONTH(I$4)-MONTH($H10),6)=0),"X",""),IF($G10="Yearly",IF(AND(DAY(I$4)=DAY($H10),MONTH(I$4)=MONTH($H10)),"X",""),"")))))))))),"") | J10: =IFERROR(IF(OR($H10="",$G10=""),"",IF($G10="Daily",IF(J$4>=$H10,"X",""),IF($G10="Weekly",IF(MOD(J$4-$H10,7)=0,"X",""),IF($G10="fortnightly",IF(MOD(J$4-$H10,14)=0,"X",""),IF($G10="Monthly",IF(DAY(J$4)=DAY($H10),"X",""),IF($G10="Two Monthly",IF(AND(DAY(J$4)=DAY($H10),MOD(MONTH(J$4)-MONTH($H10),2)=0),"X",""),IF($G10="Quarterly",IF(AND(DAY(J$4)=DAY($H10),MOD(MONTH(J$4)-MONTH($H10),3)=0),"X",""),IF($G10="Four Monthly",IF(AND(DAY(J$4)=DAY($H10),MOD(MONTH(J$4)-MONTH($H10),4)=0),"X",""),IF($G10="Half Yearly",IF(AND(DAY(J$4)=DAY($H10),MOD(MONTH(J$4)-MONTH($H10),6)=0),"X",""),IF($G10="Yearly",IF(AND(DAY(J$4)=DAY($H10),MONTH(J$4)=MONTH($H10)),"X",""),"")))))))))),"") | K10: =IFERROR(IF(OR($H10="",$G10=""),"",IF($G10="Daily",IF(K$4>=$H10,"X",""),IF($G10="Weekly",IF(MOD(K$4-$H10,7)=0,"X",""),IF($G10="fortnightly",IF(MOD(K$4-$H10,14)=0,"X",""),IF($G10="Monthly",IF(DAY(K$4)=DAY($H10),"X",""),IF($G10="Two Monthly",IF(AND(DAY(K$4)=DAY($H10),MOD(MONTH(K$4)-MONTH($H10),2)=0),"X",""),IF($G10="Quarterly",IF(AND(DAY(K$4)=DAY($H10),MOD(MONTH(K$4)-MONTH($H10),3)=0),"X",""),IF($G10="Four Monthly",IF(AND(DAY(K$4)=DAY($H10),MOD(MONTH(K$4)-MONTH($H10),4)=0),"X",""),IF($G10="Half Yearly",IF(AND(DAY(K$4)=DAY($H10),MOD(MONTH(K$4)-MONTH($H10),6)=0),"X",""),IF($G10="Yearly",IF(AND(DAY(K$4)=DAY($H10),MONTH(K$4)=MONTH($H10)),"X",""),"")))))))))),"") | L10: =IFERROR(IF(OR($H10="",$G10=""),"",IF($G10="Daily",IF(L$4>=$H10,"X",""),IF($G10="Weekly",IF(MOD(L$4-$H10,7)=0,"X",""),IF($G10="fortnightly",IF(MOD(L$4-$H10,14)=0,"X",""),IF($G10="Monthly",IF(DAY(L$4)=DAY($H10),"X",""),IF($G10="Two Monthly",IF(AND(DAY(L$4)=DAY($H10),MOD(MONTH(L$4)-MONTH($H10),2)=0),"X",""),IF($G10="Quarterly",IF(AND(DAY(L$4)=DAY($H10),MOD(MONTH(L$4)-MONTH($H10),3)=0),"X",""),IF($G10="Four Monthly",IF(AND(DAY(L$4)=DAY($H10),MOD(MONTH(L$4)-MONTH($H10),4)=0),"X",""),IF($G10="Half Yearly",IF(AND(DAY(L$4)=DAY($H10),MOD(MONTH(L$4)-MONTH($H10),6)=0),"X",""),IF($G10="Yearly",IF(AND(DAY(L$4)=DAY($H10),MONTH(L$4)=MONTH($H10)),"X",""),"")))))))))),"") -> X | M10: =IFERROR(IF(OR($H10="",$G10=""),"",IF($G10="Daily",IF(M$4>=$H10,"X",""),IF($G10="Weekly",IF(MOD(M$4-$H10,7)=0,"X",""),IF($G10="fortnightly",IF(MOD(M$4-$H10,14)=0,"X",""),IF($G10="Monthly",IF(DAY(M$4)=DAY($H10),"X",""),IF($G10="Two Monthly",IF(AND(DAY(M$4)=DAY($H10),MOD(MONTH(M$4)-MONTH($H10),2)=0),"X",""),IF($G10="Quarterly",IF(AND(DAY(M$4)=DAY($H10),MOD(MONTH(M$4)-MONTH($H10),3)=0),"X",""),IF($G10="Four Monthly",IF(AND(DAY(M$4)=DAY($H10),MOD(MONTH(M$4)-MONTH($H10),4)=0),"X",""),IF($G10="Half Yearly",IF(AND(DAY(M$4)=DAY($H10),MOD(MONTH(M$4)-MONTH($H10),6)=0),"X",""),IF($G10="Yearly",IF(AND(DAY(M$4)=DAY($H10),MONTH(M$4)=MONTH($H10)),"X",""),"")))))))))),"") | N10: =IFERROR(IF(OR($H10="",$G10=""),"",IF($G10="Daily",IF(N$4>=$H10,"X",""),IF($G10="Weekly",IF(MOD(N$4-$H10,7)=0,"X",""),IF($G10="fortnightly",IF(MOD(N$4-$H10,14)=0,"X",""),IF($G10="Monthly",IF(DAY(N$4)=DAY($H10),"X",""),IF($G10="Two Monthly",IF(AND(DAY(N$4)=DAY($H10),MOD(MONTH(N$4)-MONTH($H10),2)=0),"X",""),IF($G10="Quarterly",IF(AND(DAY(N$4)=DAY($H10),MOD(MONTH(N$4)-MONTH($H10),3)=0),"X",""),IF($G10="Four Monthly",IF(AND(DAY(N$4)=DAY($H10),MOD(MONTH(N$4)-MONTH($H10),4)=0),"X",""),IF($G10="Half Yearly",IF(AND(DAY(N$4)=DAY($H10),MOD(MONTH(N$4)-MONTH($H10),6)=0),"X",""),IF($G10="Yearly",IF(AND(DAY(N$4)=DAY($H10),MONTH(N$4)=MONTH($H10)),"X",""),"")))))))))),"") | O10: =IFERROR(IF(OR($H10="",$G10=""),"",IF($G10="Daily",IF(O$4>=$H10,"X",""),IF($G10="Weekly",IF(MOD(O$4-$H10,7)=0,"X",""),IF($G10="fortnightly",IF(MOD(O$4-$H10,14)=0,"X",""),IF($G10="Monthly",IF(DAY(O$4)=DAY($H10),"X",""),IF($G10="Two Monthly",IF(AND(DAY(O$4)=DAY($H10),MOD(MONTH(O$4)-MONTH($H10),2)=0),"X",""),IF($G10="Quarterly",IF(AND(DAY(O$4)=DAY($H10),MOD(MONTH(O$4)-MONTH($H10),3)=0),"X",""),IF($G10="Four Monthly",IF(AND(DAY(O$4)=DAY($H10),MOD(MONTH(O$4)-MONTH($H10),4)=0),"X",""),IF($G10="Half Yearly",IF(AND(DAY(O$4)=DAY($H10),MOD(MONTH(O$4)-MONTH($H10),6)=0),"X",""),IF($G10="Yearly",IF(AND(DAY(O$4)=DAY($H10),MONTH(O$4)=MONTH($H10)),"X",""),"")))))))))),"") | P10: =IFERROR(IF(OR($H10="",$G10=""),"",IF($G10="Daily",IF(P$4>=$H10,"X",""),IF($G10="Weekly",IF(MOD(P$4-$H10,7)=0,"X",""),IF($G10="fortnightly",IF(MOD(P$4-$H10,14)=0,"X",""),IF($G10="Monthly",IF(DAY(P$4)=DAY($H10),"X",""),IF($G10="Two Monthly",IF(AND(DAY(P$4)=DAY($H10),MOD(MONTH(P$4)-MONTH($H10),2)=0),"X",""),IF($G10="Quarterly",IF(AND(DAY(P$4)=DAY($H10),MOD(MONTH(P$4)-MONTH($H10),3)=0),"X",""),IF($G10="Four Monthly",IF(AND(DAY(P$4)=DAY($H10),MOD(MONTH(P$4)-MONTH($H10),4)=0),"X",""),IF($G10="Half Yearly",IF(AND(DAY(P$4)=DAY($H10),MOD(MONTH(P$4)-MONTH($H10),6)=0),"X",""),IF($G10="Yearly",IF(AND(DAY(P$4)=DAY($H10),MONTH(P$4)=MONTH($H10)),"X",""),"")))))))))),"") | ... NJ10: =IFERROR(IF(OR($H10="",$G10=""),"",IF($G10="Daily",IF(NJ$4>=$H10,"X",""),IF($G10="Weekly",IF(MOD(NJ$4-$H10,7)=0,"X",""),IF($G10="fortnightly",IF(MOD(NJ$4-$H10,14)=0,"X",""),IF($G10="Monthly",IF(DAY(NJ$4)=DAY($H10),"X",""),IF($G10="Two Monthly",IF(AND(DAY(NJ$4)=DAY($H10),MOD(MONTH(NJ$4)-MONTH($H10),2)=0),"X",""),IF($G10="Quarterly",IF(AND(DAY(NJ$4)=DAY($H10),MOD(MONTH(NJ$4)-MONTH($H10),3)=0),"X",""),IF($G10="Four Monthly",IF(AND(DAY(NJ$4)=DAY($H10),MOD(MONTH(NJ$4)-MONTH($H10),4)=0),"X",""),IF($G10="Half Yearly",IF(AND(DAY(NJ$4)=DAY($H10),MOD(MONTH(NJ$4)-MONTH($H10),6)=0),"X",""),IF($G10="Yearly",IF(AND(DAY(NJ$4)=DAY($H10),MONTH(NJ$4)=MONTH($H10)),"X",""),"")))))))))),"")
B11: 5 | C11: EQ 005 | D11: Equipment 5 | E11: Part 2 | F11: Zone 2 | G11: two monthly | H11: 46027 | I11: =IFERROR(IF(OR($H11="",$G11=""),"",IF($G11="Daily",IF(I$4>=$H11,"X",""),IF($G11="Weekly",IF(MOD(I$4-$H11,7)=0,"X",""),IF($G11="fortnightly",IF(MOD(I$4-$H11,14)=0,"X",""),IF($G11="Monthly",IF(DAY(I$4)=DAY($H11),"X",""),IF($G11="Two Monthly",IF(AND(DAY(I$4)=DAY($H11),MOD(MONTH(I$4)-MONTH($H11),2)=0),"X",""),IF($G11="Quarterly",IF(AND(DAY(I$4)=DAY($H11),MOD(MONTH(I$4)-MONTH($H11),3)=0),"X",""),IF($G11="Four Monthly",IF(AND(DAY(I$4)=DAY($H11),MOD(MONTH(I$4)-MONTH($H11),4)=0),"X",""),IF($G11="Half Yearly",IF(AND(DAY(I$4)=DAY($H11),MOD(MONTH(I$4)-MONTH($H11),6)=0),"X",""),IF($G11="Yearly",IF(AND(DAY(I$4)=DAY($H11),MONTH(I$4)=MONTH($H11)),"X",""),"")))))))))),"") | J11: =IFERROR(IF(OR($H11="",$G11=""),"",IF($G11="Daily",IF(J$4>=$H11,"X",""),IF($G11="Weekly",IF(MOD(J$4-$H11,7)=0,"X",""),IF($G11="fortnightly",IF(MOD(J$4-$H11,14)=0,"X",""),IF($G11="Monthly",IF(DAY(J$4)=DAY($H11),"X",""),IF($G11="Two Monthly",IF(AND(DAY(J$4)=DAY($H11),MOD(MONTH(J$4)-MONTH($H11),2)=0),"X",""),IF($G11="Quarterly",IF(AND(DAY(J$4)=DAY($H11),MOD(MONTH(J$4)-MONTH($H11),3)=0),"X",""),IF($G11="Four Monthly",IF(AND(DAY(J$4)=DAY($H11),MOD(MONTH(J$4)-MONTH($H11),4)=0),"X",""),IF($G11="Half Yearly",IF(AND(DAY(J$4)=DAY($H11),MOD(MONTH(J$4)-MONTH($H11),6)=0),"X",""),IF($G11="Yearly",IF(AND(DAY(J$4)=DAY($H11),MONTH(J$4)=MONTH($H11)),"X",""),"")))))))))),"") | K11: =IFERROR(IF(OR($H11="",$G11=""),"",IF($G11="Daily",IF(K$4>=$H11,"X",""),IF($G11="Weekly",IF(MOD(K$4-$H11,7)=0,"X",""),IF($G11="fortnightly",IF(MOD(K$4-$H11,14)=0,"X",""),IF($G11="Monthly",IF(DAY(K$4)=DAY($H11),"X",""),IF($G11="Two Monthly",IF(AND(DAY(K$4)=DAY($H11),MOD(MONTH(K$4)-MONTH($H11),2)=0),"X",""),IF($G11="Quarterly",IF(AND(DAY(K$4)=DAY($H11),MOD(MONTH(K$4)-MONTH($H11),3)=0),"X",""),IF($G11="Four Monthly",IF(AND(DAY(K$4)=DAY($H11),MOD(MONTH(K$4)-MONTH($H11),4)=0),"X",""),IF($G11="Half Yearly",IF(AND(DAY(K$4)=DAY($H11),MOD(MONTH(K$4)-MONTH($H11),6)=0),"X",""),IF($G11="Yearly",IF(AND(DAY(K$4)=DAY($H11),MONTH(K$4)=MONTH($H11)),"X",""),"")))))))))),"") | L11: =IFERROR(IF(OR($H11="",$G11=""),"",IF($G11="Daily",IF(L$4>=$H11,"X",""),IF($G11="Weekly",IF(MOD(L$4-$H11,7)=0,"X",""),IF($G11="fortnightly",IF(MOD(L$4-$H11,14)=0,"X",""),IF($G11="Monthly",IF(DAY(L$4)=DAY($H11),"X",""),IF($G11="Two Monthly",IF(AND(DAY(L$4)=DAY($H11),MOD(MONTH(L$4)-MONTH($H11),2)=0),"X",""),IF($G11="Quarterly",IF(AND(DAY(L$4)=DAY($H11),MOD(MONTH(L$4)-MONTH($H11),3)=0),"X",""),IF($G11="Four Monthly",IF(AND(DAY(L$4)=DAY($H11),MOD(MONTH(L$4)-MONTH($H11),4)=0),"X",""),IF($G11="Half Yearly",IF(AND(DAY(L$4)=DAY($H11),MOD(MONTH(L$4)-MONTH($H11),6)=0),"X",""),IF($G11="Yearly",IF(AND(DAY(L$4)=DAY($H11),MONTH(L$4)=MONTH($H11)),"X",""),"")))))))))),"") | M11: =IFERROR(IF(OR($H11="",$G11=""),"",IF($G11="Daily",IF(M$4>=$H11,"X",""),IF($G11="Weekly",IF(MOD(M$4-$H11,7)=0,"X",""),IF($G11="fortnightly",IF(MOD(M$4-$H11,14)=0,"X",""),IF($G11="Monthly",IF(DAY(M$4)=DAY($H11),"X",""),IF($G11="Two Monthly",IF(AND(DAY(M$4)=DAY($H11),MOD(MONTH(M$4)-MONTH($H11),2)=0),"X",""),IF($G11="Quarterly",IF(AND(DAY(M$4)=DAY($H11),MOD(MONTH(M$4)-MONTH($H11),3)=0),"X",""),IF($G11="Four Monthly",IF(AND(DAY(M$4)=DAY($H11),MOD(MONTH(M$4)-MONTH($H11),4)=0),"X",""),IF($G11="Half Yearly",IF(AND(DAY(M$4)=DAY($H11),MOD(MONTH(M$4)-MONTH($H11),6)=0),"X",""),IF($G11="Yearly",IF(AND(DAY(M$4)=DAY($H11),MONTH(M$4)=MONTH($H11)),"X",""),"")))))))))),"") -> X | N11: =IFERROR(IF(OR($H11="",$G11=""),"",IF($G11="Daily",IF(N$4>=$H11,"X",""),IF($G11="Weekly",IF(MOD(N$4-$H11,7)=0,"X",""),IF($G11="fortnightly",IF(MOD(N$4-$H11,14)=0,"X",""),IF($G11="Monthly",IF(DAY(N$4)=DAY($H11),"X",""),IF($G11="Two Monthly",IF(AND(DAY(N$4)=DAY($H11),MOD(MONTH(N$4)-MONTH($H11),2)=0),"X",""),IF($G11="Quarterly",IF(AND(DAY(N$4)=DAY($H11),MOD(MONTH(N$4)-MONTH($H11),3)=0),"X",""),IF($G11="Four Monthly",IF(AND(DAY(N$4)=DAY($H11),MOD(MONTH(N$4)-MONTH($H11),4)=0),"X",""),IF($G11="Half Yearly",IF(AND(DAY(N$4)=DAY($H11),MOD(MONTH(N$4)-MONTH($H11),6)=0),"X",""),IF($G11="Yearly",IF(AND(DAY(N$4)=DAY($H11),MONTH(N$4)=MONTH($H11)),"X",""),"")))))))))),"") | O11: =IFERROR(IF(OR($H11="",$G11=""),"",IF($G11="Daily",IF(O$4>=$H11,"X",""),IF($G11="Weekly",IF(MOD(O$4-$H11,7)=0,"X",""),IF($G11="fortnightly",IF(MOD(O$4-$H11,14)=0,"X",""),IF($G11="Monthly",IF(DAY(O$4)=DAY($H11),"X",""),IF($G11="Two Monthly",IF(AND(DAY(O$4)=DAY($H11),MOD(MONTH(O$4)-MONTH($H11),2)=0),"X",""),IF($G11="Quarterly",IF(AND(DAY(O$4)=DAY($H11),MOD(MONTH(O$4)-MONTH($H11),3)=0),"X",""),IF($G11="Four Monthly",IF(AND(DAY(O$4)=DAY($H11),MOD(MONTH(O$4)-MONTH($H11),4)=0),"X",""),IF($G11="Half Yearly",IF(AND(DAY(O$4)=DAY($H11),MOD(MONTH(O$4)-MONTH($H11),6)=0),"X",""),IF($G11="Yearly",IF(AND(DAY(O$4)=DAY($H11),MONTH(O$4)=MONTH($H11)),"X",""),"")))))))))),"") | P11: =IFERROR(IF(OR($H11="",$G11=""),"",IF($G11="Daily",IF(P$4>=$H11,"X",""),IF($G11="Weekly",IF(MOD(P$4-$H11,7)=0,"X",""),IF($G11="fortnightly",IF(MOD(P$4-$H11,14)=0,"X",""),IF($G11="Monthly",IF(DAY(P$4)=DAY($H11),"X",""),IF($G11="Two Monthly",IF(AND(DAY(P$4)=DAY($H11),MOD(MONTH(P$4)-MONTH($H11),2)=0),"X",""),IF($G11="Quarterly",IF(AND(DAY(P$4)=DAY($H11),MOD(MONTH(P$4)-MONTH($H11),3)=0),"X",""),IF($G11="Four Monthly",IF(AND(DAY(P$4)=DAY($H11),MOD(MONTH(P$4)-MONTH($H11),4)=0),"X",""),IF($G11="Half Yearly",IF(AND(DAY(P$4)=DAY($H11),MOD(MONTH(P$4)-MONTH($H11),6)=0),"X",""),IF($G11="Yearly",IF(AND(DAY(P$4)=DAY($H11),MONTH(P$4)=MONTH($H11)),"X",""),"")))))))))),"") | ... NJ11: =IFERROR(IF(OR($H11="",$G11=""),"",IF($G11="Daily",IF(NJ$4>=$H11,"X",""),IF($G11="Weekly",IF(MOD(NJ$4-$H11,7)=0,"X",""),IF($G11="fortnightly",IF(MOD(NJ$4-$H11,14)=0,"X",""),IF($G11="Monthly",IF(DAY(NJ$4)=DAY($H11),"X",""),IF($G11="Two Monthly",IF(AND(DAY(NJ$4)=DAY($H11),MOD(MONTH(NJ$4)-MONTH($H11),2)=0),"X",""),IF($G11="Quarterly",IF(AND(DAY(NJ$4)=DAY($H11),MOD(MONTH(NJ$4)-MONTH($H11),3)=0),"X",""),IF($G11="Four Monthly",IF(AND(DAY(NJ$4)=DAY($H11),MOD(MONTH(NJ$4)-MONTH($H11),4)=0),"X",""),IF($G11="Half Yearly",IF(AND(DAY(NJ$4)=DAY($H11),MOD(MONTH(NJ$4)-MONTH($H11),6)=0),"X",""),IF($G11="Yearly",IF(AND(DAY(NJ$4)=DAY($H11),MONTH(NJ$4)=MONTH($H11)),"X",""),"")))))))))),"")
B12: 6 | C12: EQ 006 | D12: Equipment 6 | E12: Part 3 | F12: Zone 3 | G12: Quarterly | H12: 46028 | I12: =IFERROR(IF(OR($H12="",$G12=""),"",IF($G12="Daily",IF(I$4>=$H12,"X",""),IF($G12="Weekly",IF(MOD(I$4-$H12,7)=0,"X",""),IF($G12="fortnightly",IF(MOD(I$4-$H12,14)=0,"X",""),IF($G12="Monthly",IF(DAY(I$4)=DAY($H12),"X",""),IF($G12="Two Monthly",IF(AND(DAY(I$4)=DAY($H12),MOD(MONTH(I$4)-MONTH($H12),2)=0),"X",""),IF($G12="Quarterly",IF(AND(DAY(I$4)=DAY($H12),MOD(MONTH(I$4)-MONTH($H12),3)=0),"X",""),IF($G12="Four Monthly",IF(AND(DAY(I$4)=DAY($H12),MOD(MONTH(I$4)-MONTH($H12),4)=0),"X",""),IF($G12="Half Yearly",IF(AND(DAY(I$4)=DAY($H12),MOD(MONTH(I$4)-MONTH($H12),6)=0),"X",""),IF($G12="Yearly",IF(AND(DAY(I$4)=DAY($H12),MONTH(I$4)=MONTH($H12)),"X",""),"")))))))))),"") | J12: =IFERROR(IF(OR($H12="",$G12=""),"",IF($G12="Daily",IF(J$4>=$H12,"X",""),IF($G12="Weekly",IF(MOD(J$4-$H12,7)=0,"X",""),IF($G12="fortnightly",IF(MOD(J$4-$H12,14)=0,"X",""),IF($G12="Monthly",IF(DAY(J$4)=DAY($H12),"X",""),IF($G12="Two Monthly",IF(AND(DAY(J$4)=DAY($H12),MOD(MONTH(J$4)-MONTH($H12),2)=0),"X",""),IF($G12="Quarterly",IF(AND(DAY(J$4)=DAY($H12),MOD(MONTH(J$4)-MONTH($H12),3)=0),"X",""),IF($G12="Four Monthly",IF(AND(DAY(J$4)=DAY($H12),MOD(MONTH(J$4)-MONTH($H12),4)=0),"X",""),IF($G12="Half Yearly",IF(AND(DAY(J$4)=DAY($H12),MOD(MONTH(J$4)-MONTH($H12),6)=0),"X",""),IF($G12="Yearly",IF(AND(DAY(J$4)=DAY($H12),MONTH(J$4)=MONTH($H12)),"X",""),"")))))))))),"") | K12: =IFERROR(IF(OR($H12="",$G12=""),"",IF($G12="Daily",IF(K$4>=$H12,"X",""),IF($G12="Weekly",IF(MOD(K$4-$H12,7)=0,"X",""),IF($G12="fortnightly",IF(MOD(K$4-$H12,14)=0,"X",""),IF($G12="Monthly",IF(DAY(K$4)=DAY($H12),"X",""),IF($G12="Two Monthly",IF(AND(DAY(K$4)=DAY($H12),MOD(MONTH(K$4)-MONTH($H12),2)=0),"X",""),IF($G12="Quarterly",IF(AND(DAY(K$4)=DAY($H12),MOD(MONTH(K$4)-MONTH($H12),3)=0),"X",""),IF($G12="Four Monthly",IF(AND(DAY(K$4)=DAY($H12),MOD(MONTH(K$4)-MONTH($H12),4)=0),"X",""),IF($G12="Half Yearly",IF(AND(DAY(K$4)=DAY($H12),MOD(MONTH(K$4)-MONTH($H12),6)=0),"X",""),IF($G12="Yearly",IF(AND(DAY(K$4)=DAY($H12),MONTH(K$4)=MONTH($H12)),"X",""),"")))))))))),"") | L12: =IFERROR(IF(OR($H12="",$G12=""),"",IF($G12="Daily",IF(L$4>=$H12,"X",""),IF($G12="Weekly",IF(MOD(L$4-$H12,7)=0,"X",""),IF($G12="fortnightly",IF(MOD(L$4-$H12,14)=0,"X",""),IF($G12="Monthly",IF(DAY(L$4)=DAY($H12),"X",""),IF($G12="Two Monthly",IF(AND(DAY(L$4)=DAY($H12),MOD(MONTH(L$4)-MONTH($H12),2)=0),"X",""),IF($G12="Quarterly",IF(AND(DAY(L$4)=DAY($H12),MOD(MONTH(L$4)-MONTH($H12),3)=0),"X",""),IF($G12="Four Monthly",IF(AND(DAY(L$4)=DAY($H12),MOD(MONTH(L$4)-MONTH($H12),4)=0),"X",""),IF($G12="Half Yearly",IF(AND(DAY(L$4)=DAY($H12),MOD(MONTH(L$4)-MONTH($H12),6)=0),"X",""),IF($G12="Yearly",IF(AND(DAY(L$4)=DAY($H12),MONTH(L$4)=MONTH($H12)),"X",""),"")))))))))),"") | M12: =IFERROR(IF(OR($H12="",$G12=""),"",IF($G12="Daily",IF(M$4>=$H12,"X",""),IF($G12="Weekly",IF(MOD(M$4-$H12,7)=0,"X",""),IF($G12="fortnightly",IF(MOD(M$4-$H12,14)=0,"X",""),IF($G12="Monthly",IF(DAY(M$4)=DAY($H12),"X",""),IF($G12="Two Monthly",IF(AND(DAY(M$4)=DAY($H12),MOD(MONTH(M$4)-MONTH($H12),2)=0),"X",""),IF($G12="Quarterly",IF(AND(DAY(M$4)=DAY($H12),MOD(MONTH(M$4)-MONTH($H12),3)=0),"X",""),IF($G12="Four Monthly",IF(AND(DAY(M$4)=DAY($H12),MOD(MONTH(M$4)-MONTH($H12),4)=0),"X",""),IF($G12="Half Yearly",IF(AND(DAY(M$4)=DAY($H12),MOD(MONTH(M$4)-MONTH($H12),6)=0),"X",""),IF($G12="Yearly",IF(AND(DAY(M$4)=DAY($H12),MONTH(M$4)=MONTH($H12)),"X",""),"")))))))))),"") | N12: =IFERROR(IF(OR($H12="",$G12=""),"",IF($G12="Daily",IF(N$4>=$H12,"X",""),IF($G12="Weekly",IF(MOD(N$4-$H12,7)=0,"X",""),IF($G12="fortnightly",IF(MOD(N$4-$H12,14)=0,"X",""),IF($G12="Monthly",IF(DAY(N$4)=DAY($H12),"X",""),IF($G12="Two Monthly",IF(AND(DAY(N$4)=DAY($H12),MOD(MONTH(N$4)-MONTH($H12),2)=0),"X",""),IF($G12="Quarterly",IF(AND(DAY(N$4)=DAY($H12),MOD(MONTH(N$4)-MONTH($H12),3)=0),"X",""),IF($G12="Four Monthly",IF(AND(DAY(N$4)=DAY($H12),MOD(MONTH(N$4)-MONTH($H12),4)=0),"X",""),IF($G12="Half Yearly",IF(AND(DAY(N$4)=DAY($H12),MOD(MONTH(N$4)-MONTH($H12),6)=0),"X",""),IF($G12="Yearly",IF(AND(DAY(N$4)=DAY($H12),MONTH(N$4)=MONTH($H12)),"X",""),"")))))))))),"") -> X | O12: =IFERROR(IF(OR($H12="",$G12=""),"",IF($G12="Daily",IF(O$4>=$H12,"X",""),IF($G12="Weekly",IF(MOD(O$4-$H12,7)=0,"X",""),IF($G12="fortnightly",IF(MOD(O$4-$H12,14)=0,"X",""),IF($G12="Monthly",IF(DAY(O$4)=DAY($H12),"X",""),IF($G12="Two Monthly",IF(AND(DAY(O$4)=DAY($H12),MOD(MONTH(O$4)-MONTH($H12),2)=0),"X",""),IF($G12="Quarterly",IF(AND(DAY(O$4)=DAY($H12),MOD(MONTH(O$4)-MONTH($H12),3)=0),"X",""),IF($G12="Four Monthly",IF(AND(DAY(O$4)=DAY($H12),MOD(MONTH(O$4)-MONTH($H12),4)=0),"X",""),IF($G12="Half Yearly",IF(AND(DAY(O$4)=DAY($H12),MOD(MONTH(O$4)-MONTH($H12),6)=0),"X",""),IF($G12="Yearly",IF(AND(DAY(O$4)=DAY($H12),MONTH(O$4)=MONTH($H12)),"X",""),"")))))))))),"") | P12: =IFERROR(IF(OR($H12="",$G12=""),"",IF($G12="Daily",IF(P$4>=$H12,"X",""),IF($G12="Weekly",IF(MOD(P$4-$H12,7)=0,"X",""),IF($G12="fortnightly",IF(MOD(P$4-$H12,14)=0,"X",""),IF($G12="Monthly",IF(DAY(P$4)=DAY($H12),"X",""),IF($G12="Two Monthly",IF(AND(DAY(P$4)=DAY($H12),MOD(MONTH(P$4)-MONTH($H12),2)=0),"X",""),IF($G12="Quarterly",IF(AND(DAY(P$4)=DAY($H12),MOD(MONTH(P$4)-MONTH($H12),3)=0),"X",""),IF($G12="Four Monthly",IF(AND(DAY(P$4)=DAY($H12),MOD(MONTH(P$4)-MONTH($H12),4)=0),"X",""),IF($G12="Half Yearly",IF(AND(DAY(P$4)=DAY($H12),MOD(MONTH(P$4)-MONTH($H12),6)=0),"X",""),IF($G12="Yearly",IF(AND(DAY(P$4)=DAY($H12),MONTH(P$4)=MONTH($H12)),"X",""),"")))))))))),"") | ... NJ12: =IFERROR(IF(OR($H12="",$G12=""),"",IF($G12="Daily",IF(NJ$4>=$H12,"X",""),IF($G12="Weekly",IF(MOD(NJ$4-$H12,7)=0,"X",""),IF($G12="fortnightly",IF(MOD(NJ$4-$H12,14)=0,"X",""),IF($G12="Monthly",IF(DAY(NJ$4)=DAY($H12),"X",""),IF($G12="Two Monthly",IF(AND(DAY(NJ$4)=DAY($H12),MOD(MONTH(NJ$4)-MONTH($H12),2)=0),"X",""),IF($G12="Quarterly",IF(AND(DAY(NJ$4)=DAY($H12),MOD(MONTH(NJ$4)-MONTH($H12),3)=0),"X",""),IF($G12="Four Monthly",IF(AND(DAY(NJ$4)=DAY($H12),MOD(MONTH(NJ$4)-MONTH($H12),4)=0),"X",""),IF($G12="Half Yearly",IF(AND(DAY(NJ$4)=DAY($H12),MOD(MONTH(NJ$4)-MONTH($H12),6)=0),"X",""),IF($G12="Yearly",IF(AND(DAY(NJ$4)=DAY($H12),MONTH(NJ$4)=MONTH($H12)),"X",""),"")))))))))),"")
B13: 7 | C13: EQ 007 | D13: Equipment 7 | E13: Part 1 | F13: Zone 1 | G13: Four Monthly | H13: 46029 | I13: =IFERROR(IF(OR($H13="",$G13=""),"",IF($G13="Daily",IF(I$4>=$H13,"X",""),IF($G13="Weekly",IF(MOD(I$4-$H13,7)=0,"X",""),IF($G13="fortnightly",IF(MOD(I$4-$H13,14)=0,"X",""),IF($G13="Monthly",IF(DAY(I$4)=DAY($H13),"X",""),IF($G13="Two Monthly",IF(AND(DAY(I$4)=DAY($H13),MOD(MONTH(I$4)-MONTH($H13),2)=0),"X",""),IF($G13="Quarterly",IF(AND(DAY(I$4)=DAY($H13),MOD(MONTH(I$4)-MONTH($H13),3)=0),"X",""),IF($G13="Four Monthly",IF(AND(DAY(I$4)=DAY($H13),MOD(MONTH(I$4)-MONTH($H13),4)=0),"X",""),IF($G13="Half Yearly",IF(AND(DAY(I$4)=DAY($H13),MOD(MONTH(I$4)-MONTH($H13),6)=0),"X",""),IF($G13="Yearly",IF(AND(DAY(I$4)=DAY($H13),MONTH(I$4)=MONTH($H13)),"X",""),"")))))))))),"") | J13: =IFERROR(IF(OR($H13="",$G13=""),"",IF($G13="Daily",IF(J$4>=$H13,"X",""),IF($G13="Weekly",IF(MOD(J$4-$H13,7)=0,"X",""),IF($G13="fortnightly",IF(MOD(J$4-$H13,14)=0,"X",""),IF($G13="Monthly",IF(DAY(J$4)=DAY($H13),"X",""),IF($G13="Two Monthly",IF(AND(DAY(J$4)=DAY($H13),MOD(MONTH(J$4)-MONTH($H13),2)=0),"X",""),IF($G13="Quarterly",IF(AND(DAY(J$4)=DAY($H13),MOD(MONTH(J$4)-MONTH($H13),3)=0),"X",""),IF($G13="Four Monthly",IF(AND(DAY(J$4)=DAY($H13),MOD(MONTH(J$4)-MONTH($H13),4)=0),"X",""),IF($G13="Half Yearly",IF(AND(DAY(J$4)=DAY($H13),MOD(MONTH(J$4)-MONTH($H13),6)=0),"X",""),IF($G13="Yearly",IF(AND(DAY(J$4)=DAY($H13),MONTH(J$4)=MONTH($H13)),"X",""),"")))))))))),"") | K13: =IFERROR(IF(OR($H13="",$G13=""),"",IF($G13="Daily",IF(K$4>=$H13,"X",""),IF($G13="Weekly",IF(MOD(K$4-$H13,7)=0,"X",""),IF($G13="fortnightly",IF(MOD(K$4-$H13,14)=0,"X",""),IF($G13="Monthly",IF(DAY(K$4)=DAY($H13),"X",""),IF($G13="Two Monthly",IF(AND(DAY(K$4)=DAY($H13),MOD(MONTH(K$4)-MONTH($H13),2)=0),"X",""),IF($G13="Quarterly",IF(AND(DAY(K$4)=DAY($H13),MOD(MONTH(K$4)-MONTH($H13),3)=0),"X",""),IF($G13="Four Monthly",IF(AND(DAY(K$4)=DAY($H13),MOD(MONTH(K$4)-MONTH($H13),4)=0),"X",""),IF($G13="Half Yearly",IF(AND(DAY(K$4)=DAY($H13),MOD(MONTH(K$4)-MONTH($H13),6)=0),"X",""),IF($G13="Yearly",IF(AND(DAY(K$4)=DAY($H13),MONTH(K$4)=MONTH($H13)),"X",""),"")))))))))),"") | L13: =IFERROR(IF(OR($H13="",$G13=""),"",IF($G13="Daily",IF(L$4>=$H13,"X",""),IF($G13="Weekly",IF(MOD(L$4-$H13,7)=0,"X",""),IF($G13="fortnightly",IF(MOD(L$4-$H13,14)=0,"X",""),IF($G13="Monthly",IF(DAY(L$4)=DAY($H13),"X",""),IF($G13="Two Monthly",IF(AND(DAY(L$4)=DAY($H13),MOD(MONTH(L$4)-MONTH($H13),2)=0),"X",""),IF($G13="Quarterly",IF(AND(DAY(L$4)=DAY($H13),MOD(MONTH(L$4)-MONTH($H13),3)=0),"X",""),IF($G13="Four Monthly",IF(AND(DAY(L$4)=DAY($H13),MOD(MONTH(L$4)-MONTH($H13),4)=0),"X",""),IF($G13="Half Yearly",IF(AND(DAY(L$4)=DAY($H13),MOD(MONTH(L$4)-MONTH($H13),6)=0),"X",""),IF($G13="Yearly",IF(AND(DAY(L$4)=DAY($H13),MONTH(L$4)=MONTH($H13)),"X",""),"")))))))))),"") | M13: =IFERROR(IF(OR($H13="",$G13=""),"",IF($G13="Daily",IF(M$4>=$H13,"X",""),IF($G13="Weekly",IF(MOD(M$4-$H13,7)=0,"X",""),IF($G13="fortnightly",IF(MOD(M$4-$H13,14)=0,"X",""),IF($G13="Monthly",IF(DAY(M$4)=DAY($H13),"X",""),IF($G13="Two Monthly",IF(AND(DAY(M$4)=DAY($H13),MOD(MONTH(M$4)-MONTH($H13),2)=0),"X",""),IF($G13="Quarterly",IF(AND(DAY(M$4)=DAY($H13),MOD(MONTH(M$4)-MONTH($H13),3)=0),"X",""),IF($G13="Four Monthly",IF(AND(DAY(M$4)=DAY($H13),MOD(MONTH(M$4)-MONTH($H13),4)=0),"X",""),IF($G13="Half Yearly",IF(AND(DAY(M$4)=DAY($H13),MOD(MONTH(M$4)-MONTH($H13),6)=0),"X",""),IF($G13="Yearly",IF(AND(DAY(M$4)=DAY($H13),MONTH(M$4)=MONTH($H13)),"X",""),"")))))))))),"") | N13: =IFERROR(IF(OR($H13="",$G13=""),"",IF($G13="Daily",IF(N$4>=$H13,"X",""),IF($G13="Weekly",IF(MOD(N$4-$H13,7)=0,"X",""),IF($G13="fortnightly",IF(MOD(N$4-$H13,14)=0,"X",""),IF($G13="Monthly",IF(DAY(N$4)=DAY($H13),"X",""),IF($G13="Two Monthly",IF(AND(DAY(N$4)=DAY($H13),MOD(MONTH(N$4)-MONTH($H13),2)=0),"X",""),IF($G13="Quarterly",IF(AND(DAY(N$4)=DAY($H13),MOD(MONTH(N$4)-MONTH($H13),3)=0),"X",""),IF($G13="Four Monthly",IF(AND(DAY(N$4)=DAY($H13),MOD(MONTH(N$4)-MONTH($H13),4)=0),"X",""),IF($G13="Half Yearly",IF(AND(DAY(N$4)=DAY($H13),MOD(MONTH(N$4)-MONTH($H13),6)=0),"X",""),IF($G13="Yearly",IF(AND(DAY(N$4)=DAY($H13),MONTH(N$4)=MONTH($H13)),"X",""),"")))))))))),"") | O13: =IFERROR(IF(OR($H13="",$G13=""),"",IF($G13="Daily",IF(O$4>=$H13,"X",""),IF($G13="Weekly",IF(MOD(O$4-$H13,7)=0,"X",""),IF($G13="fortnightly",IF(MOD(O$4-$H13,14)=0,"X",""),IF($G13="Monthly",IF(DAY(O$4)=DAY($H13),"X",""),IF($G13="Two Monthly",IF(AND(DAY(O$4)=DAY($H13),MOD(MONTH(O$4)-MONTH($H13),2)=0),"X",""),IF($G13="Quarterly",IF(AND(DAY(O$4)=DAY($H13),MOD(MONTH(O$4)-MONTH($H13),3)=0),"X",""),IF($G13="Four Monthly",IF(AND(DAY(O$4)=DAY($H13),MOD(MONTH(O$4)-MONTH($H13),4)=0),"X",""),IF($G13="Half Yearly",IF(AND(DAY(O$4)=DAY($H13),MOD(MONTH(O$4)-MONTH($H13),6)=0),"X",""),IF($G13="Yearly",IF(AND(DAY(O$4)=DAY($H13),MONTH(O$4)=MONTH($H13)),"X",""),"")))))))))),"") -> X | P13: =IFERROR(IF(OR($H13="",$G13=""),"",IF($G13="Daily",IF(P$4>=$H13,"X",""),IF($G13="Weekly",IF(MOD(P$4-$H13,7)=0,"X",""),IF($G13="fortnightly",IF(MOD(P$4-$H13,14)=0,"X",""),IF($G13="Monthly",IF(DAY(P$4)=DAY($H13),"X",""),IF($G13="Two Monthly",IF(AND(DAY(P$4)=DAY($H13),MOD(MONTH(P$4)-MONTH($H13),2)=0),"X",""),IF($G13="Quarterly",IF(AND(DAY(P$4)=DAY($H13),MOD(MONTH(P$4)-MONTH($H13),3)=0),"X",""),IF($G13="Four Monthly",IF(AND(DAY(P$4)=DAY($H13),MOD(MONTH(P$4)-MONTH($H13),4)=0),"X",""),IF($G13="Half Yearly",IF(AND(DAY(P$4)=DAY($H13),MOD(MONTH(P$4)-MONTH($H13),6)=0),"X",""),IF($G13="Yearly",IF(AND(DAY(P$4)=DAY($H13),MONTH(P$4)=MONTH($H13)),"X",""),"")))))))))),"") | ... NJ13: =IFERROR(IF(OR($H13="",$G13=""),"",IF($G13="Daily",IF(NJ$4>=$H13,"X",""),IF($G13="Weekly",IF(MOD(NJ$4-$H13,7)=0,"X",""),IF($G13="fortnightly",IF(MOD(NJ$4-$H13,14)=0,"X",""),IF($G13="Monthly",IF(DAY(NJ$4)=DAY($H13),"X",""),IF($G13="Two Monthly",IF(AND(DAY(NJ$4)=DAY($H13),MOD(MONTH(NJ$4)-MONTH($H13),2)=0),"X",""),IF($G13="Quarterly",IF(AND(DAY(NJ$4)=DAY($H13),MOD(MONTH(NJ$4)-MONTH($H13),3)=0),"X",""),IF($G13="Four Monthly",IF(AND(DAY(NJ$4)=DAY($H13),MOD(MONTH(NJ$4)-MONTH($H13),4)=0),"X",""),IF($G13="Half Yearly",IF(AND(DAY(NJ$4)=DAY($H13),MOD(MONTH(NJ$4)-MONTH($H13),6)=0),"X",""),IF($G13="Yearly",IF(AND(DAY(NJ$4)=DAY($H13),MONTH(NJ$4)=MONTH($H13)),"X",""),"")))))))))),"")
B14: 8 | C14: EQ 008 | D14: Equipment 8 | E14: Part 2 | F14: Zone 2 | G14: Half yearly | H14: 46030 | I14: =IFERROR(IF(OR($H14="",$G14=""),"",IF($G14="Daily",IF(I$4>=$H14,"X",""),IF($G14="Weekly",IF(MOD(I$4-$H14,7)=0,"X",""),IF($G14="fortnightly",IF(MOD(I$4-$H14,14)=0,"X",""),IF($G14="Monthly",IF(DAY(I$4)=DAY($H14),"X",""),IF($G14="Two Monthly",IF(AND(DAY(I$4)=DAY($H14),MOD(MONTH(I$4)-MONTH($H14),2)=0),"X",""),IF($G14="Quarterly",IF(AND(DAY(I$4)=DAY($H14),MOD(MONTH(I$4)-MONTH($H14),3)=0),"X",""),IF($G14="Four Monthly",IF(AND(DAY(I$4)=DAY($H14),MOD(MONTH(I$4)-MONTH($H14),4)=0),"X",""),IF($G14="Half Yearly",IF(AND(DAY(I$4)=DAY($H14),MOD(MONTH(I$4)-MONTH($H14),6)=0),"X",""),IF($G14="Yearly",IF(AND(DAY(I$4)=DAY($H14),MONTH(I$4)=MONTH($H14)),"X",""),"")))))))))),"") | J14: =IFERROR(IF(OR($H14="",$G14=""),"",IF($G14="Daily",IF(J$4>=$H14,"X",""),IF($G14="Weekly",IF(MOD(J$4-$H14,7)=0,"X",""),IF($G14="fortnightly",IF(MOD(J$4-$H14,14)=0,"X",""),IF($G14="Monthly",IF(DAY(J$4)=DAY($H14),"X",""),IF($G14="Two Monthly",IF(AND(DAY(J$4)=DAY($H14),MOD(MONTH(J$4)-MONTH($H14),2)=0),"X",""),IF($G14="Quarterly",IF(AND(DAY(J$4)=DAY($H14),MOD(MONTH(J$4)-MONTH($H14),3)=0),"X",""),IF($G14="Four Monthly",IF(AND(DAY(J$4)=DAY($H14),MOD(MONTH(J$4)-MONTH($H14),4)=0),"X",""),IF($G14="Half Yearly",IF(AND(DAY(J$4)=DAY($H14),MOD(MONTH(J$4)-MONTH($H14),6)=0),"X",""),IF($G14="Yearly",IF(AND(DAY(J$4)=DAY($H14),MONTH(J$4)=MONTH($H14)),"X",""),"")))))))))),"") | K14: =IFERROR(IF(OR($H14="",$G14=""),"",IF($G14="Daily",IF(K$4>=$H14,"X",""),IF($G14="Weekly",IF(MOD(K$4-$H14,7)=0,"X",""),IF($G14="fortnightly",IF(MOD(K$4-$H14,14)=0,"X",""),IF($G14="Monthly",IF(DAY(K$4)=DAY($H14),"X",""),IF($G14="Two Monthly",IF(AND(DAY(K$4)=DAY($H14),MOD(MONTH(K$4)-MONTH($H14),2)=0),"X",""),IF($G14="Quarterly",IF(AND(DAY(K$4)=DAY($H14),MOD(MONTH(K$4)-MONTH($H14),3)=0),"X",""),IF($G14="Four Monthly",IF(AND(DAY(K$4)=DAY($H14),MOD(MONTH(K$4)-MONTH($H14),4)=0),"X",""),IF($G14="Half Yearly",IF(AND(DAY(K$4)=DAY($H14),MOD(MONTH(K$4)-MONTH($H14),6)=0),"X",""),IF($G14="Yearly",IF(AND(DAY(K$4)=DAY($H14),MONTH(K$4)=MONTH($H14)),"X",""),"")))))))))),"") | L14: =IFERROR(IF(OR($H14="",$G14=""),"",IF($G14="Daily",IF(L$4>=$H14,"X",""),IF($G14="Weekly",IF(MOD(L$4-$H14,7)=0,"X",""),IF($G14="fortnightly",IF(MOD(L$4-$H14,14)=0,"X",""),IF($G14="Monthly",IF(DAY(L$4)=DAY($H14),"X",""),IF($G14="Two Monthly",IF(AND(DAY(L$4)=DAY($H14),MOD(MONTH(L$4)-MONTH($H14),2)=0),"X",""),IF($G14="Quarterly",IF(AND(DAY(L$4)=DAY($H14),MOD(MONTH(L$4)-MONTH($H14),3)=0),"X",""),IF($G14="Four Monthly",IF(AND(DAY(L$4)=DAY($H14),MOD(MONTH(L$4)-MONTH($H14),4)=0),"X",""),IF($G14="Half Yearly",IF(AND(DAY(L$4)=DAY($H14),MOD(MONTH(L$4)-MONTH($H14),6)=0),"X",""),IF($G14="Yearly",IF(AND(DAY(L$4)=DAY($H14),MONTH(L$4)=MONTH($H14)),"X",""),"")))))))))),"") | M14: =IFERROR(IF(OR($H14="",$G14=""),"",IF($G14="Daily",IF(M$4>=$H14,"X",""),IF($G14="Weekly",IF(MOD(M$4-$H14,7)=0,"X",""),IF($G14="fortnightly",IF(MOD(M$4-$H14,14)=0,"X",""),IF($G14="Monthly",IF(DAY(M$4)=DAY($H14),"X",""),IF($G14="Two Monthly",IF(AND(DAY(M$4)=DAY($H14),MOD(MONTH(M$4)-MONTH($H14),2)=0),"X",""),IF($G14="Quarterly",IF(AND(DAY(M$4)=DAY($H14),MOD(MONTH(M$4)-MONTH($H14),3)=0),"X",""),IF($G14="Four Monthly",IF(AND(DAY(M$4)=DAY($H14),MOD(MONTH(M$4)-MONTH($H14),4)=0),"X",""),IF($G14="Half Yearly",IF(AND(DAY(M$4)=DAY($H14),MOD(MONTH(M$4)-MONTH($H14),6)=0),"X",""),IF($G14="Yearly",IF(AND(DAY(M$4)=DAY($H14),MONTH(M$4)=MONTH($H14)),"X",""),"")))))))))),"") | N14: =IFERROR(IF(OR($H14="",$G14=""),"",IF($G14="Daily",IF(N$4>=$H14,"X",""),IF($G14="Weekly",IF(MOD(N$4-$H14,7)=0,"X",""),IF($G14="fortnightly",IF(MOD(N$4-$H14,14)=0,"X",""),IF($G14="Monthly",IF(DAY(N$4)=DAY($H14),"X",""),IF($G14="Two Monthly",IF(AND(DAY(N$4)=DAY($H14),MOD(MONTH(N$4)-MONTH($H14),2)=0),"X",""),IF($G14="Quarterly",IF(AND(DAY(N$4)=DAY($H14),MOD(MONTH(N$4)-MONTH($H14),3)=0),"X",""),IF($G14="Four Monthly",IF(AND(DAY(N$4)=DAY($H14),MOD(MONTH(N$4)-MONTH($H14),4)=0),"X",""),IF($G14="Half Yearly",IF(AND(DAY(N$4)=DAY($H14),MOD(MONTH(N$4)-MONTH($H14),6)=0),"X",""),IF($G14="Yearly",IF(AND(DAY(N$4)=DAY($H14),MONTH(N$4)=MONTH($H14)),"X",""),"")))))))))),"") | O14: =IFERROR(IF(OR($H14="",$G14=""),"",IF($G14="Daily",IF(O$4>=$H14,"X",""),IF($G14="Weekly",IF(MOD(O$4-$H14,7)=0,"X",""),IF($G14="fortnightly",IF(MOD(O$4-$H14,14)=0,"X",""),IF($G14="Monthly",IF(DAY(O$4)=DAY($H14),"X",""),IF($G14="Two Monthly",IF(AND(DAY(O$4)=DAY($H14),MOD(MONTH(O$4)-MONTH($H14),2)=0),"X",""),IF($G14="Quarterly",IF(AND(DAY(O$4)=DAY($H14),MOD(MONTH(O$4)-MONTH($H14),3)=0),"X",""),IF($G14="Four Monthly",IF(AND(DAY(O$4)=DAY($H14),MOD(MONTH(O$4)-MONTH($H14),4)=0),"X",""),IF($G14="Half Yearly",IF(AND(DAY(O$4)=DAY($H14),MOD(MONTH(O$4)-MONTH($H14),6)=0),"X",""),IF($G14="Yearly",IF(AND(DAY(O$4)=DAY($H14),MONTH(O$4)=MONTH($H14)),"X",""),"")))))))))),"") | P14: =IFERROR(IF(OR($H14="",$G14=""),"",IF($G14="Daily",IF(P$4>=$H14,"X",""),IF($G14="Weekly",IF(MOD(P$4-$H14,7)=0,"X",""),IF($G14="fortnightly",IF(MOD(P$4-$H14,14)=0,"X",""),IF($G14="Monthly",IF(DAY(P$4)=DAY($H14),"X",""),IF($G14="Two Monthly",IF(AND(DAY(P$4)=DAY($H14),MOD(MONTH(P$4)-MONTH($H14),2)=0),"X",""),IF($G14="Quarterly",IF(AND(DAY(P$4)=DAY($H14),MOD(MONTH(P$4)-MONTH($H14),3)=0),"X",""),IF($G14="Four Monthly",IF(AND(DAY(P$4)=DAY($H14),MOD(MONTH(P$4)-MONTH($H14),4)=0),"X",""),IF($G14="Half Yearly",IF(AND(DAY(P$4)=DAY($H14),MOD(MONTH(P$4)-MONTH($H14),6)=0),"X",""),IF($G14="Yearly",IF(AND(DAY(P$4)=DAY($H14),MONTH(P$4)=MONTH($H14)),"X",""),"")))))))))),"") -> X | ... NJ14: =IFERROR(IF(OR($H14="",$G14=""),"",IF($G14="Daily",IF(NJ$4>=$H14,"X",""),IF($G14="Weekly",IF(MOD(NJ$4-$H14,7)=0,"X",""),IF($G14="fortnightly",IF(MOD(NJ$4-$H14,14)=0,"X",""),IF($G14="Monthly",IF(DAY(NJ$4)=DAY($H14),"X",""),IF($G14="Two Monthly",IF(AND(DAY(NJ$4)=DAY($H14),MOD(MONTH(NJ$4)-MONTH($H14),2)=0),"X",""),IF($G14="Quarterly",IF(AND(DAY(NJ$4)=DAY($H14),MOD(MONTH(NJ$4)-MONTH($H14),3)=0),"X",""),IF($G14="Four Monthly",IF(AND(DAY(NJ$4)=DAY($H14),MOD(MONTH(NJ$4)-MONTH($H14),4)=0),"X",""),IF($G14="Half Yearly",IF(AND(DAY(NJ$4)=DAY($H14),MOD(MONTH(NJ$4)-MONTH($H14),6)=0),"X",""),IF($G14="Yearly",IF(AND(DAY(NJ$4)=DAY($H14),MONTH(NJ$4)=MONTH($H14)),"X",""),"")))))))))),"")
B15: 9 | C15: EQ 009 | D15: Equipment 9 | E15: Part 3 | F15: Zone 3 | G15: Yearly | H15: 46031 | I15: =IFERROR(IF(OR($H15="",$G15=""),"",IF($G15="Daily",IF(I$4>=$H15,"X",""),IF($G15="Weekly",IF(MOD(I$4-$H15,7)=0,"X",""),IF($G15="fortnightly",IF(MOD(I$4-$H15,14)=0,"X",""),IF($G15="Monthly",IF(DAY(I$4)=DAY($H15),"X",""),IF($G15="Two Monthly",IF(AND(DAY(I$4)=DAY($H15),MOD(MONTH(I$4)-MONTH($H15),2)=0),"X",""),IF($G15="Quarterly",IF(AND(DAY(I$4)=DAY($H15),MOD(MONTH(I$4)-MONTH($H15),3)=0),"X",""),IF($G15="Four Monthly",IF(AND(DAY(I$4)=DAY($H15),MOD(MONTH(I$4)-MONTH($H15),4)=0),"X",""),IF($G15="Half Yearly",IF(AND(DAY(I$4)=DAY($H15),MOD(MONTH(I$4)-MONTH($H15),6)=0),"X",""),IF($G15="Yearly",IF(AND(DAY(I$4)=DAY($H15),MONTH(I$4)=MONTH($H15)),"X",""),"")))))))))),"") | J15: =IFERROR(IF(OR($H15="",$G15=""),"",IF($G15="Daily",IF(J$4>=$H15,"X",""),IF($G15="Weekly",IF(MOD(J$4-$H15,7)=0,"X",""),IF($G15="fortnightly",IF(MOD(J$4-$H15,14)=0,"X",""),IF($G15="Monthly",IF(DAY(J$4)=DAY($H15),"X",""),IF($G15="Two Monthly",IF(AND(DAY(J$4)=DAY($H15),MOD(MONTH(J$4)-MONTH($H15),2)=0),"X",""),IF($G15="Quarterly",IF(AND(DAY(J$4)=DAY($H15),MOD(MONTH(J$4)-MONTH($H15),3)=0),"X",""),IF($G15="Four Monthly",IF(AND(DAY(J$4)=DAY($H15),MOD(MONTH(J$4)-MONTH($H15),4)=0),"X",""),IF($G15="Half Yearly",IF(AND(DAY(J$4)=DAY($H15),MOD(MONTH(J$4)-MONTH($H15),6)=0),"X",""),IF($G15="Yearly",IF(AND(DAY(J$4)=DAY($H15),MONTH(J$4)=MONTH($H15)),"X",""),"")))))))))),"") | K15: =IFERROR(IF(OR($H15="",$G15=""),"",IF($G15="Daily",IF(K$4>=$H15,"X",""),IF($G15="Weekly",IF(MOD(K$4-$H15,7)=0,"X",""),IF($G15="fortnightly",IF(MOD(K$4-$H15,14)=0,"X",""),IF($G15="Monthly",IF(DAY(K$4)=DAY($H15),"X",""),IF($G15="Two Monthly",IF(AND(DAY(K$4)=DAY($H15),MOD(MONTH(K$4)-MONTH($H15),2)=0),"X",""),IF($G15="Quarterly",IF(AND(DAY(K$4)=DAY($H15),MOD(MONTH(K$4)-MONTH($H15),3)=0),"X",""),IF($G15="Four Monthly",IF(AND(DAY(K$4)=DAY($H15),MOD(MONTH(K$4)-MONTH($H15),4)=0),"X",""),IF($G15="Half Yearly",IF(AND(DAY(K$4)=DAY($H15),MOD(MONTH(K$4)-MONTH($H15),6)=0),"X",""),IF($G15="Yearly",IF(AND(DAY(K$4)=DAY($H15),MONTH(K$4)=MONTH($H15)),"X",""),"")))))))))),"") | L15: =IFERROR(IF(OR($H15="",$G15=""),"",IF($G15="Daily",IF(L$4>=$H15,"X",""),IF($G15="Weekly",IF(MOD(L$4-$H15,7)=0,"X",""),IF($G15="fortnightly",IF(MOD(L$4-$H15,14)=0,"X",""),IF($G15="Monthly",IF(DAY(L$4)=DAY($H15),"X",""),IF($G15="Two Monthly",IF(AND(DAY(L$4)=DAY($H15),MOD(MONTH(L$4)-MONTH($H15),2)=0),"X",""),IF($G15="Quarterly",IF(AND(DAY(L$4)=DAY($H15),MOD(MONTH(L$4)-MONTH($H15),3)=0),"X",""),IF($G15="Four Monthly",IF(AND(DAY(L$4)=DAY($H15),MOD(MONTH(L$4)-MONTH($H15),4)=0),"X",""),IF($G15="Half Yearly",IF(AND(DAY(L$4)=DAY($H15),MOD(MONTH(L$4)-MONTH($H15),6)=0),"X",""),IF($G15="Yearly",IF(AND(DAY(L$4)=DAY($H15),MONTH(L$4)=MONTH($H15)),"X",""),"")))))))))),"") | M15: =IFERROR(IF(OR($H15="",$G15=""),"",IF($G15="Daily",IF(M$4>=$H15,"X",""),IF($G15="Weekly",IF(MOD(M$4-$H15,7)=0,"X",""),IF($G15="fortnightly",IF(MOD(M$4-$H15,14)=0,"X",""),IF($G15="Monthly",IF(DAY(M$4)=DAY($H15),"X",""),IF($G15="Two Monthly",IF(AND(DAY(M$4)=DAY($H15),MOD(MONTH(M$4)-MONTH($H15),2)=0),"X",""),IF($G15="Quarterly",IF(AND(DAY(M$4)=DAY($H15),MOD(MONTH(M$4)-MONTH($H15),3)=0),"X",""),IF($G15="Four Monthly",IF(AND(DAY(M$4)=DAY($H15),MOD(MONTH(M$4)-MONTH($H15),4)=0),"X",""),IF($G15="Half Yearly",IF(AND(DAY(M$4)=DAY($H15),MOD(MONTH(M$4)-MONTH($H15),6)=0),"X",""),IF($G15="Yearly",IF(AND(DAY(M$4)=DAY($H15),MONTH(M$4)=MONTH($H15)),"X",""),"")))))))))),"") | N15: =IFERROR(IF(OR($H15="",$G15=""),"",IF($G15="Daily",IF(N$4>=$H15,"X",""),IF($G15="Weekly",IF(MOD(N$4-$H15,7)=0,"X",""),IF($G15="fortnightly",IF(MOD(N$4-$H15,14)=0,"X",""),IF($G15="Monthly",IF(DAY(N$4)=DAY($H15),"X",""),IF($G15="Two Monthly",IF(AND(DAY(N$4)=DAY($H15),MOD(MONTH(N$4)-MONTH($H15),2)=0),"X",""),IF($G15="Quarterly",IF(AND(DAY(N$4)=DAY($H15),MOD(MONTH(N$4)-MONTH($H15),3)=0),"X",""),IF($G15="Four Monthly",IF(AND(DAY(N$4)=DAY($H15),MOD(MONTH(N$4)-MONTH($H15),4)=0),"X",""),IF($G15="Half Yearly",IF(AND(DAY(N$4)=DAY($H15),MOD(MONTH(N$4)-MONTH($H15),6)=0),"X",""),IF($G15="Yearly",IF(AND(DAY(N$4)=DAY($H15),MONTH(N$4)=MONTH($H15)),"X",""),"")))))))))),"") | O15: =IFERROR(IF(OR($H15="",$G15=""),"",IF($G15="Daily",IF(O$4>=$H15,"X",""),IF($G15="Weekly",IF(MOD(O$4-$H15,7)=0,"X",""),IF($G15="fortnightly",IF(MOD(O$4-$H15,14)=0,"X",""),IF($G15="Monthly",IF(DAY(O$4)=DAY($H15),"X",""),IF($G15="Two Monthly",IF(AND(DAY(O$4)=DAY($H15),MOD(MONTH(O$4)-MONTH($H15),2)=0),"X",""),IF($G15="Quarterly",IF(AND(DAY(O$4)=DAY($H15),MOD(MONTH(O$4)-MONTH($H15),3)=0),"X",""),IF($G15="Four Monthly",IF(AND(DAY(O$4)=DAY($H15),MOD(MONTH(O$4)-MONTH($H15),4)=0),"X",""),IF($G15="Half Yearly",IF(AND(DAY(O$4)=DAY($H15),MOD(MONTH(O$4)-MONTH($H15),6)=0),"X",""),IF($G15="Yearly",IF(AND(DAY(O$4)=DAY($H15),MONTH(O$4)=MONTH($H15)),"X",""),"")))))))))),"") | P15: =IFERROR(IF(OR($H15="",$G15=""),"",IF($G15="Daily",IF(P$4>=$H15,"X",""),IF($G15="Weekly",IF(MOD(P$4-$H15,7)=0,"X",""),IF($G15="fortnightly",IF(MOD(P$4-$H15,14)=0,"X",""),IF($G15="Monthly",IF(DAY(P$4)=DAY($H15),"X",""),IF($G15="Two Monthly",IF(AND(DAY(P$4)=DAY($H15),MOD(MONTH(P$4)-MONTH($H15),2)=0),"X",""),IF($G15="Quarterly",IF(AND(DAY(P$4)=DAY($H15),MOD(MONTH(P$4)-MONTH($H15),3)=0),"X",""),IF($G15="Four Monthly",IF(AND(DAY(P$4)=DAY($H15),MOD(MONTH(P$4)-MONTH($H15),4)=0),"X",""),IF($G15="Half Yearly",IF(AND(DAY(P$4)=DAY($H15),MOD(MONTH(P$4)-MONTH($H15),6)=0),"X",""),IF($G15="Yearly",IF(AND(DAY(P$4)=DAY($H15),MONTH(P$4)=MONTH($H15)),"X",""),"")))))))))),"") | ... NJ15: =IFERROR(IF(OR($H15="",$G15=""),"",IF($G15="Daily",IF(NJ$4>=$H15,"X",""),IF($G15="Weekly",IF(MOD(NJ$4-$H15,7)=0,"X",""),IF($G15="fortnightly",IF(MOD(NJ$4-$H15,14)=0,"X",""),IF($G15="Monthly",IF(DAY(NJ$4)=DAY($H15),"X",""),IF($G15="Two Monthly",IF(AND(DAY(NJ$4)=DAY($H15),MOD(MONTH(NJ$4)-MONTH($H15),2)=0),"X",""),IF($G15="Quarterly",IF(AND(DAY(NJ$4)=DAY($H15),MOD(MONTH(NJ$4)-MONTH($H15),3)=0),"X",""),IF($G15="Four Monthly",IF(AND(DAY(NJ$4)=DAY($H15),MOD(MONTH(NJ$4)-MONTH($H15),4)=0),"X",""),IF($G15="Half Yearly",IF(AND(DAY(NJ$4)=DAY($H15),MOD(MONTH(NJ$4)-MONTH($H15),6)=0),"X",""),IF($G15="Yearly",IF(AND(DAY(NJ$4)=DAY($H15),MONTH(NJ$4)=MONTH($H15)),"X",""),"")))))))))),"")
